View In:
ArcGIS JavaScript
ArcGIS Online Map Viewer
ArcGIS Earth
ArcMap
View Footprint In:
ArcGIS Online Map Viewer
Service Description: This map was created by overlaying the data from Mountains of the World - 2002 with a global data set on percent tree cover. The percent tree cover data are taken from MODIS 1-km resolution percent tree cover data set, courtesy of University of Maryland Global Land Cover Facility.
Name: tc_mtn_02g
Description: This map was created by overlaying the data from Mountains of the World - 2002 with a global data set on percent tree cover. The percent tree cover data are taken from MODIS 1-km resolution percent tree cover data set, courtesy of University of Maryland Global Land Cover Facility.
Single Fused Map Cache: false
Extent:
XMin: -179.99999265354614
YMin: -89.98334688833772
XMax: 179.99999294645386
YMax: 90.01664591166228
Spatial Reference: 4326
(4326)
LatestVCSWkid(0)
Initial Extent:
XMin: -179.99999265354614
YMin: -89.98334688833772
XMax: 179.99999294645386
YMax: 90.01664591166228
Spatial Reference: 4326
(4326)
LatestVCSWkid(0)
Full Extent:
XMin: -179.99999265354614
YMin: -89.98334688833772
XMax: 179.99999294645386
YMax: 90.01664591166228
Spatial Reference: 4326
(4326)
LatestVCSWkid(0)
Pixel Size X: 0.08333333
Pixel Size Y: 0.08333333
Band Count: 1
Pixel Type: S8
RasterFunction Infos: {"rasterFunctionInfos": [{
"name": "None",
"description": "",
"help": ""
}]}
Mensuration Capabilities: Basic
Has Histograms: true
Has Colormap: false
Has Multi Dimensions : false
Rendering Rule:
Min Scale: 0
Max Scale: 0
Copyright Text:
Service Data Type: esriImageServiceDataTypeGeneric
Min Values: 0
Max Values: 80
Mean Values: 5.677596916461412
Standard Deviation Values: 15.354340930235654
Object ID Field:
Fields:
None
Default Mosaic Method: Center
Allowed Mosaic Methods:
SortField:
SortValue: null
Mosaic Operator: First
Default Compression Quality: 75
Default Resampling Method: Nearest
Max Record Count: null
Max Image Height: 2160
Max Image Width: 4320
Max Download Image Count: null
Max Mosaic Image Count: null
Allow Raster Function: true
Allow Copy: true
Allow Analysis: true
Allow Compute TiePoints: false
Supports Statistics: false
Supports Advanced Queries: false
Use StandardizedQueries: true
Raster Type Infos:
Name: Raster Dataset
Description: Supports all ArcGIS Raster Datasets
Help:
Has Raster Attribute Table: true
Edit Fields Info: null
Ownership Based AccessControl For Rasters: null
Child Resources:
Info
Raster Attribute Table
Histograms
Statistics
Key Properties
Legend
Raster Function Infos
Supported Operations:
Export Image
Identify
Measure
Compute Histograms
Compute Statistics Histograms
Get Samples
Compute Class Statistics
Query Boundary
Compute Pixel Location
Compute Angles
Validate
Project