{
 "currentVersion": 10.91,
 "serviceDescription": "This map was created by overlaying the data from Mountains of the World - 2002 with a global data set on percent tree cover. The percent tree cover data are taken from MODIS 1-km resolution percent tree cover data set, courtesy of University of Maryland Global Land Cover Facility.",
 "name": "tc_mtn_02g",
 "description": "This map was created by overlaying the data from Mountains of the World - 2002 with a global data set on percent tree cover. The percent tree cover data are taken from MODIS 1-km resolution percent tree cover data set, courtesy of University of Maryland Global Land Cover Facility.",
 "extent": {
  "xmin": -179.99999265354614,
  "ymin": -89.98334688833772,
  "xmax": 179.99999294645386,
  "ymax": 90.01664591166228,
  "spatialReference": {
   "wkid": 4326,
   "latestWkid": 4326
  }
 },
 "initialExtent": {
  "xmin": -179.99999265354614,
  "ymin": -89.98334688833772,
  "xmax": 179.99999294645386,
  "ymax": 90.01664591166228,
  "spatialReference": {
   "wkid": 4326,
   "latestWkid": 4326
  }
 },
 "fullExtent": {
  "xmin": -179.99999265354614,
  "ymin": -89.98334688833772,
  "xmax": 179.99999294645386,
  "ymax": 90.01664591166228,
  "spatialReference": {
   "wkid": 4326,
   "latestWkid": 4326
  }
 },
 "hasMultidimensions": false,
 "pixelSizeX": 0.08333333,
 "pixelSizeY": 0.08333333,
 "datasetFormat": "SDR",
 "uncompressedSize": 9331200,
 "blockWidth": 128,
 "blockHeight": 128,
 "compressionType": "LZ77",
 "bandNames": [
  "Band_1"
 ],
 "allowCopy": true,
 "allowAnalysis": true,
 "bandCount": 1,
 "pixelType": "S8",
 "minPixelSize": 0,
 "maxPixelSize": 0,
 "copyrightText": "",
 "serviceDataType": "esriImageServiceDataTypeGeneric",
 "serviceSourceType": "esriImageServiceSourceTypeDataset",
 "minValues": [
  0
 ],
 "maxValues": [
  80
 ],
 "meanValues": [
  5.677596916461412
 ],
 "stdvValues": [
  15.354340930235654
 ],
 "objectIdField": "",
 "fields": [],
 "capabilities": "Mensuration,Image,Metadata",
 "defaultMosaicMethod": "Center",
 "allowedMosaicMethods": "",
 "sortField": "",
 "sortValue": null,
 "sortAscending": true,
 "mosaicOperator": "First",
 "defaultCompressionQuality": 75,
 "defaultResamplingMethod": "Nearest",
 "maxImageHeight": 2160,
 "maxImageWidth": 4320,
 "allowRasterFunction": true,
 "rasterFunctionInfos": [
  {
   "name": "None",
   "description": "",
   "help": ""
  }
 ],
 "rasterTypeInfos": [
  {
   "name": "Raster Dataset",
   "description": "Supports all ArcGIS Raster Datasets",
   "help": ""
  }
 ],
 "mensurationCapabilities": "Basic",
 "hasHistograms": true,
 "hasColormap": false,
 "hasRasterAttributeTable": true,
 "minScale": 0,
 "maxScale": 0,
 "exportTilesAllowed": false,
 "supportsStatistics": false,
 "supportsAdvancedQueries": false,
 "editFieldsInfo": null,
 "ownershipBasedAccessControlForRasters": null,
 "allowComputeTiePoints": false,
 "useStandardizedQueries": true,
 "advancedQueryCapabilities": {
  "useStandardizedQueries": true,
  "supportsStatistics": false,
  "supportsOrderBy": false,
  "supportsDistinct": false,
  "supportsPagination": false
 },
 "spatialReference": {
  "wkid": 4326,
  "latestWkid": 4326
 }
}
