View In:
ArcGIS JavaScript
ArcGIS Online Map Viewer
ArcGIS Earth
ArcMap
View Footprint In:
ArcGIS Online Map Viewer
Service Description: To produce this map, topographical data from the GTOPO30 global digital elevation model (USGS EROS Data Center 1996) were used to generate slope and local (5km radius) elevation range on a 30 arc-second grid of the world. These parameters were combined with elevation to arrive at the empirically derived definitions of the six mountain classes displayed on this map. (A spatial filter was applied to classify isolated individual 'non-mountain' grid cells in mountain areas according to the predominant class of their immediate neighbours.) The global mountain area thus defined totals 35.8 million km2, or 24% of the Earth's land surface.
Name: mtn_00m
Description: To produce this map, topographical data from the GTOPO30 global digital elevation model (USGS EROS Data Center 1996) were used to generate slope and local (5km radius) elevation range on a 30 arc-second grid of the world. These parameters were combined with elevation to arrive at the empirically derived definitions of the six mountain classes displayed on this map. (A spatial filter was applied to classify isolated individual 'non-mountain' grid cells in mountain areas according to the predominant class of their immediate neighbours.) The global mountain area thus defined totals 35.8 million km2, or 24% of the Earth's land surface.
Single Fused Map Cache: false
Extent:
XMin: -1.802E7
YMin: -9010000.0
XMax: 1.802E7
YMax: 9010000.0
Spatial Reference: 0
(0)
LatestVCSWkid(0)
Initial Extent:
XMin: -1.802E7
YMin: -9010000.0
XMax: 1.802E7
YMax: 9010000.0
Spatial Reference: 0
(0)
LatestVCSWkid(0)
Full Extent:
XMin: -1.802E7
YMin: -9010000.0
XMax: 1.802E7
YMax: 9010000.0
Spatial Reference: 0
(0)
LatestVCSWkid(0)
Pixel Size X: 1000.0
Pixel Size Y: 1000.0
Band Count: 1
Pixel Type: S16
RasterFunction Infos: {"rasterFunctionInfos": [
{
"name": "None",
"description": "Make a Raster or Raster Dataset into a Function Raster Dataset.",
"help": ""
},
{
"name": "Mountains_00",
"description": "Mountains_00",
"help": ""
}
]}
Mensuration Capabilities: Basic
Has Histograms: true
Has Colormap: false
Has Multi Dimensions : false
Rendering Rule:
Min Scale: 0
Max Scale: 0
Copyright Text:
Service Data Type: esriImageServiceDataTypeGeneric
Min Values: 3
Max Values: 2061
Mean Values: 449.8938938756423
Standard Deviation Values: 421.02079366547497
Object ID Field:
Fields:
None
Default Mosaic Method: Center
Allowed Mosaic Methods:
SortField:
SortValue: null
Mosaic Operator: First
Default Compression Quality: 75
Default Resampling Method: Nearest
Max Record Count: null
Max Image Height: 18020
Max Image Width: 36040
Max Download Image Count: null
Max Mosaic Image Count: null
Allow Raster Function: true
Allow Copy: true
Allow Analysis: true
Allow Compute TiePoints: false
Supports Statistics: false
Supports Advanced Queries: false
Use StandardizedQueries: true
Raster Type Infos:
Name: Raster Dataset
Description: Supports all ArcGIS Raster Datasets
Help:
Has Raster Attribute Table: true
Edit Fields Info: null
Ownership Based AccessControl For Rasters: null
Child Resources:
Info
Raster Attribute Table
Histograms
Statistics
Key Properties
Legend
Raster Function Infos
Supported Operations:
Export Image
Identify
Measure
Compute Histograms
Compute Statistics Histograms
Get Samples
Compute Class Statistics
Query Boundary
Compute Pixel Location
Compute Angles
Validate
Project