{
 "currentVersion": 10.91,
 "serviceDescription": "To produce this map, topographical data from the GTOPO30 global digital elevation model (USGS EROS Data Center 1996) were used to generate slope and local (5km radius) elevation range on a 30 arc-second grid of the world. These parameters were combined with elevation to arrive at the empirically derived definitions of the six mountain classes displayed on this map. (A spatial filter was applied to classify isolated individual 'non-mountain' grid cells in mountain areas according to the predominant class of their immediate neighbours.) The global mountain area thus defined totals 35.8 million km2, or 24% of the Earth's land surface.",
 "name": "mtn_00m",
 "description": "To produce this map, topographical data from the GTOPO30 global digital elevation model (USGS EROS Data Center 1996) were used to generate slope and local (5km radius) elevation range on a 30 arc-second grid of the world. These parameters were combined with elevation to arrive at the empirically derived definitions of the six mountain classes displayed on this map. (A spatial filter was applied to classify isolated individual 'non-mountain' grid cells in mountain areas according to the predominant class of their immediate neighbours.) The global mountain area thus defined totals 35.8 million km2, or 24% of the Earth's land surface.",
 "extent": {
  "xmin": -18020000,
  "ymin": -9010000,
  "xmax": 18020000,
  "ymax": 9010000,
  "spatialReference": {
   "wkt": "PROJCS[\"Sphere_ARC_INFO_Mollweide\",GEOGCS[\"GCS_Sphere_ARC_INFO\",DATUM[\"D_Sphere_ARC_INFO\",SPHEROID[\"Sphere_ARC_INFO\",6370997.0,0.0]],PRIMEM[\"Greenwich\",0.0],UNIT[\"Degree\",0.0174532925199433]],PROJECTION[\"Mollweide\"],PARAMETER[\"False_Easting\",0.0],PARAMETER[\"False_Northing\",0.0],PARAMETER[\"Central_Meridian\",0.0],UNIT[\"Meter\",1.0]]"
  }
 },
 "initialExtent": {
  "xmin": -18020000,
  "ymin": -9010000,
  "xmax": 18020000,
  "ymax": 9010000,
  "spatialReference": {
   "wkt": "PROJCS[\"Sphere_ARC_INFO_Mollweide\",GEOGCS[\"GCS_Sphere_ARC_INFO\",DATUM[\"D_Sphere_ARC_INFO\",SPHEROID[\"Sphere_ARC_INFO\",6370997.0,0.0]],PRIMEM[\"Greenwich\",0.0],UNIT[\"Degree\",0.0174532925199433]],PROJECTION[\"Mollweide\"],PARAMETER[\"False_Easting\",0.0],PARAMETER[\"False_Northing\",0.0],PARAMETER[\"Central_Meridian\",0.0],UNIT[\"Meter\",1.0]]"
  }
 },
 "fullExtent": {
  "xmin": -18020000,
  "ymin": -9010000,
  "xmax": 18020000,
  "ymax": 9010000,
  "spatialReference": {
   "wkt": "PROJCS[\"Sphere_ARC_INFO_Mollweide\",GEOGCS[\"GCS_Sphere_ARC_INFO\",DATUM[\"D_Sphere_ARC_INFO\",SPHEROID[\"Sphere_ARC_INFO\",6370997.0,0.0]],PRIMEM[\"Greenwich\",0.0],UNIT[\"Degree\",0.0174532925199433]],PROJECTION[\"Mollweide\"],PARAMETER[\"False_Easting\",0.0],PARAMETER[\"False_Northing\",0.0],PARAMETER[\"Central_Meridian\",0.0],UNIT[\"Meter\",1.0]]"
  }
 },
 "hasMultidimensions": false,
 "pixelSizeX": 1000,
 "pixelSizeY": 1000,
 "datasetFormat": "SDR",
 "uncompressedSize": 1298881600,
 "blockWidth": 128,
 "blockHeight": 128,
 "compressionType": "LZ77",
 "bandNames": [
  "Band_1"
 ],
 "allowCopy": true,
 "allowAnalysis": true,
 "bandCount": 1,
 "pixelType": "S16",
 "minPixelSize": 0,
 "maxPixelSize": 0,
 "copyrightText": "",
 "serviceDataType": "esriImageServiceDataTypeGeneric",
 "serviceSourceType": "esriImageServiceSourceTypeDataset",
 "minValues": [
  3
 ],
 "maxValues": [
  2061
 ],
 "meanValues": [
  449.8938938756423
 ],
 "stdvValues": [
  421.02079366547497
 ],
 "objectIdField": "",
 "fields": [],
 "capabilities": "Mensuration,Image,Metadata",
 "defaultMosaicMethod": "Center",
 "allowedMosaicMethods": "",
 "sortField": "",
 "sortValue": null,
 "sortAscending": true,
 "mosaicOperator": "First",
 "defaultCompressionQuality": 75,
 "defaultResamplingMethod": "Nearest",
 "maxImageHeight": 18020,
 "maxImageWidth": 36040,
 "allowRasterFunction": true,
 "rasterFunctionInfos": [
  {
   "name": "None",
   "description": "Make a Raster or Raster Dataset into a Function Raster Dataset.",
   "help": ""
  },
  {
   "name": "Mountains_00",
   "description": "Mountains_00",
   "help": ""
  }
 ],
 "rasterTypeInfos": [
  {
   "name": "Raster Dataset",
   "description": "Supports all ArcGIS Raster Datasets",
   "help": ""
  }
 ],
 "mensurationCapabilities": "Basic",
 "hasHistograms": true,
 "hasColormap": false,
 "hasRasterAttributeTable": true,
 "minScale": 0,
 "maxScale": 0,
 "exportTilesAllowed": false,
 "supportsStatistics": false,
 "supportsAdvancedQueries": false,
 "editFieldsInfo": null,
 "ownershipBasedAccessControlForRasters": null,
 "allowComputeTiePoints": false,
 "useStandardizedQueries": true,
 "advancedQueryCapabilities": {
  "useStandardizedQueries": true,
  "supportsStatistics": false,
  "supportsOrderBy": false,
  "supportsDistinct": false,
  "supportsPagination": false
 },
 "spatialReference": {
  "wkt": "PROJCS[\"Sphere_ARC_INFO_Mollweide\",GEOGCS[\"GCS_Sphere_ARC_INFO\",DATUM[\"D_Sphere_ARC_INFO\",SPHEROID[\"Sphere_ARC_INFO\",6370997.0,0.0]],PRIMEM[\"Greenwich\",0.0],UNIT[\"Degree\",0.0174532925199433]],PROJECTION[\"Mollweide\"],PARAMETER[\"False_Easting\",0.0],PARAMETER[\"False_Northing\",0.0],PARAMETER[\"Central_Meridian\",0.0],UNIT[\"Meter\",1.0]]"
 }
}
