View In:
ArcGIS JavaScript
ArcGIS Online Map Viewer
ArcGIS Earth
Service Description: WCMC_Rest_Opp_EU
Name: WCMC_Rest_Opp_EU
Description:
Single Fused Map Cache: false
Extent:
XMin: 2675104.3605246544
YMin: 1469086.2156555885
XMax: 7588324.846106282
YMax: 5900618.418337057
Spatial Reference: 3035
(3035)
Initial Extent:
XMin: 2675104.3605246544
YMin: 1469086.2156555885
XMax: 7588324.846106282
YMax: 5900618.418337057
Spatial Reference: 3035
(3035)
Full Extent:
XMin: 2675104.3605246544
YMin: 1469086.2156555885
XMax: 7588324.846106282
YMax: 5900618.418337057
Spatial Reference: 3035
(3035)
Pixel Size X: 19267.531316006385
Pixel Size Y: 19267.531316006385
Band Count: 1
Pixel Type: F32
RasterFunction Infos: {"rasterFunctionInfos": [{
"help": "",
"name": "None",
"description": ""
}]}
Mensuration Capabilities: Basic
Inspection Capabilities:
Has Histograms: true
Has Colormap: false
Has Multi Dimensions : false
Rendering Rule:
Min Scale: 0
Max Scale: 0
Copyright Text:
Service Data Type: esriImageServiceDataTypeGeneric
Min Values: 1
Max Values: 100
Mean Values: 50.522290761250524
Standard Deviation Values: 28.657039211289305
Object ID Field:
Fields:
None
Default Mosaic Method: Center
Allowed Mosaic Methods:
SortField:
SortValue: N/A
Mosaic Operator: First
Default Compression Quality: 75
Default Resampling Method: Bilinear
Max Record Count: null
Max Image Height: 18986
Max Image Width: 40076
Max Download Image Count: null
Max Mosaic Image Count: null
Allow Raster Function: true
Allow Copy: true
Allow Analysis: true
Allow Compute TiePoints: false
Supports Statistics: false
Supports Advanced Queries: false
Use StandardizedQueries: false
Raster Type Infos:
Name: Raster Dataset
Description: Supports all ArcGIS Raster Datasets
Help:
Has Raster Attribute Table: false
Edit Fields Info: N/A
Ownership Based AccessControl For Rasters: N/A
Child Resources:
Info
Histograms
Statistics
Key Properties
Legend
Raster Function Infos
Supported Operations:
Export Image
Identify
Measure
Compute Histograms
Compute Statistics Histograms
Get Samples
Compute Class Statistics
Query Boundary
Compute Pixel Location
Compute Angles
Validate
Project