{
 "extent": {
  "ymin": 1469086.2156555885,
  "xmin": 2675104.3605246544,
  "ymax": 5900618.4183370573,
  "xmax": 7588324.8461062824,
  "spatialReference": {
   "latestWkid": 3035,
   "wkid": 3035
  }
 },
 "blockWidth": 128,
 "mosaicOperator": "First",
 "serviceSourceType": "esriImageServiceSourceTypeDataset",
 "hasMultidimensions": false,
 "maxImageWidth": 40076,
 "meanValues": [
  50.522290761250524
 ],
 "hasColormap": false,
 "compressionType": "LZ77",
 "defaultCompressionQuality": 75,
 "maxValues": [
  100
 ],
 "hasHistograms": true,
 "datasetFormat": "SDR",
 "maxImageHeight": 18986,
 "sortField": "",
 "bandNames": [
  "Band_1"
 ],
 "spatialReference": {
  "latestWkid": 3035,
  "wkid": 3035
 },
 "fullExtent": {
  "ymin": 1469086.2156555885,
  "xmin": 2675104.3605246544,
  "ymax": 5900618.4183370573,
  "xmax": 7588324.8461062824,
  "spatialReference": {
   "latestWkid": 3035,
   "wkid": 3035
  }
 },
 "bandCount": 1,
 "rasterFunctionInfos": [
  {
   "help": "",
   "name": "None",
   "description": ""
  }
 ],
 "supportsStatistics": false,
 "sortableFields": "",
 "minValues": [
  1
 ],
 "allowRasterFunction": true,
 "allowComputeTiePoints": false,
 "serviceDataType": "esriImageServiceDataTypeGeneric",
 "supportsAdvancedQueries": false,
 "currentVersion": 12.1,
 "sortValue": null,
 "objectIdField": "",
 "blockHeight": 128,
 "initialExtent": {
  "ymin": 1469086.2156555885,
  "xmin": 2675104.3605246544,
  "ymax": 5900618.4183370573,
  "xmax": 7588324.8461062824,
  "spatialReference": {
   "latestWkid": 3035,
   "wkid": 3035
  }
 },
 "pixelSizeX": 19267.531316006385,
 "pixelSizeY": 19267.531316006385,
 "defaultMosaicMethod": "Center",
 "name": "WCMC_Rest_Opp_EU",
 "allowedMosaicMethods": "",
 "fields": [],
 "allowAnalysis": true,
 "hasRasterAttributeTable": false,
 "useStandardizedQueries": false,
 "description": "",
 "pixelType": "F32",
 "meanPixelSize": 19267.531316006385,
 "exportTilesAllowed": false,
 "editFieldsInfo": null,
 "rasterTypeInfos": [
  {
   "help": "",
   "name": "Raster Dataset",
   "description": "Supports all ArcGIS Raster Datasets"
  }
 ],
 "defaultResamplingMethod": "Bilinear",
 "itemAccess": false,
 "minScale": 0,
 "serviceProperties": "Center<\/MosaicMethod>First<\/MosaicOperator>true<\/SortAscending><\/LockImageID><\/TileOrderField>0<\/TileOrderBase>0.000000<\/AvgImageSpacingX>0.000000<\/AvgImageSpacingY>0.0<\/ViewPointX>0.0<\/ViewPointY>0.0<\/ViewPointDefShiftX>0.0<\/ViewPointDefShiftY>None<\/CompressionMethod>75<\/CompressionQuality>0.010000<\/CompressionTolerance>Bilinear<\/SamplingMethod><\/ImageServiceProperties><\/ImageServer>",
 "advancedQueryCapabilities": {
  "supportsStatistics": false,
  "supportsSqlExpression": false,
  "supportsOrderBy": false,
  "useStandardizedQueries": false,
  "supportsPagination": false,
  "supportsDistinct": false
 },
 "serviceItemId": "a154e3e8fbbc4214a61a5b9f033cee0c",
 "capabilities": "Mensuration,Image,Metadata",
 "maxScale": 0,
 "stdvValues": [
  28.657039211289305
 ],
 "allowedFields": "",
 "minPixelSize": 0,
 "sortAscending": true,
 "inspectionCapabilities": "",
 "maxPixelSize": 0,
 "allowedCompressions": "None,JPEG,LZ77,LERC",
 "uncompressedSize": 234600,
 "serviceDescription": "WCMC_Rest_Opp_EU",
 "allowCopy": true,
 "copyrightText": "",
 "mensurationCapabilities": "Basic",
 "ownershipBasedAccessControlForRasters": null
}
