View In:
ArcGIS JavaScript
ArcGIS Online Map Viewer
ArcGIS Earth
Service Description: NatureMap/NatureMap_all_species_RarityWeightedRichness
Name: NatureMap/NatureMap_all_species_RarityWeightedRichness
Description:
Single Fused Map Cache: false
Extent:
XMin: -1.80395064946004E7
YMin: -8808752.15190002
XMax: 1.80304935053996E7
YMax: 8871247.84809998
Spatial Reference: PROJCS["WGS_1984_Mollweide",GEOGCS["GCS_WGS_1984",DATUM["D_unknown",SPHEROID["WGS84",6378137.0,298.257223563]],PRIMEM["Greenwich",0.0],UNIT["Degree",0.0174532925199433]],PROJECTION["Mollweide"],PARAMETER["false_easting",0.0],PARAMETER["false_northing",0.0],PARAMETER["central_meridian",0.0],UNIT["Meter",1.0]]
Initial Extent:
XMin: -1.80395064946004E7
YMin: -8808752.15190002
XMax: 1.80304935053996E7
YMax: 8871247.84809998
Spatial Reference: PROJCS["WGS_1984_Mollweide",GEOGCS["GCS_WGS_1984",DATUM["D_unknown",SPHEROID["WGS84",6378137.0,298.257223563]],PRIMEM["Greenwich",0.0],UNIT["Degree",0.0174532925199433]],PROJECTION["Mollweide"],PARAMETER["false_easting",0.0],PARAMETER["false_northing",0.0],PARAMETER["central_meridian",0.0],UNIT["Meter",1.0]]
Full Extent:
XMin: -1.80395064946004E7
YMin: -8808752.15190002
XMax: 1.80304935053996E7
YMax: 8871247.84809998
Spatial Reference: PROJCS["WGS_1984_Mollweide",GEOGCS["GCS_WGS_1984",DATUM["D_unknown",SPHEROID["WGS84",6378137.0,298.257223563]],PRIMEM["Greenwich",0.0],UNIT["Degree",0.0174532925199433]],PROJECTION["Mollweide"],PARAMETER["false_easting",0.0],PARAMETER["false_northing",0.0],PARAMETER["central_meridian",0.0],UNIT["Meter",1.0]]
Pixel Size X: 10000.0
Pixel Size Y: 10000.0
Band Count: 1
Pixel Type: F32
RasterFunction Infos: {"rasterFunctionInfos": [{
"help": "",
"name": "None",
"description": ""
}]}
Mensuration Capabilities: Basic
Inspection Capabilities:
Has Histograms: true
Has Colormap: false
Has Multi Dimensions : false
Rendering Rule:
Min Scale: 0
Max Scale: 0
Copyright Text:
Service Data Type: esriImageServiceDataTypeGeneric
Min Values: 0
Max Values: 1
Mean Values: 0.00010351209331205807
Standard Deviation Values: 0.0012234827324680681
Object ID Field:
Fields:
None
Default Mosaic Method: Center
Allowed Mosaic Methods:
SortField:
SortValue: N/A
Mosaic Operator: First
Default Compression Quality: 75
Default Resampling Method: Bilinear
Max Record Count: null
Max Image Height: 18986
Max Image Width: 40076
Max Download Image Count: null
Max Mosaic Image Count: null
Allow Raster Function: true
Allow Copy: true
Allow Analysis: true
Allow Compute TiePoints: false
Supports Statistics: false
Supports Advanced Queries: false
Use StandardizedQueries: false
Raster Type Infos:
Name: Raster Dataset
Description: Supports all ArcGIS Raster Datasets
Help:
Has Raster Attribute Table: false
Edit Fields Info: N/A
Ownership Based AccessControl For Rasters: N/A
Child Resources:
Info
Histograms
Statistics
Key Properties
Legend
Raster Function Infos
Supported Operations:
Export Image
Identify
Measure
Compute Histograms
Compute Statistics Histograms
Get Samples
Compute Class Statistics
Query Boundary
Compute Pixel Location
Compute Angles
Validate
Project