{
 "extent": {
  "ymin": -8808752.1519000195,
  "xmin": -18039506.4946004,
  "ymax": 8871247.8480999805,
  "xmax": 18030493.5053996,
  "spatialReference": {
   "wkt": "PROJCS[\"WGS_1984_Mollweide\",GEOGCS[\"GCS_WGS_1984\",DATUM[\"D_unknown\",SPHEROID[\"WGS84\",6378137.0,298.257223563]],PRIMEM[\"Greenwich\",0.0],UNIT[\"Degree\",0.0174532925199433]],PROJECTION[\"Mollweide\"],PARAMETER[\"false_easting\",0.0],PARAMETER[\"false_northing\",0.0],PARAMETER[\"central_meridian\",0.0],UNIT[\"Meter\",1.0]]",
   "wkt2": "PROJCRS[\"WGS_1984_Mollweide\",BASEGEOGCRS[\"GCS_WGS_1984\",DATUM[\"D_unknown\",ELLIPSOID[\"WGS84\",6378137.0,298.257223563]],PRIMEM[\"Greenwich\",0.0],CS[ellipsoidal,2],ANGLEUNIT[\"Degree\",0.0174532925199433]],CONVERSION[\"Mollweide\",METHOD[\"Mollweide\"],PARAMETER[\"false_easting\",0.0],PARAMETER[\"false_northing\",0.0],PARAMETER[\"central_meridian\",0.0]],CS[Cartesian,2],AXIS[\"Easting (X)\",east,ORDER[1]],AXIS[\"Northing (Y)\",north,ORDER[2]],LENGTHUNIT[\"Meter\",1.0]]"
  }
 },
 "blockWidth": 128,
 "mosaicOperator": "First",
 "serviceSourceType": "esriImageServiceSourceTypeDataset",
 "hasMultidimensions": false,
 "maxImageWidth": 40076,
 "meanValues": [
  0.00010351209331205807
 ],
 "hasColormap": false,
 "compressionType": "LZ77",
 "defaultCompressionQuality": 75,
 "maxValues": [
  1
 ],
 "hasHistograms": true,
 "datasetFormat": "SDR",
 "maxImageHeight": 18986,
 "sortField": "",
 "bandNames": [
  "Band_1"
 ],
 "spatialReference": {
  "wkt": "PROJCS[\"WGS_1984_Mollweide\",GEOGCS[\"GCS_WGS_1984\",DATUM[\"D_unknown\",SPHEROID[\"WGS84\",6378137.0,298.257223563]],PRIMEM[\"Greenwich\",0.0],UNIT[\"Degree\",0.0174532925199433]],PROJECTION[\"Mollweide\"],PARAMETER[\"false_easting\",0.0],PARAMETER[\"false_northing\",0.0],PARAMETER[\"central_meridian\",0.0],UNIT[\"Meter\",1.0]]",
  "wkt2": "PROJCRS[\"WGS_1984_Mollweide\",BASEGEOGCRS[\"GCS_WGS_1984\",DATUM[\"D_unknown\",ELLIPSOID[\"WGS84\",6378137.0,298.257223563]],PRIMEM[\"Greenwich\",0.0],CS[ellipsoidal,2],ANGLEUNIT[\"Degree\",0.0174532925199433]],CONVERSION[\"Mollweide\",METHOD[\"Mollweide\"],PARAMETER[\"false_easting\",0.0],PARAMETER[\"false_northing\",0.0],PARAMETER[\"central_meridian\",0.0]],CS[Cartesian,2],AXIS[\"Easting (X)\",east,ORDER[1]],AXIS[\"Northing (Y)\",north,ORDER[2]],LENGTHUNIT[\"Meter\",1.0]]"
 },
 "fullExtent": {
  "ymin": -8808752.1519000195,
  "xmin": -18039506.4946004,
  "ymax": 8871247.8480999805,
  "xmax": 18030493.5053996,
  "spatialReference": {
   "wkt": "PROJCS[\"WGS_1984_Mollweide\",GEOGCS[\"GCS_WGS_1984\",DATUM[\"D_unknown\",SPHEROID[\"WGS84\",6378137.0,298.257223563]],PRIMEM[\"Greenwich\",0.0],UNIT[\"Degree\",0.0174532925199433]],PROJECTION[\"Mollweide\"],PARAMETER[\"false_easting\",0.0],PARAMETER[\"false_northing\",0.0],PARAMETER[\"central_meridian\",0.0],UNIT[\"Meter\",1.0]]",
   "wkt2": "PROJCRS[\"WGS_1984_Mollweide\",BASEGEOGCRS[\"GCS_WGS_1984\",DATUM[\"D_unknown\",ELLIPSOID[\"WGS84\",6378137.0,298.257223563]],PRIMEM[\"Greenwich\",0.0],CS[ellipsoidal,2],ANGLEUNIT[\"Degree\",0.0174532925199433]],CONVERSION[\"Mollweide\",METHOD[\"Mollweide\"],PARAMETER[\"false_easting\",0.0],PARAMETER[\"false_northing\",0.0],PARAMETER[\"central_meridian\",0.0]],CS[Cartesian,2],AXIS[\"Easting (X)\",east,ORDER[1]],AXIS[\"Northing (Y)\",north,ORDER[2]],LENGTHUNIT[\"Meter\",1.0]]"
  }
 },
 "bandCount": 1,
 "rasterFunctionInfos": [
  {
   "help": "",
   "name": "None",
   "description": ""
  }
 ],
 "supportsStatistics": false,
 "sortableFields": "",
 "minValues": [
  0
 ],
 "allowRasterFunction": true,
 "allowComputeTiePoints": false,
 "serviceDataType": "esriImageServiceDataTypeGeneric",
 "supportsAdvancedQueries": false,
 "currentVersion": 12.1,
 "sortValue": null,
 "objectIdField": "",
 "blockHeight": 128,
 "initialExtent": {
  "ymin": -8808752.1519000195,
  "xmin": -18039506.4946004,
  "ymax": 8871247.8480999805,
  "xmax": 18030493.5053996,
  "spatialReference": {
   "wkt": "PROJCS[\"WGS_1984_Mollweide\",GEOGCS[\"GCS_WGS_1984\",DATUM[\"D_unknown\",SPHEROID[\"WGS84\",6378137.0,298.257223563]],PRIMEM[\"Greenwich\",0.0],UNIT[\"Degree\",0.0174532925199433]],PROJECTION[\"Mollweide\"],PARAMETER[\"false_easting\",0.0],PARAMETER[\"false_northing\",0.0],PARAMETER[\"central_meridian\",0.0],UNIT[\"Meter\",1.0]]",
   "wkt2": "PROJCRS[\"WGS_1984_Mollweide\",BASEGEOGCRS[\"GCS_WGS_1984\",DATUM[\"D_unknown\",ELLIPSOID[\"WGS84\",6378137.0,298.257223563]],PRIMEM[\"Greenwich\",0.0],CS[ellipsoidal,2],ANGLEUNIT[\"Degree\",0.0174532925199433]],CONVERSION[\"Mollweide\",METHOD[\"Mollweide\"],PARAMETER[\"false_easting\",0.0],PARAMETER[\"false_northing\",0.0],PARAMETER[\"central_meridian\",0.0]],CS[Cartesian,2],AXIS[\"Easting (X)\",east,ORDER[1]],AXIS[\"Northing (Y)\",north,ORDER[2]],LENGTHUNIT[\"Meter\",1.0]]"
  }
 },
 "pixelSizeX": 10000,
 "pixelSizeY": 10000,
 "defaultMosaicMethod": "Center",
 "name": "NatureMap/NatureMap_all_species_RarityWeightedRichness",
 "allowedMosaicMethods": "",
 "fields": [],
 "allowAnalysis": true,
 "hasRasterAttributeTable": false,
 "useStandardizedQueries": false,
 "description": "",
 "pixelType": "F32",
 "meanPixelSize": 10000,
 "exportTilesAllowed": false,
 "editFieldsInfo": null,
 "rasterTypeInfos": [
  {
   "help": "",
   "name": "Raster Dataset",
   "description": "Supports all ArcGIS Raster Datasets"
  }
 ],
 "defaultResamplingMethod": "Bilinear",
 "itemAccess": false,
 "minScale": 0,
 "serviceProperties": "Center<\/MosaicMethod>First<\/MosaicOperator>true<\/SortAscending><\/LockImageID><\/TileOrderField>0<\/TileOrderBase>0.000000<\/AvgImageSpacingX>0.000000<\/AvgImageSpacingY>0.0<\/ViewPointX>0.0<\/ViewPointY>0.0<\/ViewPointDefShiftX>0.0<\/ViewPointDefShiftY>None<\/CompressionMethod>75<\/CompressionQuality>0.010000<\/CompressionTolerance>Bilinear<\/SamplingMethod><\/ImageServiceProperties><\/ImageServer>",
 "advancedQueryCapabilities": {
  "supportsStatistics": false,
  "supportsSqlExpression": false,
  "supportsOrderBy": false,
  "useStandardizedQueries": false,
  "supportsPagination": false,
  "supportsDistinct": false
 },
 "serviceItemId": "5b54670f01a24a4197f94341cedbac1e",
 "capabilities": "Mensuration,Image,Metadata",
 "maxScale": 0,
 "stdvValues": [
  0.0012234827324680681
 ],
 "allowedFields": "",
 "minPixelSize": 0,
 "sortAscending": true,
 "inspectionCapabilities": "",
 "maxPixelSize": 0,
 "allowedCompressions": "None,JPEG,LZ77,LERC",
 "uncompressedSize": 25508704,
 "serviceDescription": "NatureMap/NatureMap_all_species_RarityWeightedRichness",
 "allowCopy": true,
 "copyrightText": "",
 "mensurationCapabilities": "Basic",
 "ownershipBasedAccessControlForRasters": null
}
