View In:
ArcGIS JavaScript
ArcGIS Online Map Viewer
ArcGIS Earth
ArcMap
View Footprint In:
ArcGIS Online Map Viewer
Service Description: The map was created by ranking each ~10km grid cell globally by its potential value in improving a species conservation status and conserving the largest amount of carbon and water possible. This novel global integrated map can provide spatial guidance for identifying which land areas should be managed for conservation to generate the greatest synergies between conserving biodiversity, carbon and water.
Name: NatureMap/NatureMap_Cons10km_minshort_sptargets_BCW
Description: The map was created by ranking each ~10km grid cell globally by its potential value in improving a species conservation status and conserving the largest amount of carbon and water possible. This novel global integrated map can provide spatial guidance for identifying which land areas should be managed for conservation to generate the greatest synergies between conserving biodiversity, carbon and water.
Single Fused Map Cache: false
Extent:
XMin: -1.80395064946004E7
YMin: -8808752.15190002
XMax: 1.80304935053996E7
YMax: 8871247.84809998
Spatial Reference: 54009
(54009)
LatestVCSWkid(0)
Initial Extent:
XMin: -1.80395064946004E7
YMin: -8808752.15190002
XMax: 1.80304935053996E7
YMax: 8871247.84809998
Spatial Reference: 54009
(54009)
LatestVCSWkid(0)
Full Extent:
XMin: -1.80395064946004E7
YMin: -8808752.15190002
XMax: 1.80304935053996E7
YMax: 8871247.84809998
Spatial Reference: 54009
(54009)
LatestVCSWkid(0)
Pixel Size X: 10000.0
Pixel Size Y: 10000.0
Band Count: 1
Pixel Type: S16
RasterFunction Infos: {"rasterFunctionInfos": [{
"name": "None",
"description": "",
"help": ""
}]}
Mensuration Capabilities: Basic
Has Histograms: true
Has Colormap: false
Has Multi Dimensions : false
Rendering Rule:
Min Scale: 0
Max Scale: 0
Copyright Text: Jung, M., Arnell, A., de Lamo, X., García-Rangel, S., Lewis, M., Mark, J., Merow, C., Miles, L., et al. (2021). Areas of global importance for conserving terrestrial biodiversity, carbon, and water. Nature Ecology and Evolution DOI: 10.1038/s41559-021-01528-7
Service Data Type: esriImageServiceDataTypeGeneric
Min Values: 1
Max Values: 100
Mean Values: 50.26338367012188
Standard Deviation Values: 28.763594386651352
Object ID Field:
Fields:
None
Default Mosaic Method: Center
Allowed Mosaic Methods:
SortField:
SortValue: null
Mosaic Operator: First
Default Compression Quality: 75
Default Resampling Method: Bilinear
Max Record Count: null
Max Image Height: 1768
Max Image Width: 3607
Max Download Image Count: null
Max Mosaic Image Count: null
Allow Raster Function: true
Allow Copy: true
Allow Analysis: true
Allow Compute TiePoints: false
Supports Statistics: false
Supports Advanced Queries: false
Use StandardizedQueries: true
Raster Type Infos:
Name: Raster Dataset
Description: Supports all ArcGIS Raster Datasets
Help:
Has Raster Attribute Table: false
Edit Fields Info: null
Ownership Based AccessControl For Rasters: null
Child Resources:
Info
Histograms
Statistics
Key Properties
Legend
Raster Function Infos
Supported Operations:
Export Image
Identify
Measure
Compute Histograms
Compute Statistics Histograms
Get Samples
Compute Class Statistics
Query Boundary
Compute Pixel Location
Compute Angles
Validate
Project