{ "currentVersion": 10.91, "serviceDescription": "
The map was created by ranking each ~10km grid cell globally by its potential value in improving a species conservation status and conserving the largest amount of carbon and water possible. This novel global integrated map can provide spatial guidance for identifying which land areas should be managed for conservation to generate the greatest synergies between conserving biodiversity, carbon and water.<\/span><\/p><\/div><\/div><\/div>",
"name": "NatureMap/NatureMap_Cons10km_minshort_sptargets_BCW",
"description": " The map was created by ranking each ~10km grid cell globally by its potential value in improving a species conservation status and conserving the largest amount of carbon and water possible. This novel global integrated map can provide spatial guidance for identifying which land areas should be managed for conservation to generate the greatest synergies between conserving biodiversity, carbon and water.<\/span><\/p><\/div><\/div><\/div>",
"extent": {
"xmin": -1.80395064946004E7,
"ymin": -8808752.15190002,
"xmax": 1.80304935053996E7,
"ymax": 8871247.84809998,
"spatialReference": {
"wkid": 54009,
"latestWkid": 54009
}
},
"initialExtent": {
"xmin": -1.80395064946004E7,
"ymin": -8808752.15190002,
"xmax": 1.80304935053996E7,
"ymax": 8871247.84809998,
"spatialReference": {
"wkid": 54009,
"latestWkid": 54009
}
},
"fullExtent": {
"xmin": -1.80395064946004E7,
"ymin": -8808752.15190002,
"xmax": 1.80304935053996E7,
"ymax": 8871247.84809998,
"spatialReference": {
"wkid": 54009,
"latestWkid": 54009
}
},
"hasMultidimensions": false,
"pixelSizeX": 10000,
"pixelSizeY": 10000,
"datasetFormat": "SDR",
"uncompressedSize": 12754352,
"blockWidth": 128,
"blockHeight": 128,
"compressionType": "LZ77",
"bandNames": [
"Band_1"
],
"allowCopy": true,
"allowAnalysis": true,
"bandCount": 1,
"pixelType": "S16",
"minPixelSize": 0,
"maxPixelSize": 0,
"copyrightText": "Jung, M., Arnell, A., de Lamo, X., GarcĂa-Rangel, S., Lewis, M., Mark, J., Merow, C., Miles, L., et al. (2021). Areas of global importance for conserving terrestrial biodiversity, carbon, and water. Nature Ecology and Evolution DOI: 10.1038/s41559-021-01528-7",
"serviceDataType": "esriImageServiceDataTypeGeneric",
"serviceSourceType": "esriImageServiceSourceTypeDataset",
"minValues": [
1
],
"maxValues": [
100
],
"meanValues": [
50.26338367012188
],
"stdvValues": [
28.763594386651352
],
"objectIdField": "",
"fields": [],
"capabilities": "Mensuration,Image,Metadata",
"defaultMosaicMethod": "Center",
"allowedMosaicMethods": "",
"sortField": "",
"sortValue": null,
"sortAscending": true,
"mosaicOperator": "First",
"defaultCompressionQuality": 75,
"defaultResamplingMethod": "Bilinear",
"maxImageHeight": 1768,
"maxImageWidth": 3607,
"allowRasterFunction": true,
"rasterFunctionInfos": [
{
"name": "None",
"description": "",
"help": ""
}
],
"rasterTypeInfos": [
{
"name": "Raster Dataset",
"description": "Supports all ArcGIS Raster Datasets",
"help": ""
}
],
"mensurationCapabilities": "Basic",
"hasHistograms": true,
"hasColormap": false,
"hasRasterAttributeTable": false,
"minScale": 0,
"maxScale": 0,
"exportTilesAllowed": false,
"supportsStatistics": false,
"supportsAdvancedQueries": false,
"editFieldsInfo": null,
"ownershipBasedAccessControlForRasters": null,
"allowComputeTiePoints": false,
"useStandardizedQueries": true,
"advancedQueryCapabilities": {
"useStandardizedQueries": true,
"supportsStatistics": false,
"supportsOrderBy": false,
"supportsDistinct": false,
"supportsPagination": false
},
"spatialReference": {
"wkid": 54009,
"latestWkid": 54009
}
}