View In:
ArcGIS JavaScript
ArcGIS Online Map Viewer
ArcGIS Earth
Service Description: Hotspots of stock depletion for both natural capital assets (sea surface temperature and
eutrophication) were identified by extracting the 20% of grid cells
with the highest depletion values from each individual asset layer. The
combined map of marine depletion was created by overlaying the two natural
capital asset hotspot layers, and summing for each grid cell how many asset
hotspots are present, to obtain a value between 0 (the area was not a hotspot
of depletion for any asset) to two (the area was a hotspot of depletion for both
assets).
Download the
guidance documentation here for more information on the methodology, intended use cases and limitations.
Name: Encore/EU_COM_MAR_DEP
Description: Hotspots of stock depletion for both natural capital assets (sea surface temperature and
eutrophication) were identified by extracting the 20% of grid cells
with the highest depletion values from each individual asset layer. The
combined map of marine depletion was created by overlaying the two natural
capital asset hotspot layers, and summing for each grid cell how many asset
hotspots are present, to obtain a value between 0 (the area was not a hotspot
of depletion for any asset) to two (the area was a hotspot of depletion for both
assets).
Download the
guidance documentation here for more information on the methodology, intended use cases and limitations.
Single Fused Map Cache: false
Extent:
XMin: 590000.0
YMin: 760000.0
XMax: 6910000.0
YMax: 4930000.0
Spatial Reference: 3035
(3035)
Initial Extent:
XMin: 590000.0
YMin: 760000.0
XMax: 6910000.0
YMax: 4930000.0
Spatial Reference: 3035
(3035)
Full Extent:
XMin: 590000.0
YMin: 760000.0
XMax: 6910000.0
YMax: 4930000.0
Spatial Reference: 3035
(3035)
Pixel Size X: 10000.0
Pixel Size Y: 10000.0
Band Count: 1
Pixel Type: F32
RasterFunction Infos: {"rasterFunctionInfos": [
{
"help": "",
"name": "MarineHotspots",
"description": "Combined marine depletion hotspots"
},
{
"help": "",
"name": "None",
"description": ""
}
]}
Mensuration Capabilities: Basic
Inspection Capabilities:
Has Histograms: true
Has Colormap: false
Has Multi Dimensions : false
Rendering Rule:
Min Scale: 0
Max Scale: 0
Copyright Text: UNEP-WCMC (2025). European combined hotspots of natural capital depletion in marine environments. Cambridge (UK): UNEP-WCMC
Service Data Type: esriImageServiceDataTypeGeneric
Min Values: 1
Max Values: 2
Mean Values: 1.1981176401492
Standard Deviation Values: 0.39858421128914001
Object ID Field:
Fields:
None
Default Mosaic Method: Center
Allowed Mosaic Methods:
SortField:
SortValue: N/A
Mosaic Operator: First
Default Compression Quality: 75
Default Resampling Method: Nearest
Max Record Count: null
Max Image Height: 4100
Max Image Width: 15000
Max Download Image Count: null
Max Mosaic Image Count: null
Allow Raster Function: true
Allow Copy: true
Allow Analysis: true
Allow Compute TiePoints: false
Supports Statistics: false
Supports Advanced Queries: false
Use StandardizedQueries: false
Raster Type Infos:
Name: Raster Dataset
Description: Supports all ArcGIS Raster Datasets
Help:
Has Raster Attribute Table: false
Edit Fields Info: N/A
Ownership Based AccessControl For Rasters: N/A
Child Resources:
Info
Histograms
Statistics
Key Properties
Legend
Raster Function Infos
Supported Operations:
Export Image
Identify
Measure
Compute Histograms
Compute Statistics Histograms
Get Samples
Compute Class Statistics
Query Boundary
Compute Pixel Location
Compute Angles
Validate
Project