{ "extent": { "ymin": 760000, "xmin": 590000, "ymax": 4930000, "xmax": 6910000, "spatialReference": { "latestWkid": 3035, "wkid": 3035 } }, "blockWidth": 632, "mosaicOperator": "First", "serviceSourceType": "esriImageServiceSourceTypeDataset", "hasMultidimensions": false, "maxImageWidth": 15000, "meanValues": [1.1981176401492], "hasColormap": false, "compressionType": "DEFLATE", "defaultCompressionQuality": 75, "maxValues": [2], "hasHistograms": true, "datasetFormat": "TIFF", "maxImageHeight": 4100, "sortField": "", "bandNames": ["Band_1"], "spatialReference": { "latestWkid": 3035, "wkid": 3035 }, "fullExtent": { "ymin": 760000, "xmin": 590000, "ymax": 4930000, "xmax": 6910000, "spatialReference": { "latestWkid": 3035, "wkid": 3035 } }, "bandCount": 1, "rasterFunctionInfos": [ { "help": "", "name": "MarineHotspots", "description": "Combined marine depletion hotspots" }, { "help": "", "name": "None", "description": "" } ], "supportsStatistics": false, "sortableFields": "", "minValues": [1], "allowRasterFunction": true, "allowComputeTiePoints": false, "serviceDataType": "esriImageServiceDataTypeGeneric", "supportsAdvancedQueries": false, "currentVersion": 12.1, "sortValue": null, "objectIdField": "", "blockHeight": 3, "initialExtent": { "ymin": 760000, "xmin": 590000, "ymax": 4930000, "xmax": 6910000, "spatialReference": { "latestWkid": 3035, "wkid": 3035 } }, "pixelSizeX": 10000, "pixelSizeY": 10000, "defaultMosaicMethod": "Center", "name": "Encore/EU_COM_MAR_DEP", "allowedMosaicMethods": "", "fields": [], "allowAnalysis": true, "hasRasterAttributeTable": false, "useStandardizedQueries": false, "description": "

Hotspots of stock depletion for both natural capital assets (sea surface temperature and\neutrophication<\/span>) were identified by extracting the 20% of grid cells\nwith the highest depletion values from each individual asset layer. The\ncombined map of marine depletion was created by overlaying the two natural\ncapital asset hotspot layers, and summing for each grid cell how many asset\nhotspots are present, to obtain a value between 0 (the area was not a hotspot\nof depletion for any asset) to two (the area was a hotspot of depletion for both\nassets).<\/p>
Download the\nguidance documentation here<\/a> for more information on the methodology, intended use cases and limitations.<\/p>", "pixelType": "F32", "meanPixelSize": 10000, "exportTilesAllowed": false, "editFieldsInfo": null, "rasterTypeInfos": [{ "help": "", "name": "Raster Dataset", "description": "Supports all ArcGIS Raster Datasets" }], "defaultResamplingMethod": "Nearest", "itemAccess": false, "minScale": 0, "serviceProperties": "Center<\/MosaicMethod>First<\/MosaicOperator>true<\/SortAscending><\/LockImageID><\/TileOrderField>0<\/TileOrderBase>0.000000<\/AvgImageSpacingX>0.000000<\/AvgImageSpacingY>0.0<\/ViewPointX>0.0<\/ViewPointY>0.0<\/ViewPointDefShiftX>0.0<\/ViewPointDefShiftY>None<\/CompressionMethod>75<\/CompressionQuality>0.010000<\/CompressionTolerance>Nearest<\/SamplingMethod><\/ImageServiceProperties><\/ImageServer>", "advancedQueryCapabilities": { "supportsStatistics": false, "supportsSqlExpression": false, "supportsOrderBy": false, "useStandardizedQueries": false, "supportsPagination": false, "supportsDistinct": false }, "serviceItemId": "352e2c98ceb04956ab75dc9385c667a2", "capabilities": "Image,Metadata,Mensuration", "maxScale": 0, "stdvValues": [0.39858421128914001], "allowedFields": "", "minPixelSize": 0, "noDataValues": ["NaN"], "sortAscending": true, "inspectionCapabilities": "", "maxPixelSize": 0, "noDataValue": "NaN", "allowedCompressions": "None,JPEG,LZ77,LERC", "uncompressedSize": 1054176, "serviceDescription": "

Hotspots of stock depletion for both natural capital assets (sea surface temperature and\neutrophication<\/span>) were identified by extracting the 20% of grid cells\nwith the highest depletion values from each individual asset layer. The\ncombined map of marine depletion was created by overlaying the two natural\ncapital asset hotspot layers, and summing for each grid cell how many asset\nhotspots are present, to obtain a value between 0 (the area was not a hotspot\nof depletion for any asset) to two (the area was a hotspot of depletion for both\nassets).<\/p>
Download the\nguidance documentation here<\/a> for more information on the methodology, intended use cases and limitations.<\/p>", "allowCopy": true, "copyrightText": "UNEP-WCMC (2025). European combined hotspots of natural capital depletion in marine environments. Cambridge (UK): UNEP-WCMC", "mensurationCapabilities": "Basic", "ownershipBasedAccessControlForRasters": null }