View In:
ArcGIS JavaScript
ArcGIS Online Map Viewer
ArcGIS Earth
Service Description: Climate/WorldClim_001_Bioclimatic_Variables
Name: Climate/WorldClim_001_Bioclimatic_Variables
Description:
Single Fused Map Cache: false
Extent:
XMin: -180.0
YMin: -90.0
XMax: 180.0
YMax: 90.0
Spatial Reference: 4326
(4326)
Initial Extent:
XMin: -180.0
YMin: -90.0
XMax: 180.0
YMax: 90.0
Spatial Reference: 4326
(4326)
Full Extent:
XMin: -180.0
YMin: -90.0
XMax: 180.0
YMax: 90.0
Spatial Reference: 4326
(4326)
Pixel Size X: 0.008333333333333333
Pixel Size Y: 0.008333333333333333
Band Count: 19
Pixel Type: F32
RasterFunction Infos: {"rasterFunctionInfos": [{
"help": "",
"name": "None",
"description": ""
}]}
Mensuration Capabilities: Basic
Inspection Capabilities:
Has Histograms: true
Has Colormap: false
Has Multi Dimensions : false
Rendering Rule:
Min Scale: 0
Max Scale: 0
Copyright Text:
Service Data Type: esriImageServiceDataTypeGeneric
Min Values: -54.770832061767578, -54.770832061767578, -54.770832061767578, -54.770832061767578, -54.770832061767578, -72.599998474121094, -72.599998474121094, -72.599998474121094, -72.599998474121094, -72.599998474121094, -72.599998474121094, -72.599998474121094, -72.599998474121094, -72.599998474121094, -72.599998474121094, -72.599998474121094, -72.599998474121094, -72.599998474121094, -72.599998474121094
Max Values: 31.387500762939453, 31.387500762939453, 100, 2382.524658203125, 2382.524658203125, 2382.524658203125, 2382.524658203125, 2382.524658203125, 2382.524658203125, 2382.524658203125, 2382.524658203125, 11256, 11256, 11256, 11256, 11256, 11256, 11256, 11256
Mean Values: -4.4446072755748034, 2.8258099552808051, 13.340621770275332, 232.8091150577136, 189.00489196036406, 154.10364479762859, 136.97320848164173, 119.68142481879076, 105.74515032892018, 95.864805803514344, 85.838798297492957, 123.03060836463179, 120.60149533897248, 113.01608192550825, 110.53646251820109, 118.35629083207282, 114.47075963197213, 116.58647685051113, 115.93033546378688
Standard Deviation Values: 24.705992532364839, 19.049716217697032, 24.077919537852853, 446.68243659187414, 409.13279618488463, 381.69970258888765, 355.89665966391607, 336.1976927128394, 319.50197008230992, 304.62581496338021, 292.28631691496184, 355.81789568849587, 343.1333044048834, 331.85983237851832, 320.94287586328352, 319.66462810199374, 311.28484095602073, 305.70765344860524, 300.45785613877683
Object ID Field:
Fields:
None
Default Mosaic Method: Center
Allowed Mosaic Methods:
SortField:
SortValue: N/A
Mosaic Operator: First
Default Compression Quality: 75
Default Resampling Method: Bilinear
Max Record Count: null
Max Image Height: 18986
Max Image Width: 40076
Max Download Image Count: null
Max Mosaic Image Count: null
Allow Raster Function: true
Allow Copy: true
Allow Analysis: true
Allow Compute TiePoints: false
Supports Statistics: false
Supports Advanced Queries: false
Use StandardizedQueries: false
Raster Type Infos:
Name: Raster Dataset
Description: Supports all ArcGIS Raster Datasets
Help:
Has Raster Attribute Table: false
Edit Fields Info: N/A
Ownership Based AccessControl For Rasters: N/A
Child Resources:
Info
Histograms
Statistics
Key Properties
Legend
Raster Function Infos
Supported Operations:
Export Image
Identify
Measure
Compute Histograms
Compute Statistics Histograms
Get Samples
Compute Class Statistics
Query Boundary
Compute Pixel Location
Compute Angles
Validate
Project