{
 "extent": {
  "ymin": -90,
  "xmin": -180,
  "ymax": 90,
  "xmax": 180,
  "spatialReference": {
   "latestWkid": 4326,
   "wkid": 4326
  }
 },
 "blockWidth": 128,
 "mosaicOperator": "First",
 "serviceSourceType": "esriImageServiceSourceTypeDataset",
 "hasMultidimensions": false,
 "maxImageWidth": 40076,
 "meanValues": [
  -4.4446072755748034,
  2.8258099552808051,
  13.340621770275332,
  232.8091150577136,
  189.00489196036406,
  154.10364479762859,
  136.97320848164173,
  119.68142481879076,
  105.74515032892018,
  95.864805803514344,
  85.838798297492957,
  123.03060836463179,
  120.60149533897248,
  113.01608192550825,
  110.53646251820109,
  118.35629083207282,
  114.47075963197213,
  116.58647685051113,
  115.93033546378688
 ],
 "hasColormap": false,
 "compressionType": "LZ77",
 "defaultCompressionQuality": 75,
 "maxValues": [
  31.387500762939453,
  31.387500762939453,
  100,
  2382.524658203125,
  2382.524658203125,
  2382.524658203125,
  2382.524658203125,
  2382.524658203125,
  2382.524658203125,
  2382.524658203125,
  2382.524658203125,
  11256,
  11256,
  11256,
  11256,
  11256,
  11256,
  11256,
  11256
 ],
 "hasHistograms": true,
 "datasetFormat": "SDR",
 "maxImageHeight": 18986,
 "sortField": "",
 "bandNames": [
  "Band_1",
  "Band_2",
  "Band_3",
  "Band_4",
  "Band_5",
  "Band_6",
  "Band_7",
  "Band_8",
  "Band_9",
  "Band_10",
  "Band_11",
  "Band_12",
  "Band_13",
  "Band_14",
  "Band_15",
  "Band_16",
  "Band_17",
  "Band_18",
  "Band_19"
 ],
 "spatialReference": {
  "latestWkid": 4326,
  "wkid": 4326
 },
 "fullExtent": {
  "ymin": -90,
  "xmin": -180,
  "ymax": 90,
  "xmax": 180,
  "spatialReference": {
   "latestWkid": 4326,
   "wkid": 4326
  }
 },
 "bandCount": 19,
 "rasterFunctionInfos": [
  {
   "help": "",
   "name": "None",
   "description": ""
  }
 ],
 "supportsStatistics": false,
 "sortableFields": "",
 "minValues": [
  -54.770832061767578,
  -54.770832061767578,
  -54.770832061767578,
  -54.770832061767578,
  -54.770832061767578,
  -72.599998474121094,
  -72.599998474121094,
  -72.599998474121094,
  -72.599998474121094,
  -72.599998474121094,
  -72.599998474121094,
  -72.599998474121094,
  -72.599998474121094,
  -72.599998474121094,
  -72.599998474121094,
  -72.599998474121094,
  -72.599998474121094,
  -72.599998474121094,
  -72.599998474121094
 ],
 "allowRasterFunction": true,
 "allowComputeTiePoints": false,
 "serviceDataType": "esriImageServiceDataTypeGeneric",
 "supportsAdvancedQueries": false,
 "currentVersion": 12.1,
 "sortValue": null,
 "objectIdField": "",
 "blockHeight": 128,
 "initialExtent": {
  "ymin": -90,
  "xmin": -180,
  "ymax": 90,
  "xmax": 180,
  "spatialReference": {
   "latestWkid": 4326,
   "wkid": 4326
  }
 },
 "pixelSizeX": 0.0083333333333333332,
 "pixelSizeY": 0.0083333333333333332,
 "defaultMosaicMethod": "Center",
 "name": "Climate/WorldClim_001_Bioclimatic_Variables",
 "allowedMosaicMethods": "",
 "fields": [],
 "allowAnalysis": true,
 "hasRasterAttributeTable": false,
 "useStandardizedQueries": false,
 "description": "",
 "pixelType": "F32",
 "meanPixelSize": 927.66242327727969,
 "exportTilesAllowed": false,
 "editFieldsInfo": null,
 "rasterTypeInfos": [
  {
   "help": "",
   "name": "Raster Dataset",
   "description": "Supports all ArcGIS Raster Datasets"
  }
 ],
 "defaultResamplingMethod": "Bilinear",
 "itemAccess": false,
 "minScale": 0,
 "serviceProperties": "Center<\/MosaicMethod>First<\/MosaicOperator>true<\/SortAscending><\/LockImageID><\/TileOrderField>0<\/TileOrderBase>0.000000<\/AvgImageSpacingX>0.000000<\/AvgImageSpacingY>0.0<\/ViewPointX>0.0<\/ViewPointY>0.0<\/ViewPointDefShiftX>0.0<\/ViewPointDefShiftY>None<\/CompressionMethod>75<\/CompressionQuality>0.010000<\/CompressionTolerance>Bilinear<\/SamplingMethod><\/ImageServiceProperties><\/ImageServer>",
 "advancedQueryCapabilities": {
  "supportsStatistics": false,
  "supportsSqlExpression": false,
  "supportsOrderBy": false,
  "useStandardizedQueries": false,
  "supportsPagination": false,
  "supportsDistinct": false
 },
 "serviceItemId": "156470b91c1a4c519edf09dd6b84b7c6",
 "capabilities": "Mensuration,Image,Metadata",
 "maxScale": 0,
 "stdvValues": [
  24.705992532364839,
  19.049716217697032,
  24.077919537852853,
  446.68243659187414,
  409.13279618488463,
  381.69970258888765,
  355.89665966391607,
  336.1976927128394,
  319.50197008230992,
  304.62581496338021,
  292.28631691496184,
  355.81789568849587,
  343.1333044048834,
  331.85983237851832,
  320.94287586328352,
  319.66462810199374,
  311.28484095602073,
  305.70765344860524,
  300.45785613877683
 ],
 "allowedFields": "",
 "minPixelSize": 0,
 "sortAscending": true,
 "inspectionCapabilities": "",
 "maxPixelSize": 0,
 "allowedCompressions": "None,JPEG,LZ77,LERC",
 "uncompressedSize": 70917120000,
 "serviceDescription": "Climate/WorldClim_001_Bioclimatic_Variables",
 "allowCopy": true,
 "copyrightText": "",
 "mensurationCapabilities": "Basic",
 "ownershipBasedAccessControlForRasters": null
}
