View In:
ArcGIS JavaScript
ArcGIS Online Map Viewer
ArcGIS Earth
Service Description: Depletion of water was defined as a decrease in the quantity and quality of water resources, which affects the delivery of ecosystem services such as freshwater provision and climate regulation.
Datasets from the WRI Aqueduct 2019, already included within the mapping function of ENCORE, were determined to be suitable indicators of depletion of water stocks. The World
Resources Institute’s Aqueduct 3.0 (WRI Aqueduct 2019) provides global data on 13 water
risk indicators, based on hydrological modelling, remotely sensed data, and published
datasets. For water quantity, the WRI Aqueduct 2019 Baseline Water Stress layer depicts the
ratio of total water withdrawals (including domestic, industrial, irrigation, and livestock
consumptive and non-consumptive uses) to available renewable surface and groundwater
supplies. For water quality, a sum of the WRI Aqueduct 2019 Unimproved/no sanitations and
Coastal eutrophication potential was used to capture the different pollution sources of
freshwater from domestic and economic activities. As outlined in the WRI Aqueduct tool:
- Coastal Eutrophication Potential measures “the potential for riverine loadings of
nitrogen, phosphorus and silica to stimulate harmful algal blooms in coastal waters”.
- Unimproved/no sanitation measures “the percentage of the population using pit
latrines without a slab or platform, hanging/bucket latrines, or directly disposing human
waste in fields, forests, bushes, open bodies of water, beaches, other open spaces, or
with solid waste”
Name: nchs_ter_water_dep
Description: Depletion of water was defined as a decrease in the quantity and quality of water resources, which affects the delivery of ecosystem services such as freshwater provision and climate regulation.
Datasets from the WRI Aqueduct 2019, already included within the mapping function of ENCORE, were determined to be suitable indicators of depletion of water stocks. The World
Resources Institute’s Aqueduct 3.0 (WRI Aqueduct 2019) provides global data on 13 water
risk indicators, based on hydrological modelling, remotely sensed data, and published
datasets. For water quantity, the WRI Aqueduct 2019 Baseline Water Stress layer depicts the
ratio of total water withdrawals (including domestic, industrial, irrigation, and livestock
consumptive and non-consumptive uses) to available renewable surface and groundwater
supplies. For water quality, a sum of the WRI Aqueduct 2019 Unimproved/no sanitations and
Coastal eutrophication potential was used to capture the different pollution sources of
freshwater from domestic and economic activities. As outlined in the WRI Aqueduct tool:
- Coastal Eutrophication Potential measures “the potential for riverine loadings of
nitrogen, phosphorus and silica to stimulate harmful algal blooms in coastal waters”.
- Unimproved/no sanitation measures “the percentage of the population using pit
latrines without a slab or platform, hanging/bucket latrines, or directly disposing human
waste in fields, forests, bushes, open bodies of water, beaches, other open spaces, or
with solid waste”
Single Fused Map Cache: false
Extent:
XMin: -180.0
YMin: -90.0
XMax: 180.0
YMax: 90.0
Spatial Reference: 4326
(4326)
Initial Extent:
XMin: -180.0
YMin: -90.0
XMax: 180.0
YMax: 90.0
Spatial Reference: 4326
(4326)
Full Extent:
XMin: -180.0
YMin: -90.0
XMax: 180.0
YMax: 90.0
Spatial Reference: 4326
(4326)
Pixel Size X: 0.25
Pixel Size Y: 0.25
Band Count: 1
Pixel Type: F32
RasterFunction Infos: {"rasterFunctionInfos": [
{
"help": "",
"name": "None",
"description": "Make a Raster or Raster Dataset into a Function Raster Dataset."
},
{
"help": "",
"name": "Water Depletion",
"description": "Styling for Water Depletion layer"
}
]}
Mensuration Capabilities: Basic
Inspection Capabilities:
Has Histograms: true
Has Colormap: false
Has Multi Dimensions : false
Rendering Rule:
Min Scale: 0
Max Scale: 0
Copyright Text: UNEP-WCMC. (2021). Global relative rate of natural capital depletion of water. Cambridge (UK): UNEP-WCMC. https://doi.org/10.34892/wtzc-j613
Service Data Type: esriImageServiceDataTypeGeneric
Min Values: 0
Max Values: 1
Mean Values: 0.70090903979794361
Standard Deviation Values: 0.089729842430330789
Object ID Field:
Fields:
None
Default Mosaic Method: Center
Allowed Mosaic Methods:
SortField:
SortValue: N/A
Mosaic Operator: First
Default Compression Quality: 75
Default Resampling Method: Bilinear
Max Record Count: null
Max Image Height: 18986
Max Image Width: 40076
Max Download Image Count: null
Max Mosaic Image Count: null
Allow Raster Function: true
Allow Copy: true
Allow Analysis: true
Allow Compute TiePoints: false
Supports Statistics: false
Supports Advanced Queries: false
Use StandardizedQueries: false
Raster Type Infos:
Name: Raster Dataset
Description: Supports all ArcGIS Raster Datasets
Help:
Has Raster Attribute Table: false
Edit Fields Info: N/A
Ownership Based AccessControl For Rasters: N/A
Child Resources:
Info
Histograms
Statistics
Key Properties
Legend
Raster Function Infos
Supported Operations:
Export Image
Identify
Measure
Compute Histograms
Compute Statistics Histograms
Get Samples
Compute Class Statistics
Query Boundary
Compute Pixel Location
Compute Angles
Validate
Project