View In:
ArcGIS JavaScript
ArcGIS Online Map Viewer
ArcGIS Earth
Service Description: nchs_combined_marine
Name: nchs_combined_marine
Description:
Single Fused Map Cache: false
Extent:
XMin: -180.0
YMin: -79.998688
XMax: 180.0
YMax: 80.251312
Spatial Reference: 4326
(4326)
Initial Extent:
XMin: -180.0
YMin: -79.998688
XMax: 180.0
YMax: 80.251312
Spatial Reference: 4326
(4326)
Full Extent:
XMin: -180.0
YMin: -79.998688
XMax: 180.0
YMax: 80.251312
Spatial Reference: 4326
(4326)
Pixel Size X: 0.25
Pixel Size Y: 0.25
Band Count: 1
Pixel Type: S32
RasterFunction Infos: {"rasterFunctionInfos": [
{
"help": "",
"name": "None",
"description": "Make a Raster or Raster Dataset into a Function Raster Dataset."
},
{
"help": "",
"name": "Marine Depletion",
"description": "Marine Depletion"
}
]}
Mensuration Capabilities: Basic
Inspection Capabilities:
Has Histograms: true
Has Colormap: false
Has Multi Dimensions : false
Rendering Rule:
Min Scale: 0
Max Scale: 0
Copyright Text:
Service Data Type: esriImageServiceDataTypeThematic
Min Values: 0
Max Values: 7
Mean Values: 0.2112411163113215
Standard Deviation Values: 0.55350690666133495
Object ID Field:
Fields:
None
Default Mosaic Method: Center
Allowed Mosaic Methods:
SortField:
SortValue: N/A
Mosaic Operator: First
Default Compression Quality: 75
Default Resampling Method: Bilinear
Max Record Count: null
Max Image Height: 18986
Max Image Width: 40076
Max Download Image Count: null
Max Mosaic Image Count: null
Allow Raster Function: true
Allow Copy: true
Allow Analysis: true
Allow Compute TiePoints: false
Supports Statistics: false
Supports Advanced Queries: false
Use StandardizedQueries: false
Raster Type Infos:
Name: Raster Dataset
Description: Supports all ArcGIS Raster Datasets
Help:
Has Raster Attribute Table: true
Edit Fields Info: N/A
Ownership Based AccessControl For Rasters: N/A
Child Resources:
Info
Raster Attribute Table
Histograms
Statistics
Key Properties
Legend
Raster Function Infos
Supported Operations:
Export Image
Identify
Measure
Compute Histograms
Compute Statistics Histograms
Get Samples
Compute Class Statistics
Query Boundary
Compute Pixel Location
Compute Angles
Validate
Project