View In:
ArcGIS JavaScript
ArcGIS Online Map Viewer
ArcGIS Earth
Service Description: WCMC_048_RestorationResilience
Name: WCMC_048_RestorationResilience
Description:
Single Fused Map Cache: false
Extent:
XMin: -180.00441663186973
YMin: -85.4297835197665
XMax: 180.00441663186973
YMax: 85.12435632316586
Spatial Reference: 4326
(4326)
Initial Extent:
XMin: -180.00441663186973
YMin: -85.4297835197665
XMax: 180.00441663186973
YMax: 85.12435632316586
Spatial Reference: 4326
(4326)
Full Extent:
XMin: -180.00441663186973
YMin: -85.4297835197665
XMax: 180.00441663186973
YMax: 85.12435632316586
Spatial Reference: 4326
(4326)
Pixel Size X: 0.008983152841195215
Pixel Size Y: 0.008983152841195215
Band Count: 2
Pixel Type: F32
RasterFunction Infos: {"rasterFunctionInfos": [{
"help": "",
"name": "None",
"description": ""
}]}
Mensuration Capabilities: Basic
Inspection Capabilities:
Has Histograms: true
Has Colormap: false
Has Multi Dimensions : false
Rendering Rule:
Min Scale: 0
Max Scale: 0
Copyright Text:
Service Data Type: esriImageServiceDataTypeGeneric
Min Values: 0, 0
Max Values: 0.90735125541687012, 7
Mean Values: 0.36485968203745583, 1.2934117128946254
Standard Deviation Values: 0.13223903856470343, 1.2466321165304997
Object ID Field:
Fields:
None
Default Mosaic Method: Center
Allowed Mosaic Methods:
SortField:
SortValue: N/A
Mosaic Operator: First
Default Compression Quality: 75
Default Resampling Method: Bilinear
Max Record Count: null
Max Image Height: 18986
Max Image Width: 40076
Max Download Image Count: null
Max Mosaic Image Count: null
Allow Raster Function: true
Allow Copy: true
Allow Analysis: true
Allow Compute TiePoints: false
Supports Statistics: false
Supports Advanced Queries: false
Use StandardizedQueries: false
Raster Type Infos:
Name: Raster Dataset
Description: Supports all ArcGIS Raster Datasets
Help:
Has Raster Attribute Table: false
Edit Fields Info: N/A
Ownership Based AccessControl For Rasters: N/A
Child Resources:
Info
Histograms
Statistics
Key Properties
Legend
Raster Function Infos
Supported Operations:
Export Image
Identify
Measure
Compute Histograms
Compute Statistics Histograms
Get Samples
Compute Class Statistics
Query Boundary
Compute Pixel Location
Compute Angles
Validate
Project