View In:
ArcGIS JavaScript
ArcGIS Online Map Viewer
ArcGIS Earth
Service Description: PriorityAreasForConservationOrRestoration/Restoration_Opportunities_Global
Name: PriorityAreasForConservationOrRestoration/Restoration_Opportunities_Global
Description:
Single Fused Map Cache: false
Extent:
XMin: -1.804500002620501E7
YMin: -9020000.000002138
XMax: 1.804018840254599E7
YMax: 9020000.0
Spatial Reference: 54009
(54009)
Initial Extent:
XMin: -1.804500002620501E7
YMin: -9020000.000002138
XMax: 1.804018840254599E7
YMax: 9020000.0
Spatial Reference: 54009
(54009)
Full Extent:
XMin: -1.804500002620501E7
YMin: -9020000.000002138
XMax: 1.804018840254599E7
YMax: 9020000.0
Spatial Reference: 54009
(54009)
Pixel Size X: 4999.3333927335825
Pixel Size Y: 5000.000000000593
Band Count: 1
Pixel Type: U8
RasterFunction Infos: {"rasterFunctionInfos": [{
"help": "",
"name": "None",
"description": ""
}]}
Mensuration Capabilities: Basic
Inspection Capabilities:
Has Histograms: true
Has Colormap: false
Has Multi Dimensions : false
Rendering Rule:
Min Scale: 0
Max Scale: 0
Copyright Text:
Service Data Type: esriImageServiceDataTypeGeneric
Min Values: 5
Max Values: 100
Mean Values: 52.495490458915441
Standard Deviation Values: 28.82933425487364
Object ID Field:
Fields:
None
Default Mosaic Method: Center
Allowed Mosaic Methods:
SortField:
SortValue: N/A
Mosaic Operator: First
Default Compression Quality: 75
Default Resampling Method: Bilinear
Max Record Count: null
Max Image Height: 18986
Max Image Width: 40076
Max Download Image Count: null
Max Mosaic Image Count: null
Allow Raster Function: true
Allow Copy: true
Allow Analysis: true
Allow Compute TiePoints: false
Supports Statistics: false
Supports Advanced Queries: false
Use StandardizedQueries: false
Raster Type Infos:
Name: Raster Dataset
Description: Supports all ArcGIS Raster Datasets
Help:
Has Raster Attribute Table: true
Edit Fields Info: N/A
Ownership Based AccessControl For Rasters: N/A
Child Resources:
Info
Raster Attribute Table
Histograms
Statistics
Key Properties
Legend
Raster Function Infos
Supported Operations:
Export Image
Identify
Measure
Compute Histograms
Compute Statistics Histograms
Get Samples
Compute Class Statistics
Query Boundary
Compute Pixel Location
Compute Angles
Validate
Project