View In:
ArcGIS JavaScript
ArcGIS Online Map Viewer
ArcGIS Earth
ArcMap
View Footprint In:
ArcGIS Online Map Viewer
Service Description: This dataset shows the total potential supply of clean water available to users in m. Water quantity in each pixel is calculated as the water balance (rainfall minus actual evapotranspiration) cumulated downstream. See Mulligan et al. (2013) for a description of the global water balance dataset. Potential water provisioning services for each cell are first calculated as the volume of clean water available from upstream. The volume of water is calculated as the downstream cumulated water balance based on (rainfall+fog+snowmelt)-actual evapotranspiration. All analyses were carried out using the WaterWorld (Mulligan 2013) and Co$ting Nature (Mulligan et al. 2010) ecosystem services assessment tools (https://www.policysupport.org.
Name: NatureMap_potential_clean_water_prov
Description: This dataset shows the total potential supply of clean water available to users in m. Water quantity in each pixel is calculated as the water balance (rainfall minus actual evapotranspiration) cumulated downstream. See Mulligan et al. (2013) for a description of the global water balance dataset. Potential water provisioning services for each cell are first calculated as the volume of clean water available from upstream. The volume of water is calculated as the downstream cumulated water balance based on (rainfall+fog+snowmelt)-actual evapotranspiration. All analyses were carried out using the WaterWorld (Mulligan 2013) and Co$ting Nature (Mulligan et al. 2010) ecosystem services assessment tools (https://www.policysupport.org.
Single Fused Map Cache: false
Extent:
XMin: -180
YMin: -56.083333333333
XMax: 179.99999999855999
YMax: 83.99999999944
Spatial Reference: 4326
(4326)
Initial Extent:
XMin: -180
YMin: -56.083333333333
XMax: 179.99999999855999
YMax: 83.99999999944
Spatial Reference: 4326
(4326)
Full Extent:
XMin: -180
YMin: -56.083333333333
XMax: 179.99999999855999
YMax: 83.99999999944
Spatial Reference: 4326
(4326)
Pixel Size X: 0.083333333333
Pixel Size Y: 0.08333333333300001
Band Count: 1
Pixel Type: F32
RasterFunction Infos: {"rasterFunctionInfos": [{
"name": "None",
"description": "",
"help": ""
}]}
Mensuration Capabilities: Basic
Has Histograms: true
Has Colormap: false
Has Multi Dimensions : false
Rendering Rule:
Min Scale: 0
Max Scale: 0
Copyright Text: Citation: Mulligan, M. (2019) Potential Clean Water Provision. Model results from the Costingnature version 3 policy support system (non commercial-use). http://www.policysupport.org/costingnature [prepared by user mark.mulligan_kcl.ac.uk]References:Mulligan, M. (2013) WaterWorld: a self-parameterising, physically based model for application in data-poor but problem-rich environments globally. Hydrology research 44, 5; 748-769.
Service Data Type: esriImageServiceDataTypeGeneric
Min Values: 0
Max Values: 798.8496704101562
Mean Values: 23.07588113743268
Standard Deviation Values: 44.58216148230257
Object ID Field:
Fields:
None
Default Mosaic Method: Center
Allowed Mosaic Methods:
SortField:
SortValue: null
Mosaic Operator: First
Default Compression Quality: 75
Default Resampling Method: Bilinear
Max Record Count: null
Max Image Height: 4100
Max Image Width: 15000
Max Download Image Count: null
Max Mosaic Image Count: null
Allow Raster Function: true
Allow Copy: true
Allow Analysis: true
Allow Compute TiePoints: false
Supports Statistics: false
Supports Advanced Queries: false
Use StandardizedQueries: true
Raster Type Infos:
Name: Raster Dataset
Description: Supports all ArcGIS Raster Datasets
Help:
Has Raster Attribute Table: false
Edit Fields Info: null
Ownership Based AccessControl For Rasters: null
Child Resources:
Info
Histograms
Statistics
Key Properties
Legend
Raster Function Infos
Supported Operations:
Export Image
Identify
Measure
Compute Histograms
Compute Statistics Histograms
Get Samples
Compute Class Statistics
Query Boundary
Compute Pixel Location
Compute Angles
Validate
Project