View In:
ArcGIS JavaScript
ArcGIS Online Map Viewer
ArcGIS Earth
Service Description: NatureMap_PotNatVegetation
Name: NatureMap_PotNatVegetation
Description:
Single Fused Map Cache: false
Extent:
XMin: -180.0
YMin: -62.00080943400002
XMax: 179.9999424
YMax: 87.37
Spatial Reference: 4326
(4326)
Initial Extent:
XMin: -180.0
YMin: -62.00080943400002
XMax: 179.9999424
YMax: 87.37
Spatial Reference: 4326
(4326)
Full Extent:
XMin: -180.0
YMin: -62.00080943400002
XMax: 179.9999424
YMax: 87.37
Spatial Reference: 4326
(4326)
Pixel Size X: 0.002083333
Pixel Size Y: 0.002083333
Band Count: 1
Pixel Type: U8
RasterFunction Infos: {"rasterFunctionInfos": [{
"help": "",
"name": "None",
"description": ""
}]}
Mensuration Capabilities: Basic
Inspection Capabilities:
Has Histograms: true
Has Colormap: false
Has Multi Dimensions : false
Rendering Rule:
Min Scale: 0
Max Scale: 0
Copyright Text:
Service Data Type: esriImageServiceDataTypeGeneric
Min Values: 20
Max Values: 127
Mean Values: 66.854162183671221
Standard Deviation Values: 42.206151504560601
Object ID Field:
Fields:
None
Default Mosaic Method: Center
Allowed Mosaic Methods:
SortField:
SortValue: N/A
Mosaic Operator: First
Default Compression Quality: 75
Default Resampling Method: Bilinear
Max Record Count: null
Max Image Height: 18986
Max Image Width: 40076
Max Download Image Count: null
Max Mosaic Image Count: null
Allow Raster Function: true
Allow Copy: true
Allow Analysis: true
Allow Compute TiePoints: false
Supports Statistics: false
Supports Advanced Queries: false
Use StandardizedQueries: false
Raster Type Infos:
Name: Raster Dataset
Description: Supports all ArcGIS Raster Datasets
Help:
Has Raster Attribute Table: true
Edit Fields Info: N/A
Ownership Based AccessControl For Rasters: N/A
Child Resources:
Info
Raster Attribute Table
Histograms
Statistics
Key Properties
Legend
Raster Function Infos
Supported Operations:
Export Image
Identify
Measure
Compute Histograms
Compute Statistics Histograms
Get Samples
Compute Class Statistics
Query Boundary
Compute Pixel Location
Compute Angles
Validate
Project