View In:
ArcGIS JavaScript
ArcGIS Online Map Viewer
ArcGIS Earth
Service Description: NatureMap_Cons10km_minshort_sptargets_BW
Name: NatureMap_Cons10km_minshort_sptargets_BW
Description:
Single Fused Map Cache: false
Extent:
XMin: -1.80395064946004E7
YMin: -8808752.15190002
XMax: 1.80304935053996E7
YMax: 8871247.84809998
Spatial Reference: 54009
(54009)
Initial Extent:
XMin: -1.80395064946004E7
YMin: -8808752.15190002
XMax: 1.80304935053996E7
YMax: 8871247.84809998
Spatial Reference: 54009
(54009)
Full Extent:
XMin: -1.80395064946004E7
YMin: -8808752.15190002
XMax: 1.80304935053996E7
YMax: 8871247.84809998
Spatial Reference: 54009
(54009)
Pixel Size X: 10000.0
Pixel Size Y: 10000.0
Band Count: 1
Pixel Type: S16
RasterFunction Infos: {"rasterFunctionInfos": [{
"help": "",
"name": "None",
"description": ""
}]}
Mensuration Capabilities: Basic
Inspection Capabilities:
Has Histograms: true
Has Colormap: false
Has Multi Dimensions : false
Rendering Rule:
Min Scale: 0
Max Scale: 0
Copyright Text:
Service Data Type: esriImageServiceDataTypeGeneric
Min Values: 1
Max Values: 100
Mean Values: 51.029077168460404
Standard Deviation Values: 29.003358891237802
Object ID Field:
Fields:
None
Default Mosaic Method: Center
Allowed Mosaic Methods:
SortField:
SortValue: N/A
Mosaic Operator: First
Default Compression Quality: 75
Default Resampling Method: Bilinear
Max Record Count: null
Max Image Height: 18986
Max Image Width: 40076
Max Download Image Count: null
Max Mosaic Image Count: null
Allow Raster Function: true
Allow Copy: true
Allow Analysis: true
Allow Compute TiePoints: false
Supports Statistics: false
Supports Advanced Queries: false
Use StandardizedQueries: false
Raster Type Infos:
Name: Raster Dataset
Description: Supports all ArcGIS Raster Datasets
Help:
Has Raster Attribute Table: false
Edit Fields Info: N/A
Ownership Based AccessControl For Rasters: N/A
Child Resources:
Info
Histograms
Statistics
Key Properties
Legend
Raster Function Infos
Supported Operations:
Export Image
Identify
Measure
Compute Histograms
Compute Statistics Histograms
Get Samples
Compute Class Statistics
Query Boundary
Compute Pixel Location
Compute Angles
Validate
Project