View In:
ArcGIS JavaScript
ArcGIS Online Map Viewer
ArcGIS Earth
Service Description: NatureMap/Threatened_species_richness
Name: NatureMap/Threatened_species_richness
Description:
Single Fused Map Cache: false
Extent:
XMin: -2.00369741381E7
YMin: -1.9589728605300006E7
XMax: 2.0026963164000005E7
YMax: 2.12665863298E7
Spatial Reference: 102100
(3857)
Initial Extent:
XMin: -2.00369741381E7
YMin: -1.9589728605300006E7
XMax: 2.0026963164000005E7
YMax: 2.12665863298E7
Spatial Reference: 102100
(3857)
Full Extent:
XMin: -2.00369741381E7
YMin: -1.9589728605300006E7
XMax: 2.0026963164000005E7
YMax: 2.12665863298E7
Spatial Reference: 102100
(3857)
Pixel Size X: 11166.091778734672
Pixel Size Y: 9111.577817818912
Band Count: 1
Pixel Type: F32
RasterFunction Infos: {"rasterFunctionInfos": [{
"help": "",
"name": "None",
"description": ""
}]}
Mensuration Capabilities: Basic
Inspection Capabilities:
Has Histograms: true
Has Colormap: false
Has Multi Dimensions : false
Rendering Rule:
Min Scale: 0
Max Scale: 0
Copyright Text:
Service Data Type: esriImageServiceDataTypeGeneric
Min Values: 0
Max Values: 1
Mean Values: 0.019803528686768344
Standard Deviation Values: 0.03889399412121787
Object ID Field:
Fields:
None
Default Mosaic Method: Center
Allowed Mosaic Methods:
SortField:
SortValue: N/A
Mosaic Operator: First
Default Compression Quality: 75
Default Resampling Method: Bilinear
Max Record Count: null
Max Image Height: 18986
Max Image Width: 40076
Max Download Image Count: null
Max Mosaic Image Count: null
Allow Raster Function: true
Allow Copy: true
Allow Analysis: true
Allow Compute TiePoints: false
Supports Statistics: false
Supports Advanced Queries: false
Use StandardizedQueries: false
Raster Type Infos:
Name: Raster Dataset
Description: Supports all ArcGIS Raster Datasets
Help:
Has Raster Attribute Table: false
Edit Fields Info: N/A
Ownership Based AccessControl For Rasters: N/A
Child Resources:
Info
Histograms
Statistics
Key Properties
Legend
Raster Function Infos
Supported Operations:
Export Image
Identify
Measure
Compute Histograms
Compute Statistics Histograms
Get Samples
Compute Class Statistics
Query Boundary
Compute Pixel Location
Compute Angles
Validate
Project