View In:
ArcGIS JavaScript
ArcGIS Online Map Viewer
ArcGIS Earth
Service Description: NatureMap/NatureMap_VulnerableSoilCarbon
Name: NatureMap/NatureMap_VulnerableSoilCarbon
Description:
Single Fused Map Cache: false
Extent:
XMin: -180.0
YMin: -90.000804954
XMax: 180.00202573299993
YMax: 90.001249579
Spatial Reference: 4326
(4326)
Initial Extent:
XMin: -180.0
YMin: -90.000804954
XMax: 180.00202573299993
YMax: 90.001249579
Spatial Reference: 4326
(4326)
Full Extent:
XMin: -180.0
YMin: -90.000804954
XMax: 180.00202573299993
YMax: 90.001249579
Spatial Reference: 4326
(4326)
Pixel Size X: 0.0020833329999999997
Pixel Size Y: 0.002083333
Band Count: 1
Pixel Type: F32
RasterFunction Infos: {"rasterFunctionInfos": [{
"help": "",
"name": "None",
"description": ""
}]}
Mensuration Capabilities: Basic
Inspection Capabilities:
Has Histograms: true
Has Colormap: false
Has Multi Dimensions : false
Rendering Rule:
Min Scale: 0
Max Scale: 0
Copyright Text:
Service Data Type: esriImageServiceDataTypeGeneric
Min Values: -400
Max Values: 1895.4000244140625
Mean Values: 52.768991901041758
Standard Deviation Values: 76.054534886801406
Object ID Field:
Fields:
None
Default Mosaic Method: Center
Allowed Mosaic Methods:
SortField:
SortValue: N/A
Mosaic Operator: First
Default Compression Quality: 75
Default Resampling Method: Bilinear
Max Record Count: null
Max Image Height: 18986
Max Image Width: 40076
Max Download Image Count: null
Max Mosaic Image Count: null
Allow Raster Function: true
Allow Copy: true
Allow Analysis: true
Allow Compute TiePoints: false
Supports Statistics: false
Supports Advanced Queries: false
Use StandardizedQueries: false
Raster Type Infos:
Name: Raster Dataset
Description: Supports all ArcGIS Raster Datasets
Help:
Has Raster Attribute Table: false
Edit Fields Info: N/A
Ownership Based AccessControl For Rasters: N/A
Child Resources:
Info
Histograms
Statistics
Key Properties
Legend
Raster Function Infos
Supported Operations:
Export Image
Identify
Measure
Compute Histograms
Compute Statistics Histograms
Get Samples
Compute Class Statistics
Query Boundary
Compute Pixel Location
Compute Angles
Validate
Project