View In:
ArcGIS JavaScript
ArcGIS Online Map Viewer
ArcGIS Earth
Service Description: NatureMap/NatureMap_HabitatTypes
Name: NatureMap/NatureMap_HabitatTypes
Description:
Single Fused Map Cache: false
Extent:
XMin: -180.00082337073326
YMin: -90.00041168536663
XMax: 180.00082337073326
YMax: 90.00041168536663
Spatial Reference: 4326
(4326)
Initial Extent:
XMin: -180.00082337073326
YMin: -90.00041168536663
XMax: 180.00082337073326
YMax: 90.00041168536663
Spatial Reference: 4326
(4326)
Full Extent:
XMin: -180.00082337073326
YMin: -90.00041168536663
XMax: 180.00082337073326
YMax: 90.00041168536663
Spatial Reference: 4326
(4326)
Pixel Size X: 8.983152841195215E-4
Pixel Size Y: 8.983152841195215E-4
Band Count: 1
Pixel Type: U16
RasterFunction Infos: {"rasterFunctionInfos": [{
"help": "",
"name": "None",
"description": ""
}]}
Mensuration Capabilities: Basic
Inspection Capabilities:
Has Histograms: true
Has Colormap: false
Has Multi Dimensions : false
Rendering Rule:
Min Scale: 0
Max Scale: 0
Copyright Text:
Service Data Type: esriImageServiceDataTypeGeneric
Min Values: 100
Max Values: 1405
Mean Values: 918.31738721261399
Standard Deviation Values: 319.27145713341292
Object ID Field:
Fields:
None
Default Mosaic Method: Center
Allowed Mosaic Methods:
SortField:
SortValue: N/A
Mosaic Operator: First
Default Compression Quality: 75
Default Resampling Method: Nearest
Max Record Count: null
Max Image Height: 200376
Max Image Width: 400752
Max Download Image Count: null
Max Mosaic Image Count: null
Allow Raster Function: true
Allow Copy: true
Allow Analysis: true
Allow Compute TiePoints: false
Supports Statistics: false
Supports Advanced Queries: false
Use StandardizedQueries: false
Raster Type Infos:
Name: Raster Dataset
Description: Supports all ArcGIS Raster Datasets
Help:
Has Raster Attribute Table: true
Edit Fields Info: N/A
Ownership Based AccessControl For Rasters: N/A
Child Resources:
Info
Raster Attribute Table
Histograms
Statistics
Key Properties
Legend
Raster Function Infos
Supported Operations:
Export Image
Identify
Measure
Compute Histograms
Compute Statistics Histograms
Get Samples
Compute Class Statistics
Query Boundary
Compute Pixel Location
Compute Angles
Validate
Project