View In:
ArcGIS JavaScript
ArcGIS Online Map Viewer
ArcGIS Earth
Service Description: NatureMap/NatureMapLiveBiomassCarbon
Name: NatureMap/NatureMapLiveBiomassCarbon
Description:
Single Fused Map Cache: false
Extent:
XMin: -179.99950396825395
YMin: -79.3268849206344
XMax: 180.00049603174492
YMax: 89.00049603174602
Spatial Reference: 4326
(4326)
Initial Extent:
XMin: -179.99950396825395
YMin: -79.3268849206344
XMax: 180.00049603174492
YMax: 89.00049603174602
Spatial Reference: 4326
(4326)
Full Extent:
XMin: -179.99950396825395
YMin: -79.3268849206344
XMax: 180.00049603174492
YMax: 89.00049603174602
Spatial Reference: 4326
(4326)
Pixel Size X: 9.92063492063489E-4
Pixel Size Y: 9.92063492063489E-4
Band Count: 1
Pixel Type: U16
RasterFunction Infos: {"rasterFunctionInfos": [{
"help": "",
"name": "None",
"description": ""
}]}
Mensuration Capabilities: Basic
Inspection Capabilities:
Has Histograms: true
Has Colormap: false
Has Multi Dimensions : false
Rendering Rule:
Min Scale: 0
Max Scale: 0
Copyright Text:
Service Data Type: esriImageServiceDataTypeGeneric
Min Values: 0
Max Values: 496
Mean Values: 26.997494680552514
Standard Deviation Values: 47.198435068236613
Object ID Field:
Fields:
None
Default Mosaic Method: Center
Allowed Mosaic Methods:
SortField:
SortValue: N/A
Mosaic Operator: First
Default Compression Quality: 75
Default Resampling Method: Bilinear
Max Record Count: null
Max Image Height: 18986
Max Image Width: 40076
Max Download Image Count: null
Max Mosaic Image Count: null
Allow Raster Function: true
Allow Copy: true
Allow Analysis: true
Allow Compute TiePoints: false
Supports Statistics: false
Supports Advanced Queries: false
Use StandardizedQueries: false
Raster Type Infos:
Name: Raster Dataset
Description: Supports all ArcGIS Raster Datasets
Help:
Has Raster Attribute Table: true
Edit Fields Info: N/A
Ownership Based AccessControl For Rasters: N/A
Child Resources:
Info
Raster Attribute Table
Histograms
Statistics
Key Properties
Legend
Raster Function Infos
Supported Operations:
Export Image
Identify
Measure
Compute Histograms
Compute Statistics Histograms
Get Samples
Compute Class Statistics
Query Boundary
Compute Pixel Location
Compute Angles
Validate
Project