View In:
ArcGIS JavaScript
ArcGIS Online Map Viewer
ArcGIS Earth
Service Description: Hosted/unep_wcmc_eii
Name: Hosted/unep_wcmc_eii
Description:
Single Fused Map Cache: false
Extent:
XMin: -178.9354214437675
YMin: -55.33622150176251
XMax: 179.99580512950348
YMax: 79.99964950734443
Spatial Reference: 4326
(4326)
Initial Extent:
XMin: -178.9354214437675
YMin: -55.33622150176251
XMax: 179.99580512950348
YMax: 79.99964950734443
Spatial Reference: 4326
(4326)
Full Extent:
XMin: -178.9354214437675
YMin: -55.33622150176251
XMax: 179.99580512950348
YMax: 79.99964950734443
Spatial Reference: 4326
(4326)
Pixel Size X: 0.00998862432719071
Pixel Size Y: 0.00998862432719071
Band Count: 1
Pixel Type: F32
RasterFunction Infos: {"rasterFunctionInfos": [{
"help": "",
"name": "None",
"description": ""
}]}
Mensuration Capabilities: Basic
Inspection Capabilities:
Has Histograms: true
Has Colormap: false
Has Multi Dimensions : false
Rendering Rule:
Min Scale: 0
Max Scale: 0
Copyright Text:
Service Data Type: esriImageServiceDataTypeGeneric
Min Values: 0.00078296760329976678
Max Values: 1
Mean Values: 0.7992613764145714
Standard Deviation Values: 0.24275168064316791
Object ID Field:
Fields:
None
Default Mosaic Method: Center
Allowed Mosaic Methods:
SortField:
SortValue: N/A
Mosaic Operator: First
Default Compression Quality: 75
Default Resampling Method: Bilinear
Max Record Count: null
Max Image Height: 18986
Max Image Width: 40076
Max Download Image Count: null
Max Mosaic Image Count: null
Allow Raster Function: true
Allow Copy: true
Allow Analysis: true
Allow Compute TiePoints: false
Supports Statistics: false
Supports Advanced Queries: false
Use StandardizedQueries: false
Raster Type Infos:
Name: Raster Dataset
Description: Supports all ArcGIS Raster Datasets
Help:
Has Raster Attribute Table: false
Edit Fields Info: N/A
Ownership Based AccessControl For Rasters: N/A
Child Resources:
Info
Histograms
Statistics
Key Properties
Legend
Raster Function Infos
Supported Operations:
Export Image
Identify
Measure
Compute Histograms
Compute Statistics Histograms
Get Samples
Compute Class Statistics
Query Boundary
Compute Pixel Location
Compute Angles
Validate
Project