View In:
ArcGIS JavaScript
ArcGIS Online Map Viewer
ArcGIS Earth
Service Description: HabitatsAndBiotopes/Mur001_IntertidalMarsh
Name: HabitatsAndBiotopes/Mur001_IntertidalMarsh
Description:
Single Fused Map Cache: false
Extent:
XMin: -2.0037510000000004E7
YMin: -8399737.15308212
XMax: 2.0037510000000004E7
YMax: 8399737.15308212
Spatial Reference: 102100
(3857)
Initial Extent:
XMin: -2.0037510000000004E7
YMin: -8399737.15308212
XMax: 2.0037510000000004E7
YMax: 8399737.15308212
Spatial Reference: 102100
(3857)
Full Extent:
XMin: -2.0037510000000004E7
YMin: -8399737.15308212
XMax: 2.0037510000000004E7
YMax: 8399737.15308212
Spatial Reference: 102100
(3857)
Pixel Size X: 30.000000000000007
Pixel Size Y: 30.628476452098187
Band Count: 1
Pixel Type: U8
RasterFunction Infos: {"rasterFunctionInfos": [{
"help": "",
"name": "None",
"description": ""
}]}
Mensuration Capabilities: Basic
Inspection Capabilities:
Has Histograms: true
Has Colormap: false
Has Multi Dimensions : false
Rendering Rule:
Min Scale: 0
Max Scale: 0
Copyright Text:
Service Data Type: esriImageServiceDataTypeGeneric
Min Values: 0
Max Values: 1
Mean Values: 0.00022643109717708737
Standard Deviation Values: 0.015045923904397083
Object ID Field:
Fields:
None
Default Mosaic Method: Center
Allowed Mosaic Methods:
SortField:
SortValue: N/A
Mosaic Operator: First
Default Compression Quality: 75
Default Resampling Method: Bilinear
Max Record Count: null
Max Image Height: 4100
Max Image Width: 15000
Max Download Image Count: null
Max Mosaic Image Count: null
Allow Raster Function: true
Allow Copy: true
Allow Analysis: true
Allow Compute TiePoints: false
Supports Statistics: false
Supports Advanced Queries: false
Use StandardizedQueries: false
Raster Type Infos:
Name: Raster Dataset
Description: Supports all ArcGIS Raster Datasets
Help:
Has Raster Attribute Table: true
Edit Fields Info: N/A
Ownership Based AccessControl For Rasters: N/A
Child Resources:
Info
Raster Attribute Table
Histograms
Statistics
Key Properties
Legend
Raster Function Infos
Supported Operations:
Export Image
Identify
Measure
Compute Histograms
Compute Statistics Histograms
Get Samples
Compute Class Statistics
Query Boundary
Compute Pixel Location
Compute Angles
Validate
Project