View In:
ArcGIS JavaScript
ArcGIS Online Map Viewer
ArcGIS Earth
Service Description: Soil and sediment
depletion in this analysis is defined as reductions in both the quantity and
quality of soils, including losses of soil carbon stocks, which in turn impact
ecosystem services such as sediment retention, biomass production and climate
regulation. To capture these pressures, the assessment incorporated a total of
15 different spatial data layers, covering the period from 2001–2020,
representing various aspects of soil and sediment condition across the region. These
include:
- Erosion by tillage, water and wind.
- Elements such as arsenic, zinc,
cadmium, copper and mercury in excess of average or background levels normally
occurring in soils.
- Deficiency and excess of phosphorus.
- Excess of nitrogen.
- Change in soil organic carbon.
- Threats to soil biology.
- Packing density
(a proxy for susceptibility to soil compaction).
Download the
guidance documentation here for more information on the methodology, intended use cases and limitations.
Name: Encore/EU_NAT_CAP_DEP_SOIL
Description: Soil and sediment
depletion in this analysis is defined as reductions in both the quantity and
quality of soils, including losses of soil carbon stocks, which in turn impact
ecosystem services such as sediment retention, biomass production and climate
regulation. To capture these pressures, the assessment incorporated a total of
15 different spatial data layers, covering the period from 2001–2020,
representing various aspects of soil and sediment condition across the region. These
include:
- Erosion by tillage, water and wind.
- Elements such as arsenic, zinc,
cadmium, copper and mercury in excess of average or background levels normally
occurring in soils.
- Deficiency and excess of phosphorus.
- Excess of nitrogen.
- Change in soil organic carbon.
- Threats to soil biology.
- Packing density
(a proxy for susceptibility to soil compaction).
Download the
guidance documentation here for more information on the methodology, intended use cases and limitations.
Single Fused Map Cache: false
Extent:
XMin: 2637000.0
YMin: 1387000.0
XMax: 6525000.0
YMax: 5307000.0
Spatial Reference: 3035
(3035)
Initial Extent:
XMin: 2637000.0
YMin: 1387000.0
XMax: 6525000.0
YMax: 5307000.0
Spatial Reference: 3035
(3035)
Full Extent:
XMin: 2637000.0
YMin: 1387000.0
XMax: 6525000.0
YMax: 5307000.0
Spatial Reference: 3035
(3035)
Pixel Size X: 1000.0
Pixel Size Y: 1000.0
Band Count: 1
Pixel Type: F32
RasterFunction Infos: {"rasterFunctionInfos": [{
"help": "",
"name": "None",
"description": ""
}]}
Mensuration Capabilities: Basic
Inspection Capabilities:
Has Histograms: false
Has Colormap: false
Has Multi Dimensions : false
Rendering Rule:
Min Scale: 0
Max Scale: 0
Copyright Text: UNEP-WCMC (2025). European relative rate of natural capital depletion of soil and sediments. Cambridge (UK): UNEP-WCMC: DOI
Service Data Type: esriImageServiceDataTypeGeneric
Min Values: N/A
Max Values: N/A
Mean Values: N/A
Standard Deviation Values: N/A
Object ID Field:
Fields:
None
Default Mosaic Method: Center
Allowed Mosaic Methods:
SortField:
SortValue: N/A
Mosaic Operator: First
Default Compression Quality: 75
Default Resampling Method: Bilinear
Max Record Count: null
Max Image Height: 4100
Max Image Width: 15000
Max Download Image Count: null
Max Mosaic Image Count: null
Allow Raster Function: true
Allow Copy: true
Allow Analysis: true
Allow Compute TiePoints: false
Supports Statistics: false
Supports Advanced Queries: false
Use StandardizedQueries: false
Raster Type Infos:
Name: Raster Dataset
Description: Supports all ArcGIS Raster Datasets
Help:
Has Raster Attribute Table: false
Edit Fields Info: N/A
Ownership Based AccessControl For Rasters: N/A
Child Resources:
Info
Statistics
Key Properties
Legend
Raster Function Infos
Supported Operations:
Export Image
Identify
Measure
Compute Histograms
Compute Statistics Histograms
Get Samples
Compute Class Statistics
Query Boundary
Compute Pixel Location
Compute Angles
Validate
Project