View In:
ArcGIS JavaScript
ArcGIS Online Map Viewer
ArcGIS Earth
Service Description: Depletion
of the water asset is defined in this analysis as a reduction in the quantity
and/or quality of freshwater resources. Such degradation can adversely affect
ecosystem services such as water purification, water flow regulation and
climate regulation. This assessment used datasets capturing lake water quality,
specifically turbidity and the trophic state index, as well as a dataset
measuring changes in water extent (fraction of water loss) to identify areas
where water assets are under pressure.
Changes
were analyzed for the period 2016–2020.
Download the
guidance documentation here for more information on the methodology, intended use cases and limitations.
Name: Encore/EU_NAT_CAP_DEP_H2O
Description: Depletion
of the water asset is defined in this analysis as a reduction in the quantity
and/or quality of freshwater resources. Such degradation can adversely affect
ecosystem services such as water purification, water flow regulation and
climate regulation. This assessment used datasets capturing lake water quality,
specifically turbidity and the trophic state index, as well as a dataset
measuring changes in water extent (fraction of water loss) to identify areas
where water assets are under pressure.
Changes
were analyzed for the period 2016–2020.
Download the
guidance documentation here for more information on the methodology, intended use cases and limitations.
Single Fused Map Cache: false
Extent:
XMin: 2550000.0
YMin: 1360000.0
XMax: 7340000.0
YMax: 5500000.0
Spatial Reference: 3035
(3035)
Initial Extent:
XMin: 2550000.0
YMin: 1360000.0
XMax: 7340000.0
YMax: 5500000.0
Spatial Reference: 3035
(3035)
Full Extent:
XMin: 2550000.0
YMin: 1360000.0
XMax: 7340000.0
YMax: 5500000.0
Spatial Reference: 3035
(3035)
Pixel Size X: 1000.0
Pixel Size Y: 1000.0
Band Count: 1
Pixel Type: F32
RasterFunction Infos: {"rasterFunctionInfos": [{
"help": "",
"name": "None",
"description": ""
}]}
Mensuration Capabilities: Basic
Inspection Capabilities:
Has Histograms: false
Has Colormap: false
Has Multi Dimensions : false
Rendering Rule:
Min Scale: 0
Max Scale: 0
Copyright Text: UNEP-WCMC (2025). European relative rate of natural capital depletion of water. Cambridge (UK): UNEP-WCMC: DOI
Service Data Type: esriImageServiceDataTypeGeneric
Min Values: N/A
Max Values: N/A
Mean Values: N/A
Standard Deviation Values: N/A
Object ID Field:
Fields:
None
Default Mosaic Method: Center
Allowed Mosaic Methods:
SortField:
SortValue: N/A
Mosaic Operator: First
Default Compression Quality: 75
Default Resampling Method: Bilinear
Max Record Count: null
Max Image Height: 4140
Max Image Width: 15000
Max Download Image Count: null
Max Mosaic Image Count: null
Allow Raster Function: true
Allow Copy: true
Allow Analysis: true
Allow Compute TiePoints: false
Supports Statistics: false
Supports Advanced Queries: false
Use StandardizedQueries: false
Raster Type Infos:
Name: Raster Dataset
Description: Supports all ArcGIS Raster Datasets
Help:
Has Raster Attribute Table: false
Edit Fields Info: N/A
Ownership Based AccessControl For Rasters: N/A
Child Resources:
Info
Statistics
Key Properties
Legend
Raster Function Infos
Supported Operations:
Export Image
Identify
Measure
Compute Histograms
Compute Statistics Histograms
Get Samples
Compute Class Statistics
Query Boundary
Compute Pixel Location
Compute Angles
Validate
Project