View In:
ArcGIS JavaScript
ArcGIS Online Map Viewer
ArcGIS Earth
Service Description: ClimaticRegions/GMBA_Mountain_Bioclimatic_Belts
Name: ClimaticRegions/GMBA_Mountain_Bioclimatic_Belts
Description:
Single Fused Map Cache: false
Extent:
XMin: -180.0208333
YMin: -59.52060429999996
XMax: 179.97859069999998
YMax: 83.6458333
Spatial Reference: 4326
(4326)
Initial Extent:
XMin: -180.0208333
YMin: -59.52060429999996
XMax: 179.97859069999998
YMax: 83.6458333
Spatial Reference: 4326
(4326)
Full Extent:
XMin: -180.0208333
YMin: -59.52060429999996
XMax: 179.97859069999998
YMax: 83.6458333
Spatial Reference: 4326
(4326)
Pixel Size X: 0.0416666
Pixel Size Y: 0.04166659999999999
Band Count: 1
Pixel Type: U8
RasterFunction Infos: {"rasterFunctionInfos": [{
"help": "",
"name": "None",
"description": ""
}]}
Mensuration Capabilities: Basic
Inspection Capabilities:
Has Histograms: true
Has Colormap: true
Has Multi Dimensions : false
Rendering Rule:
Min Scale: 0
Max Scale: 0
Copyright Text:
Service Data Type: esriImageServiceDataTypeGeneric
Min Values: 0
Max Values: 7
Mean Values: 1.5207305986845652
Standard Deviation Values: 2.5323117431848043
Object ID Field:
Fields:
None
Default Mosaic Method: Center
Allowed Mosaic Methods:
SortField:
SortValue: N/A
Mosaic Operator: First
Default Compression Quality: 75
Default Resampling Method: Bilinear
Max Record Count: null
Max Image Height: 18986
Max Image Width: 40076
Max Download Image Count: null
Max Mosaic Image Count: null
Allow Raster Function: true
Allow Copy: true
Allow Analysis: true
Allow Compute TiePoints: false
Supports Statistics: false
Supports Advanced Queries: false
Use StandardizedQueries: false
Raster Type Infos:
Name: Raster Dataset
Description: Supports all ArcGIS Raster Datasets
Help:
Has Raster Attribute Table: true
Edit Fields Info: N/A
Ownership Based AccessControl For Rasters: N/A
Child Resources:
Info
Raster Attribute Table
Histograms
Statistics
Key Properties
Color Map
Legend
Raster Function Infos
Supported Operations:
Export Image
Identify
Measure
Compute Histograms
Compute Statistics Histograms
Get Samples
Compute Class Statistics
Query Boundary
Compute Pixel Location
Compute Angles
Validate
Project