{
 "extent": {
  "ymin": -10007000,
  "xmin": -19730000,
  "ymax": 10009000,
  "xmax": 19734000,
  "spatialReference": {
   "wkt": "PROJCS[\"Sphere_ARC_INFO_Robinson_ARC_INFO\",GEOGCS[\"GCS_Sphere_ARC_INFO\",DATUM[\"D_Sphere_ARC_INFO\",SPHEROID[\"Sphere_ARC_INFO\",6370997.0,0.0]],PRIMEM[\"Greenwich\",0.0],UNIT[\"Degree\",0.0174532925199433]],PROJECTION[\"Robinson_ARC_INFO\"],PARAMETER[\"False_Easting\",0.0],PARAMETER[\"False_Northing\",0.0],PARAMETER[\"Central_Meridian\",0.0],UNIT[\"Meter\",1.0]]",
   "wkt2": "PROJCRS[\"Sphere_ARC_INFO_Robinson_ARC_INFO\",BASEGEOGCRS[\"GCS_Sphere_ARC_INFO\",DATUM[\"D_Sphere_ARC_INFO\",ELLIPSOID[\"Sphere_ARC_INFO\",6370997.0,0.0]],PRIMEM[\"Greenwich\",0.0],CS[ellipsoidal,2],AXIS[\"Longitude (lon)\",east,ORDER[1]],AXIS[\"Latitude (lat)\",north,ORDER[2]],ANGLEUNIT[\"Degree\",0.0174532925199433]],CONVERSION[\"Robinson_ARC_INFO\",METHOD[\"Robinson_ARC_INFO\"],PARAMETER[\"False_Easting\",0.0],PARAMETER[\"False_Northing\",0.0],PARAMETER[\"Central_Meridian\",0.0]],CS[Cartesian,2],AXIS[\"Easting (X)\",east,ORDER[1]],AXIS[\"Northing (Y)\",north,ORDER[2]],LENGTHUNIT[\"Meter\",1.0]]"
  }
 },
 "blockWidth": 128,
 "mosaicOperator": "First",
 "serviceSourceType": "esriImageServiceSourceTypeDataset",
 "hasMultidimensions": false,
 "maxImageWidth": 40076,
 "meanValues": [
  4.3526174707407668
 ],
 "hasColormap": false,
 "compressionType": "LZ77",
 "defaultCompressionQuality": 75,
 "maxValues": [
  7
 ],
 "hasHistograms": true,
 "datasetFormat": "SDR",
 "maxImageHeight": 18986,
 "sortField": "",
 "bandNames": [
  "Band_1"
 ],
 "spatialReference": {
  "wkt": "PROJCS[\"Sphere_ARC_INFO_Robinson_ARC_INFO\",GEOGCS[\"GCS_Sphere_ARC_INFO\",DATUM[\"D_Sphere_ARC_INFO\",SPHEROID[\"Sphere_ARC_INFO\",6370997.0,0.0]],PRIMEM[\"Greenwich\",0.0],UNIT[\"Degree\",0.0174532925199433]],PROJECTION[\"Robinson_ARC_INFO\"],PARAMETER[\"False_Easting\",0.0],PARAMETER[\"False_Northing\",0.0],PARAMETER[\"Central_Meridian\",0.0],UNIT[\"Meter\",1.0]]",
  "wkt2": "PROJCRS[\"Sphere_ARC_INFO_Robinson_ARC_INFO\",BASEGEOGCRS[\"GCS_Sphere_ARC_INFO\",DATUM[\"D_Sphere_ARC_INFO\",ELLIPSOID[\"Sphere_ARC_INFO\",6370997.0,0.0]],PRIMEM[\"Greenwich\",0.0],CS[ellipsoidal,2],AXIS[\"Longitude (lon)\",east,ORDER[1]],AXIS[\"Latitude (lat)\",north,ORDER[2]],ANGLEUNIT[\"Degree\",0.0174532925199433]],CONVERSION[\"Robinson_ARC_INFO\",METHOD[\"Robinson_ARC_INFO\"],PARAMETER[\"False_Easting\",0.0],PARAMETER[\"False_Northing\",0.0],PARAMETER[\"Central_Meridian\",0.0]],CS[Cartesian,2],AXIS[\"Easting (X)\",east,ORDER[1]],AXIS[\"Northing (Y)\",north,ORDER[2]],LENGTHUNIT[\"Meter\",1.0]]"
 },
 "fullExtent": {
  "ymin": -10007000,
  "xmin": -19730000,
  "ymax": 10009000,
  "xmax": 19734000,
  "spatialReference": {
   "wkt": "PROJCS[\"Sphere_ARC_INFO_Robinson_ARC_INFO\",GEOGCS[\"GCS_Sphere_ARC_INFO\",DATUM[\"D_Sphere_ARC_INFO\",SPHEROID[\"Sphere_ARC_INFO\",6370997.0,0.0]],PRIMEM[\"Greenwich\",0.0],UNIT[\"Degree\",0.0174532925199433]],PROJECTION[\"Robinson_ARC_INFO\"],PARAMETER[\"False_Easting\",0.0],PARAMETER[\"False_Northing\",0.0],PARAMETER[\"Central_Meridian\",0.0],UNIT[\"Meter\",1.0]]",
   "wkt2": "PROJCRS[\"Sphere_ARC_INFO_Robinson_ARC_INFO\",BASEGEOGCRS[\"GCS_Sphere_ARC_INFO\",DATUM[\"D_Sphere_ARC_INFO\",ELLIPSOID[\"Sphere_ARC_INFO\",6370997.0,0.0]],PRIMEM[\"Greenwich\",0.0],CS[ellipsoidal,2],AXIS[\"Longitude (lon)\",east,ORDER[1]],AXIS[\"Latitude (lat)\",north,ORDER[2]],ANGLEUNIT[\"Degree\",0.0174532925199433]],CONVERSION[\"Robinson_ARC_INFO\",METHOD[\"Robinson_ARC_INFO\"],PARAMETER[\"False_Easting\",0.0],PARAMETER[\"False_Northing\",0.0],PARAMETER[\"Central_Meridian\",0.0]],CS[Cartesian,2],AXIS[\"Easting (X)\",east,ORDER[1]],AXIS[\"Northing (Y)\",north,ORDER[2]],LENGTHUNIT[\"Meter\",1.0]]"
  }
 },
 "bandCount": 1,
 "rasterFunctionInfos": [
  {
   "help": "",
   "name": "None",
   "description": ""
  }
 ],
 "supportsStatistics": false,
 "sortableFields": "",
 "minValues": [
  1
 ],
 "allowRasterFunction": true,
 "allowComputeTiePoints": false,
 "serviceDataType": "esriImageServiceDataTypeGeneric",
 "supportsAdvancedQueries": false,
 "currentVersion": 12.1,
 "sortValue": null,
 "objectIdField": "",
 "blockHeight": 128,
 "initialExtent": {
  "ymin": -10007000,
  "xmin": -19730000,
  "ymax": 10009000,
  "xmax": 19734000,
  "spatialReference": {
   "wkt": "PROJCS[\"Sphere_ARC_INFO_Robinson_ARC_INFO\",GEOGCS[\"GCS_Sphere_ARC_INFO\",DATUM[\"D_Sphere_ARC_INFO\",SPHEROID[\"Sphere_ARC_INFO\",6370997.0,0.0]],PRIMEM[\"Greenwich\",0.0],UNIT[\"Degree\",0.0174532925199433]],PROJECTION[\"Robinson_ARC_INFO\"],PARAMETER[\"False_Easting\",0.0],PARAMETER[\"False_Northing\",0.0],PARAMETER[\"Central_Meridian\",0.0],UNIT[\"Meter\",1.0]]",
   "wkt2": "PROJCRS[\"Sphere_ARC_INFO_Robinson_ARC_INFO\",BASEGEOGCRS[\"GCS_Sphere_ARC_INFO\",DATUM[\"D_Sphere_ARC_INFO\",ELLIPSOID[\"Sphere_ARC_INFO\",6370997.0,0.0]],PRIMEM[\"Greenwich\",0.0],CS[ellipsoidal,2],AXIS[\"Longitude (lon)\",east,ORDER[1]],AXIS[\"Latitude (lat)\",north,ORDER[2]],ANGLEUNIT[\"Degree\",0.0174532925199433]],CONVERSION[\"Robinson_ARC_INFO\",METHOD[\"Robinson_ARC_INFO\"],PARAMETER[\"False_Easting\",0.0],PARAMETER[\"False_Northing\",0.0],PARAMETER[\"Central_Meridian\",0.0]],CS[Cartesian,2],AXIS[\"Easting (X)\",east,ORDER[1]],AXIS[\"Northing (Y)\",north,ORDER[2]],LENGTHUNIT[\"Meter\",1.0]]"
  }
 },
 "pixelSizeX": 1000,
 "pixelSizeY": 1000,
 "defaultMosaicMethod": "Center",
 "name": "wcmc_mountains_02",
 "allowedMosaicMethods": "",
 "fields": [],
 "allowAnalysis": true,
 "hasRasterAttributeTable": true,
 "useStandardizedQueries": false,
 "description": "",
 "pixelType": "U4",
 "meanPixelSize": 1000,
 "exportTilesAllowed": false,
 "editFieldsInfo": null,
 "rasterTypeInfos": [
  {
   "help": "",
   "name": "Raster Dataset",
   "description": "Supports all ArcGIS Raster Datasets"
  }
 ],
 "defaultResamplingMethod": "Bilinear",
 "itemAccess": false,
 "minScale": 0,
 "serviceProperties": "Center<\/MosaicMethod>First<\/MosaicOperator>true<\/SortAscending><\/LockImageID><\/TileOrderField>0<\/TileOrderBase>0.000000<\/AvgImageSpacingX>0.000000<\/AvgImageSpacingY>0.0<\/ViewPointX>0.0<\/ViewPointY>0.0<\/ViewPointDefShiftX>0.0<\/ViewPointDefShiftY>None<\/CompressionMethod>75<\/CompressionQuality>0.010000<\/CompressionTolerance>Bilinear<\/SamplingMethod><\/ImageServiceProperties><\/ImageServer>",
 "advancedQueryCapabilities": {
  "supportsStatistics": false,
  "supportsSqlExpression": false,
  "supportsOrderBy": false,
  "useStandardizedQueries": false,
  "supportsPagination": false,
  "supportsDistinct": false
 },
 "serviceItemId": "24757c931e56489dbe94422b0807dea3",
 "capabilities": "Mensuration,Image,Metadata",
 "maxScale": 0,
 "stdvValues": [
  1.5576678035935696
 ],
 "allowedFields": "",
 "minPixelSize": 0,
 "sortAscending": true,
 "inspectionCapabilities": "",
 "maxPixelSize": 0,
 "allowedCompressions": "None,JPEG,LZ77,LERC",
 "uncompressedSize": 394955712,
 "serviceDescription": "wcmc_mountains_02",
 "allowCopy": true,
 "copyrightText": "",
 "mensurationCapabilities": "Basic",
 "ownershipBasedAccessControlForRasters": null
}
