<?xml version="1.0" encoding="UTF-8" standalone="no"?>
<metadata xml:lang="en">
<Esri>
<CreaDate>20210211</CreaDate>
<CreaTime>11322100</CreaTime>
<ArcGISFormat>1.0</ArcGISFormat>
<SyncOnce>FALSE</SyncOnce>
<DataProperties>
<lineage>
<Process Date="20210211" Time="113222" ToolSource="c:\program files\arcgis\pro\Resources\ArcToolbox\toolboxes\Data Management Tools.tbx\CopyRaster">CopyRaster C:\Users\OsgurM\Downloads\Mountains_and_Tree_Cover_in_Mountain_Regions_2002\Mountain_UNEP-WCMC_2002\r01_mnt_zn "C:\Users\OsgurM\Documents\ArcGIS\Projects\Data Mgmt\Internal_Geodatabase.sde\arcgis_geodatabase.sde.r01_mnt_zn" # # 0 NONE NONE # NONE NONE "Esri Grid format" NONE CURRENT_SLICE NO_TRANSPOSE</Process>
<Process Date="20210211" Time="145538" ToolSource="c:\program files\arcgis\pro\Resources\ArcToolbox\Toolboxes\Data Management Tools.tbx\Rename">Rename "C:\Users\OsgurM\Documents\ArcGIS\Projects\Data Mgmt\Internal_Geodatabase.sde\arcgis_geodatabase.sde.r01_mnt_zn" "C:\Users\OsgurM\Documents\ArcGIS\Projects\Data Mgmt\Internal_Geodatabase.sde\arcgis_geodatabase.sde.wcmc_mountains_2002" RasterDataset</Process>
</lineage>
<itemProps>
<imsContentType>002</imsContentType>
<itemName Sync="TRUE">arcgis_geodatabase.sde.r01_mnt_zn</itemName>
<nativeExtBox>
<westBL Sync="TRUE">-19730000.000000</westBL>
<eastBL Sync="TRUE">19734000.000000</eastBL>
<southBL Sync="TRUE">-10007000.000000</southBL>
<northBL Sync="TRUE">10009000.000000</northBL>
<exTypeCode Sync="TRUE">1</exTypeCode>
</nativeExtBox>
<itemLocation>
<linkage Sync="TRUE">Server=10.2.1.241; Service=sde:postgresql:10.2.1.241; Database=arcgis_geodatabase; User=sde; Version=sde.DEFAULT</linkage>
<protocol Sync="TRUE">ArcSDE Connection</protocol>
</itemLocation>
</itemProps>
<coordRef>
<type Sync="TRUE">Projected</type>
<geogcsn Sync="TRUE">GCS_Sphere_ARC_INFO</geogcsn>
<csUnits Sync="TRUE">Linear Unit: Meter (1.000000)</csUnits>
<projcsn Sync="TRUE">Sphere_ARC_INFO_Robinson_ARC_INFO</projcsn>
<peXml Sync="TRUE">&lt;ProjectedCoordinateSystem xsi:type='typens:ProjectedCoordinateSystem' xmlns:xsi='http://www.w3.org/2001/XMLSchema-instance' xmlns:xs='http://www.w3.org/2001/XMLSchema' xmlns:typens='http://www.esri.com/schemas/ArcGIS/2.7.0'&gt;&lt;WKT&gt;PROJCS[&amp;quot;Sphere_ARC_INFO_Robinson_ARC_INFO&amp;quot;,GEOGCS[&amp;quot;GCS_Sphere_ARC_INFO&amp;quot;,DATUM[&amp;quot;D_Sphere_ARC_INFO&amp;quot;,SPHEROID[&amp;quot;Sphere_ARC_INFO&amp;quot;,6370997.0,0.0]],PRIMEM[&amp;quot;Greenwich&amp;quot;,0.0],UNIT[&amp;quot;Degree&amp;quot;,0.0174532925199433]],PROJECTION[&amp;quot;Robinson_ARC_INFO&amp;quot;],PARAMETER[&amp;quot;False_Easting&amp;quot;,0.0],PARAMETER[&amp;quot;False_Northing&amp;quot;,0.0],PARAMETER[&amp;quot;Central_Meridian&amp;quot;,0.0],UNIT[&amp;quot;Meter&amp;quot;,1.0]]&lt;/WKT&gt;&lt;XOrigin&gt;-19731000&lt;/XOrigin&gt;&lt;YOrigin&gt;-10007700&lt;/YOrigin&gt;&lt;XYScale&gt;228249943.10326365&lt;/XYScale&gt;&lt;ZOrigin&gt;-100000&lt;/ZOrigin&gt;&lt;ZScale&gt;10000&lt;/ZScale&gt;&lt;MOrigin&gt;-100000&lt;/MOrigin&gt;&lt;MScale&gt;10000&lt;/MScale&gt;&lt;XYTolerance&gt;0.001&lt;/XYTolerance&gt;&lt;ZTolerance&gt;0.00020000000000000001&lt;/ZTolerance&gt;&lt;MTolerance&gt;0.00020000000000000001&lt;/MTolerance&gt;&lt;HighPrecision&gt;true&lt;/HighPrecision&gt;&lt;/ProjectedCoordinateSystem&gt;</peXml>
</coordRef>
</DataProperties>
<SyncDate>20210211</SyncDate>
<SyncTime>14530800</SyncTime>
<ModDate>20210211</ModDate>
<ModTime>14530800</ModTime>
</Esri>
<mdLang>
<languageCode value="eng">
</languageCode>
<countryCode Sync="TRUE" value="GBR"/>
</mdLang>
<mdChar>
<CharSetCd value="004"/>
</mdChar>
<mdHrLv>
<ScopeCd value="005"/>
</mdHrLv>
<mdHrLvName Sync="TRUE">dataset</mdHrLvName>
<mdContact>
<rpIndName>The person responsible for the metadata information.</rpIndName>
<rpOrgName>The organization responsible for the metadata information.</rpOrgName>
<rpCntInfo>
<cntPhone>
<voiceNum>The telephone number by which individuals can speak to the organization or individual.</voiceNum>
</cntPhone>
<cntAddress addressType="the mailing and/or physical address for the organization or individual.">
<city>The city of the address.</city>
<adminArea>The state or province of the address.</adminArea>
<postCode>The ZIP or other postal code of the address.</postCode>
</cntAddress>
</rpCntInfo>
<role>
<RoleCd value="007"/>
</role>
</mdContact>
<mdDateSt>20110914</mdDateSt>
<mdStanName>ArcGIS Metadata</mdStanName>
<mdStanVer>1.0</mdStanVer>
<distInfo>
<distributor>
<distorFormat>
</distorFormat>
</distributor>
<distTranOps>
<onLineSrc>
<linkage>\\wcmc-data-01.internal.wcmc\gis\SpatialAnalysisUnit\Datasets-May2006\Mountain_UNEP-WCMC_2002\Mountain_UNEP-WCMC_2002\mollweide\mtn_02m</linkage>
</onLineSrc>
</distTranOps>
<distFormat>
<formatName Sync="TRUE">Enterprise Geodatabase Raster Dataset</formatName>
</distFormat>
</distInfo>
<dataIdInfo>
<idCitation>
<resTitle>wcmc_mountains_02</resTitle>
<date>
<pubDate>2002</pubDate>
</date>
<citRespParty>
<rpOrgName>UNEP-WCMC</rpOrgName>
<role>
<RoleCd value="006"/>
</role>
</citRespParty>
<presForm>
<PresFormCd value="005"/>
</presForm>
<presForm>
<fgdcGeoform>raster digital data</fgdcGeoform>
</presForm>
</idCitation>
<idAbs>The map shows the location of mountain land estimated from a digital elevation model using criteria based on elevation alone (the upper three classes: &gt; 2 500 metres) and at lower elevation, on a combination of elevation, slope and local elevation range.</idAbs>
<idPurp>To provide a global context for a discussion of mountain forests, it is first necessary to define the locations and types of mountain forests, and this in turn...</idPurp>
<idStatus>
<ProgCd value="001"/>
</idStatus>
<resMaint>
<maintFreq>
<MaintFreqCd value="011"/>
</maintFreq>
</resMaint>
<themeKeys>
<keyword>mountains</keyword>
<keyword>elevation</keyword>
<keyword>Mountain Watch</keyword>
<keyword>global</keyword>
<keyword>dem</keyword>
<thesaName>
<resTitle>Reference to a formally registered thesaurus or a similar authoritative source of theme keywords.</resTitle>
</thesaName>
</themeKeys>
<searchKeys>
<keyword>mountains</keyword>
<keyword>elevation</keyword>
<keyword>Mountain Watch</keyword>
<keyword>global</keyword>
<keyword>dem</keyword>
</searchKeys>
<resConst>
<Consts>
<useLimit>1) Adhere to terms and conditions of access, 2) acknowledge the source appropriately, 3) do not re-distribute part or all of data without contacting UNEP-WCMC.</useLimit>
</Consts>
</resConst>
<resConst>
<LegConsts>
<accessConsts>
<RestrictCd value="008"/>
</accessConsts>
<othConsts>Downloadable via the UNEP-WCMC website.</othConsts>
</LegConsts>
</resConst>
<spatRpType>
<SpatRepTypCd value="002"/>
</spatRpType>
<dataLang>
<languageCode value="eng"/>
<countryCode Sync="TRUE" value="GBR"/>
</dataLang>
<tpCat>
<TopicCatCd value="006"/>
</tpCat>
<envirDesc>Microsoft Windows XP Version 5.1 (Build 2600) Service Pack 3; ESRI ArcCatalog 9.3.1.4000</envirDesc>
<dataExt>
<geoEle>
<GeoBndBox>
<exTypeCode>true</exTypeCode>
<westBL>-179.999989</westBL>
<eastBL>179.999989</eastBL>
<northBL>89.999679</northBL>
<southBL>-89.983498</southBL>
</GeoBndBox>
</geoEle>
</dataExt>
<dataExt>
<exDesc>2002</exDesc>
<tempEle>
<TempExtent>
<exTemp>
<TM_Instant>
<tmPosition/>
</TM_Instant>
</exTemp>
</TempExtent>
</tempEle>
<geoEle/>
</dataExt>
<suppInfo>This is an update of the Mountain's of the World 2000 dataset.
Sources: Mountains derived from U.S. Geological Survey National Mapping Division, EROS Data Center (EDC) (1996) GTOPO30.</suppInfo>
<dataExt>
<geoEle>
<GeoBndBox esriExtentType="search">
<exTypeCode Sync="TRUE">1</exTypeCode>
<westBL Sync="TRUE">-179.999993</westBL>
<eastBL Sync="TRUE">179.999993</eastBL>
<northBL Sync="TRUE">89.999986</northBL>
<southBL Sync="TRUE">-89.984638</southBL>
</GeoBndBox>
</geoEle>
</dataExt>
<idCredit/>
</dataIdInfo>
<dqInfo>
<dqScope>
<scpLvl>
<ScopeCd value="005"/>
</scpLvl>
</dqScope>
<dataLineage>
<prcStep>
<stepDesc>Metadata imported.</stepDesc>
<stepDateTm>2011-09-14T17:33:04</stepDateTm>
<stepSrc type="used">
<srcCitatn>
<resAltTitle>D:\temp2\mtn_02g.xml</resAltTitle>
</srcCitatn>
</stepSrc>
</prcStep>
</dataLineage>
</dqInfo>
<spatRepInfo>
<Georect>
<numDims>3</numDims>
<axisDimension type="001">
<dimSize>18040</dimSize>
<dimResol>
<value Sync="TRUE" uom="m">1000.000000</value>
</dimResol>
</axisDimension>
<axisDimension type="002">
<dimSize>36079</dimSize>
<dimResol>
<value Sync="TRUE" uom="m">1000.000000</value>
</dimResol>
</axisDimension>
<axisDimension type="003">
<dimSize>1</dimSize>
</axisDimension>
<cellGeo>
<CellGeoCd Sync="TRUE" value="002"/>
</cellGeo>
<tranParaAv Sync="TRUE">1</tranParaAv>
<chkPtAv Sync="TRUE">0</chkPtAv>
<cornerPts>
<pos Sync="TRUE">-18039306.398711 -9019952.159944</pos>
</cornerPts>
<cornerPts>
<pos Sync="TRUE">-18039306.398711 9020047.840056</pos>
</cornerPts>
<cornerPts>
<pos Sync="TRUE">18039693.601289 9020047.840056</pos>
</cornerPts>
<cornerPts>
<pos Sync="TRUE">18039693.601289 -9019952.159944</pos>
</cornerPts>
<centerPt>
<pos Sync="TRUE">193.601289 47.840056</pos>
</centerPt>
<ptInPixel>
<PixOrientCd Sync="TRUE" value="001"/>
</ptInPixel>
</Georect>
</spatRepInfo>
<refSysInfo>
<RefSystem>
<refSysID>
<identCode Sync="TRUE" code="0"/>
</refSysID>
</RefSystem>
</refSysInfo>
<contInfo>
<ImgDesc>
<contentTyp>
<ContentTypCd Sync="TRUE" value="003"/>
</contentTyp>
<covDim>
<Band>
<dimDescrp Sync="TRUE">mtn_02m</dimDescrp>
<maxVal Sync="TRUE">7.000000</maxVal>
<minVal Sync="TRUE">1.000000</minVal>
<bitsPerVal Sync="TRUE">4</bitsPerVal>
<valUnit>
<UOM type="length"/>
</valUnit>
</Band>
</covDim>
</ImgDesc>
</contInfo>
<eainfo>
<detailed Name="arcgis_geodatabase.sde.SDE_VAT_56">
<enttyp>
<enttypl Sync="TRUE">arcgis_geodatabase.sde.SDE_VAT_56</enttypl>
<enttypt Sync="TRUE">Table</enttypt>
<enttypc Sync="TRUE">7</enttypc>
</enttyp>
<attr>
<attrlabl Sync="TRUE">objectid</attrlabl>
<attalias Sync="TRUE">objectid</attalias>
<attrtype Sync="TRUE">OID</attrtype>
<attwidth Sync="TRUE">4</attwidth>
<atprecis Sync="TRUE">10</atprecis>
<attscale Sync="TRUE">0</attscale>
<attrdef Sync="TRUE">Internal feature number.</attrdef>
<attrdefs Sync="TRUE">Esri</attrdefs>
<attrdomv>
<udom Sync="TRUE">Sequential unique whole numbers that are automatically generated.</udom>
</attrdomv>
</attr>
<attr>
<attrlabl Sync="TRUE">VALUE</attrlabl>
<attalias Sync="TRUE">VALUE</attalias>
<attrtype Sync="TRUE">Integer</attrtype>
<attwidth Sync="TRUE">4</attwidth>
<atprecis Sync="TRUE">0</atprecis>
<attscale Sync="TRUE">0</attscale>
</attr>
<attr>
<attrlabl Sync="TRUE">COUNT</attrlabl>
<attalias Sync="TRUE">COUNT</attalias>
<attrtype Sync="TRUE">Integer</attrtype>
<attwidth Sync="TRUE">4</attwidth>
<atprecis Sync="TRUE">0</atprecis>
<attscale Sync="TRUE">0</attscale>
</attr>
</detailed>
</eainfo>
<spdoinfo>
<rastinfo>
<rasttype Sync="TRUE">Pixel</rasttype>
<rowcount Sync="TRUE">20016</rowcount>
<colcount Sync="TRUE">39464</colcount>
<rastxsz Sync="TRUE">1000.000000</rastxsz>
<rastysz Sync="TRUE">1000.000000</rastysz>
<rastbpp Sync="TRUE">4</rastbpp>
<vrtcount Sync="TRUE">1</vrtcount>
<rastorig Sync="TRUE">Upper Left</rastorig>
<rastcmap Sync="TRUE">FALSE</rastcmap>
<rastcomp Sync="TRUE">LZ77</rastcomp>
<rastband Sync="TRUE">1</rastband>
<rastdtyp Sync="TRUE">pixel codes</rastdtyp>
<rastifor Sync="TRUE">SDR</rastifor>
<rastplyr Sync="TRUE">TRUE</rastplyr>
</rastinfo>
</spdoinfo>
<spref>
<horizsys>
<planar>
<planci>
<plance Sync="TRUE">row and column</plance>
<coordrep>
<absres Sync="TRUE">1000.000000</absres>
<ordres Sync="TRUE">1000.000000</ordres>
</coordrep>
</planci>
</planar>
</horizsys>
</spref>
</metadata>
