<?xml version="1.0" encoding="UTF-8" standalone="no"?>
<metadata xml:lang="en">
<Esri>
<CreaDate>20110914</CreaDate>
<CreaTime>17111200</CreaTime>
<SyncOnce>FALSE</SyncOnce>
<SyncDate>20110914</SyncDate>
<SyncTime>17523000</SyncTime>
<ModDate>20110914</ModDate>
<ModTime>17534900</ModTime>
<ArcGISFormat>1.0</ArcGISFormat>
<DataProperties>
<itemProps>
<imsContentType>002</imsContentType>
</itemProps>
<lineage>
<Process Date="20210211" Time="111044" ToolSource="c:\program files\arcgis\pro\Resources\ArcToolbox\toolboxes\Data Management Tools.tbx\CopyRaster">CopyRaster C:\Users\OsgurM\Downloads\Mountains_and_Tree_Cover_in_Mountain_Regions_2002\Mountain_UNEP-WCMC_2002\Mountains_Tree_cover_modis\tc_mtn_02g "C:\Users\OsgurM\Documents\ArcGIS\Projects\Data Mgmt\Internal_Geodatabase.sde\arcgis_geodatabase.sde.tc_mtn_02g" # # -128 NONE NONE # NONE NONE "Esri Grid format" NONE CURRENT_SLICE NO_TRANSPOSE</Process>
</lineage>
</DataProperties>
</Esri>
<idinfo>
<native>Microsoft Windows XP Version 5.1 (Build 2600) Service Pack 3; ESRI ArcCatalog 9.3.1.4000</native>
<descript>
<langdata>en</langdata>
<abstract>This map was created by overlaying the data from Mountains of the World - 2002 with a global data set on percent tree cover. The percent tree cover data are taken from MODIS 1-km resolution percent tree cover data set, courtesy of University of Maryland Global Land Cover Facility.
</abstract>
<purpose>Mountain forests provide a range of services to mountain communities and to people outside mountain areas, and have a key role in the maintenance of global
biodiversity. Species richness, density and forest height tend to reduce with increasing altitude; the boundary between forest vegetation and more open ground cover at higher elevation 'the treeline' is an ecological marker signifying the transition to more extreme climatic conditions.</purpose>
<supplinf>for further information please see :
UNEP World Conservation Monitoring Centre: Mountain Watch, 2002</supplinf>
</descript>
<citation>
<citeinfo>
<origin>UNEP-WCMC</origin>
<pubdate>2002</pubdate>
<title>Percent Tree Cover in Mountain Regions 2002</title>
<ftname>tc_mtn_02g</ftname>
<onlink>\\wcmc-data-01.internal.wcmc\gis\SpatialAnalysisUnit\Datasets-May2006\Mountain_UNEP-WCMC_2002\Mountains_Tree_cover_modis\tc_mtn_02g</onlink>
<geoform>raster digital data</geoform>
<othercit>Sources: Mountains derived from U.S. Geological Survey National Mapping Division, EROS Data Center (EDC) (1996) GTOPO30.
Source: MODIS 1-km resolution percent tree cover data set,
courtesy of University of Maryland Global Land Cover Facility</othercit>
</citeinfo>
</citation>
<timeperd>
<current>2002</current>
<timeinfo>
<sngdate>
<caldate>The year (and optionally month, or month and day) for which the data set corresponds to the ground.</caldate>
</sngdate>
</timeinfo>
</timeperd>
<status>
<progress>Complete</progress>
<update>None planned</update>
</status>
<spdom>
<bounding>
<westbc>-179.999993</westbc>
<eastbc>179.999993</eastbc>
<northbc>90.016646</northbc>
<southbc>-89.983347</southbc>
</bounding>
<lboundng>
<leftbc>-179.999993</leftbc>
<rightbc>179.999993</rightbc>
<bottombc>-89.983347</bottombc>
<topbc>90.016646</topbc>
</lboundng>
</spdom>
<keywords>
<theme>
<themekt>Reference to a formally registered thesaurus or a similar authoritative source of theme keywords.</themekt>
<themekey>Tree cover</themekey>
<themekey>Modis</themekey>
<themekey>global</themekey>
<themekey>dem</themekey>
<themekey>mountains</themekey>
</theme>
</keywords>
<accconst>Downloadable via the UNEP-WCMC website.</accconst>
<useconst>1) Adhere to terms and conditions of access, 2) acknowledge the source appropriately, 3) do not re-distribute part or all of data without contacting UNEP-WCMC.</useconst>
<natvform>Raster Dataset</natvform>
</idinfo>
<metainfo>
<langmeta>en</langmeta>
<metstdn>FGDC Content Standards for Digital Geospatial Metadata</metstdn>
<metstdv>FGDC-STD-001-1998</metstdv>
<mettc>local time</mettc>
<metc>
<cntinfo>
<cntorgp>
<cntper>The person responsible for the metadata information.</cntper>
<cntorg>The organization responsible for the metadata information.</cntorg>
</cntorgp>
<cntaddr>
<addrtype>The mailing and/or physical address for the organization or individual.</addrtype>
<city>The city of the address.</city>
<state>The state or province of the address.</state>
<postal>The ZIP or other postal code of the address.</postal>
</cntaddr>
<cntvoice>The telephone number by which individuals can speak to the organization or individual.</cntvoice>
</cntinfo>
</metc>
<metd>20110914</metd>
<metextns>
<onlink>http://www.esri.com/metadata/esriprof80.html</onlink>
<metprof>ESRI Metadata Profile</metprof>
</metextns>
</metainfo>
<distinfo>
<resdesc>Downloadable Data</resdesc>
<stdorder>
<digform>
<digtinfo>
<transize>0.716</transize>
<dssize>0.716</dssize>
</digtinfo>
</digform>
</stdorder>
<distrib>
<cntinfo>
<cntperp>
<cntorg>UNEP-WCMC</cntorg>
</cntperp>
<cntaddr>
<addrtype>mailing and physical address</addrtype>
<address>219 Huntingdon Road</address>
<city>Cambridge</city>
<state>Cambridgeshire</state>
<postal>CB3 0DL</postal>
<country>UK</country>
</cntaddr>
<cntvoice>+44(0)1223 277314</cntvoice>
</cntinfo>
</distrib>
</distinfo>
<spdoinfo>
<direct>Raster</direct>
<rastinfo>
<rasttype>Grid Cell</rasttype>
<rowcount>2160</rowcount>
<colcount>4320</colcount>
<rastxsz>0.083333</rastxsz>
<rastysz>0.083333</rastysz>
<rastbpp>8</rastbpp>
<vrtcount>1</vrtcount>
<rastorig>Upper Left</rastorig>
<rastcmap>FALSE</rastcmap>
<rastcomp>Default</rastcomp>
<rastband>1</rastband>
<rastdtyp>matrix values</rastdtyp>
<rastplyr>FALSE</rastplyr>
<rastifor>GRID</rastifor>
</rastinfo>
</spdoinfo>
<spref>
<horizsys>
<cordsysn>
<geogcsn>GCS_WGS_1984</geogcsn>
</cordsysn>
<geograph>
<geogunit>Decimal degrees</geogunit>
<latres>0.000000</latres>
<longres>0.000000</longres>
</geograph>
<geodetic>
<horizdn>D_WGS_1984</horizdn>
<ellips>WGS_1984</ellips>
<semiaxis>6378137.000000</semiaxis>
<denflat>298.257224</denflat>
</geodetic>
</horizsys>
</spref>
<eainfo>
<detailed Name="tc_mtn_02g.vat">
<enttyp>
<enttypl Sync="TRUE">tc_mtn_02g.vat</enttypl>
<enttypt Sync="TRUE">Table</enttypt>
<enttypc Sync="TRUE">81</enttypc>
</enttyp>
<attr>
<attrlabl Sync="TRUE">Rowid</attrlabl>
<attalias Sync="TRUE">Rowid</attalias>
<attrtype Sync="TRUE">OID</attrtype>
<attwidth Sync="TRUE">4</attwidth>
<atprecis Sync="TRUE">0</atprecis>
<attscale Sync="TRUE">0</attscale>
<attrdef Sync="TRUE">Internal feature number.</attrdef>
<attrdefs Sync="TRUE">ESRI</attrdefs>
<attrdomv>
<udom Sync="TRUE">Sequential unique whole numbers that are automatically generated.</udom>
</attrdomv>
</attr>
<attr>
<attrlabl Sync="TRUE">VALUE</attrlabl>
<attalias Sync="TRUE">VALUE</attalias>
<attrtype Sync="TRUE">Integer</attrtype>
<attwidth Sync="TRUE">4</attwidth>
<atprecis Sync="TRUE">0</atprecis>
<attscale Sync="TRUE">0</attscale>
</attr>
<attr>
<attrlabl Sync="TRUE">COUNT</attrlabl>
<attalias Sync="TRUE">COUNT</attalias>
<attrtype Sync="TRUE">Integer</attrtype>
<attwidth Sync="TRUE">4</attwidth>
<atprecis Sync="TRUE">0</atprecis>
<attscale Sync="TRUE">0</attscale>
</attr>
</detailed>
</eainfo>
<mdLang>
<languageCode value="eng">
</languageCode>
</mdLang>
<mdChar>
<CharSetCd value="004"/>
</mdChar>
<mdHrLv>
<ScopeCd value="005"/>
</mdHrLv>
<mdContact>
<rpIndName>The person responsible for the metadata information.</rpIndName>
<rpOrgName>The organization responsible for the metadata information.</rpOrgName>
<rpCntInfo>
<cntPhone>
<voiceNum>The telephone number by which individuals can speak to the organization or individual.</voiceNum>
</cntPhone>
<cntAddress addressType="the mailing and/or physical address for the organization or individual.">
<city>The city of the address.</city>
<adminArea>The state or province of the address.</adminArea>
<postCode>The ZIP or other postal code of the address.</postCode>
</cntAddress>
</rpCntInfo>
<role>
<RoleCd value="007"/>
</role>
</mdContact>
<mdDateSt>20110914</mdDateSt>
<mdStanName>ArcGIS Metadata</mdStanName>
<mdStanVer>1.0</mdStanVer>
<distInfo>
<distributor>
<distorCont>
<rpOrgName>UNEP-WCMC</rpOrgName>
<rpCntInfo>
<cntPhone>
<voiceNum>+44(0)1223 277314</voiceNum>
</cntPhone>
<cntAddress addressType="both">
<delPoint>219 Huntingdon Road</delPoint>
<city>Cambridge</city>
<adminArea>Cambridgeshire</adminArea>
<postCode>CB3 0DL</postCode>
<country>UK</country>
</cntAddress>
</rpCntInfo>
<role>
<RoleCd value="005"/>
</role>
</distorCont>
<distorFormat>
</distorFormat>
</distributor>
<distTranOps>
<onLineSrc>
<linkage>\\wcmc-data-01.internal.wcmc\gis\SpatialAnalysisUnit\Datasets-May2006\Mountain_UNEP-WCMC_2002\Mountains_Tree_cover_modis\tc_mtn_02g</linkage>
</onLineSrc>
</distTranOps>
</distInfo>
<dataIdInfo>
<idCitation>
<resTitle>tc_mtn_02g</resTitle>
<date>
<pubDate>2002</pubDate>
</date>
<citRespParty>
<rpOrgName>UNEP-WCMC</rpOrgName>
<role>
<RoleCd value="006"/>
</role>
</citRespParty>
<presForm>
<PresFormCd value="005"/>
</presForm>
<presForm>
<fgdcGeoform>raster digital data</fgdcGeoform>
</presForm>
<otherCitDet>Sources: Mountains derived from U.S. Geological Survey National Mapping Division, EROS Data Center (EDC) (1996) GTOPO30.
Source: MODIS 1-km resolution percent tree cover data set,
courtesy of University of Maryland Global Land Cover Facility</otherCitDet>
</idCitation>
<idAbs>This map was created by overlaying the data from Mountains of the World - 2002 with a global data set on percent tree cover. The percent tree cover data are taken from MODIS 1-km resolution percent tree cover data set, courtesy of University of Maryland Global Land Cover Facility.</idAbs>
<idPurp>Mountain forests provide a range of services to mountain communities and to people outside mountain areas, and have a key role in the maintenance of...</idPurp>
<idStatus>
<ProgCd value="001"/>
</idStatus>
<resMaint>
<maintFreq>
<MaintFreqCd value="011"/>
</maintFreq>
</resMaint>
<themeKeys>
<keyword>Tree cover</keyword>
<keyword>Modis</keyword>
<keyword>global</keyword>
<keyword>dem</keyword>
<keyword>mountains</keyword>
<thesaName>
<resTitle>Reference to a formally registered thesaurus or a similar authoritative source of theme keywords.</resTitle>
</thesaName>
</themeKeys>
<searchKeys>
<keyword>Tree cover</keyword>
<keyword>Modis</keyword>
<keyword>global</keyword>
<keyword>dem</keyword>
<keyword>mountains</keyword>
</searchKeys>
<resConst>
<Consts>
<useLimit>1) Adhere to terms and conditions of access, 2) acknowledge the source appropriately, 3) do not re-distribute part or all of data without contacting UNEP-WCMC.</useLimit>
</Consts>
</resConst>
<resConst>
<LegConsts>
<accessConsts>
<RestrictCd value="008"/>
</accessConsts>
<othConsts>Downloadable via the UNEP-WCMC website.</othConsts>
</LegConsts>
</resConst>
<spatRpType>
<SpatRepTypCd value="002"/>
</spatRpType>
<dataLang>
<languageCode value="eng"/>
</dataLang>
<envirDesc>Microsoft Windows XP Version 5.1 (Build 2600) Service Pack 3; ESRI ArcCatalog 9.3.1.4000</envirDesc>
<dataExt>
<geoEle>
<GeoBndBox>
<exTypeCode>true</exTypeCode>
<westBL>-179.999993</westBL>
<eastBL>179.999993</eastBL>
<northBL>90.016646</northBL>
<southBL>-89.983347</southBL>
</GeoBndBox>
</geoEle>
</dataExt>
<dataExt>
<exDesc>2002</exDesc>
<tempEle>
<TempExtent>
<exTemp>
<TM_Instant>
<tmPosition/>
</TM_Instant>
</exTemp>
</TempExtent>
</tempEle>
</dataExt>
<suppInfo>for further information please see :
UNEP World Conservation Monitoring Centre: Mountain Watch, 2002</suppInfo>
<idCredit/>
</dataIdInfo>
<spatRepInfo>
<Georect>
<numDims>3</numDims>
<axisDimension type="001">
<dimSize>2160</dimSize>
</axisDimension>
<axisDimension type="002">
<dimSize>4320</dimSize>
</axisDimension>
<axisDimension type="003">
<dimSize>1</dimSize>
</axisDimension>
<cellGeo>
<CellGeoCd value="002"/>
</cellGeo>
</Georect>
</spatRepInfo>
<Binary/>
</metadata>
