<?xml version="1.0" encoding="UTF-8" standalone="no"?>
<metadata xml:lang="en">
<Esri>
<CreaDate>20210415</CreaDate>
<CreaTime>10432900</CreaTime>
<ArcGISFormat>1.0</ArcGISFormat>
<SyncOnce>FALSE</SyncOnce>
<DataProperties>
<itemProps>
<imsContentType export="False">001</imsContentType>
<itemName Sync="FALSE">wcmc049_nchs_ter_biodiv_dep</itemName>
<nativeExtBox>
<westBL Sync="TRUE">-180.000000</westBL>
<eastBL Sync="TRUE">180.000000</eastBL>
<southBL Sync="TRUE">-90.000000</southBL>
<northBL Sync="TRUE">90.000000</northBL>
<exTypeCode Sync="TRUE">1</exTypeCode>
</nativeExtBox>
</itemProps>
<coordRef>
<type Sync="TRUE">Geographic</type>
<geogcsn Sync="TRUE">GCS_WGS_1984</geogcsn>
<csUnits Sync="TRUE">Angular Unit: Degree (0.017453)</csUnits>
<peXml Sync="TRUE">&lt;GeographicCoordinateSystem xsi:type='typens:GeographicCoordinateSystem' xmlns:xsi='http://www.w3.org/2001/XMLSchema-instance' xmlns:xs='http://www.w3.org/2001/XMLSchema' xmlns:typens='http://www.esri.com/schemas/ArcGIS/2.4.0'&gt;&lt;WKT&gt;GEOGCS[&amp;quot;GCS_WGS_1984&amp;quot;,DATUM[&amp;quot;D_WGS_1984&amp;quot;,SPHEROID[&amp;quot;WGS_1984&amp;quot;,6378137.0,298.257223563]],PRIMEM[&amp;quot;Greenwich&amp;quot;,0.0],UNIT[&amp;quot;Degree&amp;quot;,0.0174532925199433],AUTHORITY[&amp;quot;EPSG&amp;quot;,4326]]&lt;/WKT&gt;&lt;XOrigin&gt;-400&lt;/XOrigin&gt;&lt;YOrigin&gt;-400&lt;/YOrigin&gt;&lt;XYScale&gt;11258999068426.238&lt;/XYScale&gt;&lt;ZOrigin&gt;-100000&lt;/ZOrigin&gt;&lt;ZScale&gt;10000&lt;/ZScale&gt;&lt;MOrigin&gt;-100000&lt;/MOrigin&gt;&lt;MScale&gt;10000&lt;/MScale&gt;&lt;XYTolerance&gt;8.983152841195215e-09&lt;/XYTolerance&gt;&lt;ZTolerance&gt;0.00020000000000000001&lt;/ZTolerance&gt;&lt;MTolerance&gt;0.00020000000000000001&lt;/MTolerance&gt;&lt;HighPrecision&gt;true&lt;/HighPrecision&gt;&lt;LeftLongitude&gt;-180&lt;/LeftLongitude&gt;&lt;WKID&gt;4326&lt;/WKID&gt;&lt;LatestWKID&gt;4326&lt;/LatestWKID&gt;&lt;/GeographicCoordinateSystem&gt;</peXml>
</coordRef>
</DataProperties>
<scaleRange>
<minScale>150000000</minScale>
<maxScale>5000</maxScale>
</scaleRange>
<ArcGISProfile>INSPIRE</ArcGISProfile>
<SyncDate>20210705</SyncDate>
<SyncTime>12003900</SyncTime>
<ModDate>20210705</ModDate>
<ModTime>12003900</ModTime>
</Esri>
<dataIdInfo>
<idCitation>
<resTitle>nchs_ter_biodiv_dep</resTitle>
<date>
<createDate>2021-01-29T00:00:00</createDate>
<reviseDate>2021-01-29T00:00:00</reviseDate>
</date>
<resEd>1</resEd>
<citRespParty>
<editorSource>external</editorSource>
<editorDigest>1f4f0b59e370fa7df2d008bf3b77c27eee9b31e3</editorDigest>
<rpIndName>Data Manager</rpIndName>
<rpOrgName>UNEP-WCMC</rpOrgName>
<rpPosName>Data Manager</rpPosName>
<rpCntInfo>
<cntAddress addressType="">
<eMailAdd>spatialanalysis@unep-wcmc.org</eMailAdd>
</cntAddress>
</rpCntInfo>
<editorSave>True</editorSave>
<displayName>Data Manager</displayName>
<role>
<RoleCd value="007">
</RoleCd>
</role>
</citRespParty>
<presForm>
<PresFormCd Sync="TRUE" value="011">
</PresFormCd>
</presForm>
</idCitation>
<searchKeys>
<keyword>nchs_ter_biodiv_dep</keyword>
<keyword>ImageServer</keyword>
</searchKeys>
<dataExt>
<geoEle>
<GeoBndBox esriExtentType="search">
<westBL>-180</westBL>
<eastBL>180</eastBL>
<northBL>90</northBL>
<southBL>-90</southBL>
</GeoBndBox>
</geoEle>
</dataExt>
<dataLang>
<languageCode value="eng">
</languageCode>
<countryCode Sync="TRUE" value="GBR">
</countryCode>
</dataLang>
<dataChar>
<CharSetCd value="004">
</CharSetCd>
</dataChar>
<spatRpType>
<SpatRepTypCd value="002">
</SpatRepTypCd>
</spatRpType>
<dataScale>
<equScale>
<rfDenom>0.25 x 0.25 degrees</rfDenom>
</equScale>
</dataScale>
<idPoC>
<editorSource>external</editorSource>
<editorDigest>1f4f0b59e370fa7df2d008bf3b77c27eee9b31e3</editorDigest>
<rpIndName>Data Manager</rpIndName>
<rpOrgName>UNEP-WCMC</rpOrgName>
<rpPosName>Data Manager</rpPosName>
<rpCntInfo>
<cntAddress addressType="">
<eMailAdd>spatialanalysis@unep-wcmc.org</eMailAdd>
</cntAddress>
</rpCntInfo>
<editorSave>True</editorSave>
<displayName>Data Manager</displayName>
<role>
<RoleCd value="007">
</RoleCd>
</role>
</idPoC>
<resMaint>
<maintFreq>
<MaintFreqCd value="012">
</MaintFreqCd>
</maintFreq>
</resMaint>
<resConst>
<LegConsts>
<accessConsts>
<RestrictCd value="005">
</RestrictCd>
</accessConsts>
<useConsts>
<RestrictCd value="005">
</RestrictCd>
</useConsts>
</LegConsts>
</resConst>
<tpCat>
<TopicCatCd value="002">
</TopicCatCd>
</tpCat>
<tpCat>
<TopicCatCd value="007">
</TopicCatCd>
</tpCat>
<envirDesc Sync="FALSE">Esri ArcGIS 12.4.2.19948</envirDesc>
</dataIdInfo>
<mdHrLv>
<ScopeCd value="005">
</ScopeCd>
</mdHrLv>
<mdLang>
<languageCode value="eng">
</languageCode>
<countryCode Sync="TRUE" value="GBR">
</countryCode>
</mdLang>
<mdChar>
<CharSetCd value="004">
</CharSetCd>
</mdChar>
<mdDateSt Sync="TRUE">20210705</mdDateSt>
<dataSetURI>https://data-gis.unep-wcmc.org/portal/home/item.html?id=515973b360574e8b869005e5f07b7f09</dataSetURI>
<mdContact>
<editorSource>external</editorSource>
<editorDigest>1f4f0b59e370fa7df2d008bf3b77c27eee9b31e3</editorDigest>
<rpIndName>Data Manager</rpIndName>
<rpOrgName>UNEP-WCMC</rpOrgName>
<rpPosName>Data Manager</rpPosName>
<rpCntInfo>
<cntAddress addressType="">
<eMailAdd>spatialanalysis@unep-wcmc.org</eMailAdd>
</cntAddress>
</rpCntInfo>
<editorSave>True</editorSave>
<displayName>Data Manager</displayName>
<role>
<RoleCd value="007">
</RoleCd>
</role>
</mdContact>
<mdMaint>
<maintFreq>
<MaintFreqCd value="009">
</MaintFreqCd>
</maintFreq>
</mdMaint>
<refSysInfo>
<RefSystem dimension="">
<refSysID>
<identCode code="4326">
</identCode>
<idCodeSpace>EPSG</idCodeSpace>
<idVersion Sync="TRUE">6.14(3.0.1)</idVersion>
</refSysID>
</RefSystem>
</refSysInfo>
<dqInfo>
<dqScope>
<scpLvl>
<ScopeCd value="005">
</ScopeCd>
</scpLvl>
</dqScope>
</dqInfo>
<distInfo>
<distFormat>
<formatName Sync="TRUE">Enterprise Geodatabase Raster Dataset</formatName>
</distFormat>
</distInfo>
<mdHrLvName Sync="TRUE">dataset</mdHrLvName>
<spdoinfo>
<rastinfo>
<rasttype Sync="TRUE">Pixel</rasttype>
<rowcount Sync="TRUE">720</rowcount>
<colcount Sync="TRUE">1440</colcount>
<rastxsz Sync="TRUE">0.250000</rastxsz>
<rastysz Sync="TRUE">0.250000</rastysz>
<rastbpp Sync="TRUE">32</rastbpp>
<vrtcount Sync="TRUE">1</vrtcount>
<rastorig Sync="TRUE">Upper Left</rastorig>
<rastcmap Sync="TRUE">FALSE</rastcmap>
<rastcomp Sync="TRUE">LZ77</rastcomp>
<rastband Sync="TRUE">1</rastband>
<rastdtyp Sync="TRUE">pixel codes</rastdtyp>
<rastifor Sync="TRUE">SDR</rastifor>
<rastplyr Sync="TRUE">TRUE</rastplyr>
</rastinfo>
</spdoinfo>
<spref>
<horizsys>
<planar>
<planci>
<plance Sync="TRUE">row and column</plance>
<coordrep>
<absres Sync="TRUE">0.250000</absres>
<ordres Sync="TRUE">0.250000</ordres>
</coordrep>
</planci>
</planar>
</horizsys>
</spref>
</metadata>
