<?xml version="1.0" encoding="UTF-8" standalone="no"?>
<metadata xml:lang="en">
<Esri>
<CreaDate>20110914</CreaDate>
<CreaTime>17330400</CreaTime>
<SyncOnce>FALSE</SyncOnce>
<SyncDate>20210428</SyncDate>
<SyncTime>21591500</SyncTime>
<ModDate>20210428</ModDate>
<ModTime>21591500</ModTime>
<DataProperties>
<lineage>
<Process Date="20210428" Time="215753" ToolSource="c:\program files\arcgis\pro\Resources\ArcToolbox\toolboxes\Data Management Tools.tbx\CopyRaster">CopyRaster C:\Users\osgurm\Downloads\Mountains_and_Tree_Cover_in_Mountain_Regions_2002\Mountain_UNEP-WCMC_2002\Mountain_UNEP-WCMC_2002\mollweide\mtn_02m C:\Users\osgurm\Documents\ArcGIS\Projects\Data_Mgmt\Internal_Geodatabase.sde\arcgis_geodatabase.sde.mtn_02m # # 0 NONE NONE # NONE NONE "Esri Grid format" NONE CURRENT_SLICE NO_TRANSPOSE</Process>
</lineage>
<itemProps>
<imsContentType>002</imsContentType>
<itemName Sync="TRUE">arcgis_geodatabase.sde.mtn_02m</itemName>
<nativeExtBox>
<westBL Sync="TRUE">-18039306.398711</westBL>
<eastBL Sync="TRUE">18039693.601289</eastBL>
<southBL Sync="TRUE">-9019952.159944</southBL>
<northBL Sync="TRUE">9020047.840056</northBL>
<exTypeCode Sync="TRUE">1</exTypeCode>
</nativeExtBox>
<itemLocation>
<linkage Sync="TRUE">Server=10.2.1.241; Service=sde:postgresql:10.2.1.241; Database=arcgis_geodatabase; User=sde; Version=sde.DEFAULT</linkage>
<protocol Sync="TRUE">ArcSDE Connection</protocol>
</itemLocation>
</itemProps>
<coordRef>
<type Sync="TRUE">Projected</type>
<geogcsn Sync="TRUE">GCS_WGS_1984</geogcsn>
<csUnits Sync="TRUE">Linear Unit: Meter (1.000000)</csUnits>
<projcsn Sync="TRUE">WGS_1984_Mollweide</projcsn>
<peXml Sync="TRUE">&lt;ProjectedCoordinateSystem xsi:type='typens:ProjectedCoordinateSystem' xmlns:xsi='http://www.w3.org/2001/XMLSchema-instance' xmlns:xs='http://www.w3.org/2001/XMLSchema' xmlns:typens='http://www.esri.com/schemas/ArcGIS/2.7.0'&gt;&lt;WKT&gt;PROJCS[&amp;quot;WGS_1984_Mollweide&amp;quot;,GEOGCS[&amp;quot;GCS_WGS_1984&amp;quot;,DATUM[&amp;quot;D_WGS_1984&amp;quot;,SPHEROID[&amp;quot;WGS_1984&amp;quot;,6378137.0,298.257223563]],PRIMEM[&amp;quot;Greenwich&amp;quot;,0.0],UNIT[&amp;quot;Degree&amp;quot;,0.0174532925199433]],PROJECTION[&amp;quot;Mollweide&amp;quot;],PARAMETER[&amp;quot;False_Easting&amp;quot;,0.0],PARAMETER[&amp;quot;False_Northing&amp;quot;,0.0],PARAMETER[&amp;quot;Central_Meridian&amp;quot;,0.0],UNIT[&amp;quot;Meter&amp;quot;,1.0]]&lt;/WKT&gt;&lt;XOrigin&gt;-18040200&lt;/XOrigin&gt;&lt;YOrigin&gt;-9020200&lt;/YOrigin&gt;&lt;XYScale&gt;249642444.5056316&lt;/XYScale&gt;&lt;ZOrigin&gt;-100000&lt;/ZOrigin&gt;&lt;ZScale&gt;10000&lt;/ZScale&gt;&lt;MOrigin&gt;-100000&lt;/MOrigin&gt;&lt;MScale&gt;10000&lt;/MScale&gt;&lt;XYTolerance&gt;0.001&lt;/XYTolerance&gt;&lt;ZTolerance&gt;0.00020000000000000001&lt;/ZTolerance&gt;&lt;MTolerance&gt;0.00020000000000000001&lt;/MTolerance&gt;&lt;HighPrecision&gt;true&lt;/HighPrecision&gt;&lt;/ProjectedCoordinateSystem&gt;</peXml>
</coordRef>
</DataProperties>
<ArcGISFormat>1.0</ArcGISFormat>
</Esri>
<idinfo>
<native>Microsoft Windows XP Version 5.1 (Build 2600) Service Pack 3; ESRI ArcCatalog 9.3.1.4000</native>
<descript>
<langdata>en</langdata>
<abstract>The map shows the location of mountain land estimated from a digital elevation model using criteria based on elevation alone (the upper three classes: &gt; 2 500 metres) and at lower elevation, on a combination of elevation, slope and local elevation range.</abstract>
<purpose>To provide a global context for a discussion of mountain forests, it is first necessary to define the locations and types of mountain forests, and this in turn requires a definition of mountains or mountain areas. Altitude and slope and the environmental gradients they generate are key components of such a definition, but their combination is problematic. Simple altitude thresholds both exclude older and lower mountain systems and include areas of relatively high elevation that have little topographic relief and few environmental gradients. Using slope as a criterion on its own or in combination with altitude can resolve the latter problem, but not the former.
</purpose>
<supplinf>This is an update of the Mountain's of the World 2000 dataset.
Sources: Mountains derived from U.S. Geological Survey National Mapping Division, EROS Data Center (EDC) (1996) GTOPO30.</supplinf>
</descript>
<citation>
<citeinfo>
<origin>UNEP-WCMC</origin>
<pubdate>2002</pubdate>
<title>mtn_02m</title>
<ftname>mtn_02m</ftname>
<onlink>\\wcmc-data-01.internal.wcmc\gis\SpatialAnalysisUnit\Datasets-May2006\Mountain_UNEP-WCMC_2002\Mountain_UNEP-WCMC_2002\mollweide\mtn_02m</onlink>
<geoform>raster digital data</geoform>
</citeinfo>
</citation>
<timeperd>
<current>2002</current>
<timeinfo>
<sngdate>
<caldate>The year (and optionally month, or month and day) for which the data set corresponds to the ground.</caldate>
</sngdate>
</timeinfo>
</timeperd>
<status>
<progress>Complete</progress>
<update>None planned</update>
</status>
<spdom>
<bounding>
<westbc>-179.999989</westbc>
<eastbc>179.999989</eastbc>
<northbc>89.999679</northbc>
<southbc>-89.983498</southbc>
</bounding>
<lboundng>
<leftbc>-18039306.398711</leftbc>
<rightbc>18039693.601289</rightbc>
<bottombc>-9019952.159944</bottombc>
<topbc>9020047.840056</topbc>
</lboundng>
</spdom>
<keywords>
<theme>
<themekt>Reference to a formally registered thesaurus or a similar authoritative source of theme keywords.</themekt>
<themekey>mountains</themekey>
<themekey>elevation</themekey>
<themekey>Mountain Watch</themekey>
<themekey>global</themekey>
<themekey>dem</themekey>
</theme>
</keywords>
<accconst>Downloadable via the UNEP-WCMC website.</accconst>
<useconst>1) Adhere to terms and conditions of access, 2) acknowledge the source appropriately, 3) do not re-distribute part or all of data without contacting UNEP-WCMC.</useconst>
<natvform>Raster Dataset</natvform>
</idinfo>
<metainfo>
<langmeta>en</langmeta>
<metstdn>FGDC Content Standards for Digital Geospatial Metadata</metstdn>
<metstdv>FGDC-STD-001-1998</metstdv>
<mettc>local time</mettc>
<metc>
<cntinfo>
<cntorgp>
<cntper>The person responsible for the metadata information.</cntper>
<cntorg>The organization responsible for the metadata information.</cntorg>
</cntorgp>
<cntaddr>
<addrtype>The mailing and/or physical address for the organization or individual.</addrtype>
<city>The city of the address.</city>
<state>The state or province of the address.</state>
<postal>The ZIP or other postal code of the address.</postal>
</cntaddr>
<cntvoice>The telephone number by which individuals can speak to the organization or individual.</cntvoice>
</cntinfo>
</metc>
<metd>20110914</metd>
<metextns>
<onlink>http://www.esri.com/metadata/esriprof80.html</onlink>
<metprof>ESRI Metadata Profile</metprof>
</metextns>
</metainfo>
<distinfo>
<resdesc>Downloadable Data</resdesc>
<stdorder>
<digform>
<digtinfo>
<transize>35.977</transize>
<dssize>35.977</dssize>
</digtinfo>
</digform>
</stdorder>
</distinfo>
<spdoinfo>
<direct>Raster</direct>
<rastinfo>
<rasttype>Grid Cell</rasttype>
<rowcount>18040</rowcount>
<colcount>36079</colcount>
<rastxsz>1000.000000</rastxsz>
<rastysz>1000.000000</rastysz>
<rastbpp>8</rastbpp>
<vrtcount>1</vrtcount>
<rastorig>Upper Left</rastorig>
<rastcmap>FALSE</rastcmap>
<rastcomp>Default</rastcomp>
<rastband>1</rastband>
<rastdtyp>matrix values</rastdtyp>
<rastplyr>FALSE</rastplyr>
<rastifor>GRID</rastifor>
</rastinfo>
</spdoinfo>
<spref>
<horizsys>
<cordsysn>
<geogcsn>GCS_WGS_1984</geogcsn>
<projcsn>WGS_1984_Mollweide</projcsn>
</cordsysn>
<geodetic>
<horizdn>D_WGS_1984</horizdn>
<ellips>WGS_1984</ellips>
<semiaxis>6378137.000000</semiaxis>
<denflat>298.257224</denflat>
</geodetic>
<planar>
<planci>
<plance>row and column</plance>
<coordrep>
<absres>1000.000000</absres>
<ordres>1000.000000</ordres>
</coordrep>
<plandu>meters</plandu>
</planci>
</planar>
</horizsys>
</spref>
<eainfo>
<detailed Name="arcgis_geodatabase.sde.SDE_VAT_92">
<enttyp>
<enttypl Sync="TRUE">arcgis_geodatabase.sde.SDE_VAT_92</enttypl>
<enttypt Sync="TRUE">Table</enttypt>
<enttypc Sync="TRUE">7</enttypc>
</enttyp>
<attr>
<attrlabl Sync="TRUE">objectid</attrlabl>
<attalias Sync="TRUE">objectid</attalias>
<attrtype Sync="TRUE">OID</attrtype>
<attwidth Sync="TRUE">4</attwidth>
<atprecis Sync="TRUE">10</atprecis>
<attscale Sync="TRUE">0</attscale>
<attrdef Sync="TRUE">Internal feature number.</attrdef>
<attrdefs Sync="TRUE">Esri</attrdefs>
<attrdomv>
<udom Sync="TRUE">Sequential unique whole numbers that are automatically generated.</udom>
</attrdomv>
</attr>
<attr>
<attrlabl Sync="TRUE">VALUE</attrlabl>
<attalias Sync="TRUE">VALUE</attalias>
<attrtype Sync="TRUE">Integer</attrtype>
<attwidth Sync="TRUE">4</attwidth>
<atprecis Sync="TRUE">0</atprecis>
<attscale Sync="TRUE">0</attscale>
</attr>
<attr>
<attrlabl Sync="TRUE">COUNT</attrlabl>
<attalias Sync="TRUE">COUNT</attalias>
<attrtype Sync="TRUE">Integer</attrtype>
<attwidth Sync="TRUE">4</attwidth>
<atprecis Sync="TRUE">0</atprecis>
<attscale Sync="TRUE">0</attscale>
</attr>
</detailed>
</eainfo>
<dataqual>
<lineage>
<procstep>
<procdesc>Metadata imported.</procdesc>
<srcused>D:\temp2\mtn_02g.xml</srcused>
<procdate>20110914</procdate>
<proctime>17330400</proctime>
</procstep>
</lineage>
</dataqual>
<mdLang>
<languageCode value="eng">
</languageCode>
<countryCode Sync="TRUE" value="GBR"/>
</mdLang>
<mdChar>
<CharSetCd value="004"/>
</mdChar>
<mdHrLv>
<ScopeCd value="005"/>
</mdHrLv>
<mdContact>
<rpIndName>The person responsible for the metadata information.</rpIndName>
<rpOrgName>The organization responsible for the metadata information.</rpOrgName>
<rpCntInfo>
<cntPhone>
<voiceNum>The telephone number by which individuals can speak to the organization or individual.</voiceNum>
</cntPhone>
<cntAddress addressType="the mailing and/or physical address for the organization or individual.">
<city>The city of the address.</city>
<adminArea>The state or province of the address.</adminArea>
<postCode>The ZIP or other postal code of the address.</postCode>
</cntAddress>
</rpCntInfo>
<role>
<RoleCd value="007"/>
</role>
</mdContact>
<mdDateSt>20110914</mdDateSt>
<mdStanName>ArcGIS Metadata</mdStanName>
<mdStanVer>1.0</mdStanVer>
<distInfo>
<distributor>
<distorFormat>
</distorFormat>
</distributor>
<distTranOps>
<onLineSrc>
<linkage>\\wcmc-data-01.internal.wcmc\gis\SpatialAnalysisUnit\Datasets-May2006\Mountain_UNEP-WCMC_2002\Mountain_UNEP-WCMC_2002\mollweide\mtn_02m</linkage>
</onLineSrc>
</distTranOps>
<distFormat>
<formatName Sync="TRUE">Enterprise Geodatabase Raster Dataset</formatName>
</distFormat>
</distInfo>
<dataIdInfo>
<idCitation>
<resTitle>mtn_02m</resTitle>
<date>
<pubDate>2002</pubDate>
</date>
<citRespParty>
<rpOrgName>UNEP-WCMC</rpOrgName>
<role>
<RoleCd value="006"/>
</role>
</citRespParty>
<presForm>
<PresFormCd value="005"/>
</presForm>
<presForm>
<fgdcGeoform>raster digital data</fgdcGeoform>
</presForm>
</idCitation>
<idAbs>The map shows the location of mountain land estimated from a digital elevation model using criteria based on elevation alone (the upper three classes: &gt; 2 500 metres) and at lower elevation, on a combination of elevation, slope and local elevation range.</idAbs>
<idPurp>To provide a global context for a discussion of mountain forests, it is first necessary to define the locations and types of mountain forests, and this in turn...</idPurp>
<idStatus>
<ProgCd value="001"/>
</idStatus>
<resMaint>
<maintFreq>
<MaintFreqCd value="011"/>
</maintFreq>
</resMaint>
<themeKeys>
<keyword>mountains</keyword>
<keyword>elevation</keyword>
<keyword>Mountain Watch</keyword>
<keyword>global</keyword>
<keyword>dem</keyword>
<thesaName>
<resTitle>Reference to a formally registered thesaurus or a similar authoritative source of theme keywords.</resTitle>
</thesaName>
</themeKeys>
<searchKeys>
<keyword>mountains</keyword>
<keyword>elevation</keyword>
<keyword>Mountain Watch</keyword>
<keyword>global</keyword>
<keyword>dem</keyword>
</searchKeys>
<resConst>
<Consts>
<useLimit>1) Adhere to terms and conditions of access, 2) acknowledge the source appropriately, 3) do not re-distribute part or all of data without contacting UNEP-WCMC.</useLimit>
</Consts>
</resConst>
<resConst>
<LegConsts>
<accessConsts>
<RestrictCd value="008"/>
</accessConsts>
<othConsts>Downloadable via the UNEP-WCMC website.</othConsts>
</LegConsts>
</resConst>
<spatRpType>
<SpatRepTypCd value="002"/>
</spatRpType>
<dataLang>
<languageCode value="eng"/>
<countryCode Sync="TRUE" value="GBR"/>
</dataLang>
<tpCat>
<TopicCatCd value="006"/>
</tpCat>
<envirDesc>Microsoft Windows XP Version 5.1 (Build 2600) Service Pack 3; ESRI ArcCatalog 9.3.1.4000</envirDesc>
<dataExt>
<geoEle>
<GeoBndBox>
<exTypeCode>true</exTypeCode>
<westBL>-179.999989</westBL>
<eastBL>179.999989</eastBL>
<northBL>89.999679</northBL>
<southBL>-89.983498</southBL>
</GeoBndBox>
</geoEle>
</dataExt>
<dataExt>
<exDesc>2002</exDesc>
<tempEle>
<TempExtent>
<exTemp>
<TM_Instant>
<tmPosition/>
</TM_Instant>
</exTemp>
</TempExtent>
</tempEle>
<geoEle/>
</dataExt>
<suppInfo>This is an update of the Mountain's of the World 2000 dataset.
Sources: Mountains derived from U.S. Geological Survey National Mapping Division, EROS Data Center (EDC) (1996) GTOPO30.</suppInfo>
<dataExt>
<geoEle>
<GeoBndBox esriExtentType="search">
<exTypeCode Sync="TRUE">1</exTypeCode>
<westBL Sync="TRUE">-179.999989</westBL>
<eastBL Sync="TRUE">179.999989</eastBL>
<northBL Sync="TRUE">89.999679</northBL>
<southBL Sync="TRUE">-89.983498</southBL>
</GeoBndBox>
</geoEle>
</dataExt>
<idCredit/>
</dataIdInfo>
<dqInfo>
<dqScope>
<scpLvl>
<ScopeCd value="005"/>
</scpLvl>
</dqScope>
<dataLineage>
<prcStep>
<stepDesc>Metadata imported.</stepDesc>
<stepDateTm>2011-09-14T17:33:04</stepDateTm>
<stepSrc type="used">
<srcCitatn>
<resAltTitle>D:\temp2\mtn_02g.xml</resAltTitle>
</srcCitatn>
</stepSrc>
</prcStep>
</dataLineage>
</dqInfo>
<spatRepInfo>
<Georect>
<numDims>3</numDims>
<axisDimension type="001">
<dimSize>18040</dimSize>
</axisDimension>
<axisDimension type="002">
<dimSize>36079</dimSize>
</axisDimension>
<axisDimension type="003">
<dimSize>1</dimSize>
</axisDimension>
<cellGeo>
<CellGeoCd value="002"/>
</cellGeo>
</Georect>
</spatRepInfo>
<Binary/>
<mdHrLvName Sync="TRUE">dataset</mdHrLvName>
<refSysInfo>
<RefSystem>
<refSysID>
<identCode Sync="TRUE" code="0"/>
</refSysID>
</RefSystem>
</refSysInfo>
</metadata>
