<?xml version="1.0" encoding="UTF-8" standalone="no"?>
<metadata xml:lang="en">
<Esri>
<CreaDate>20110913</CreaDate>
<CreaTime>17500200</CreaTime>
<SyncOnce>FALSE</SyncOnce>
<SyncDate>20210428</SyncDate>
<SyncTime>21473100</SyncTime>
<ModDate>20210428</ModDate>
<ModTime>21473100</ModTime>
<ArcGISFormat>1.0</ArcGISFormat>
<DataProperties>
<itemProps>
<imsContentType>002</imsContentType>
<itemName Sync="TRUE">mtn_00m</itemName>
<itemLocation>
<linkage Sync="TRUE">file://C:\Users\osgurm\Downloads\Mountains_and_Forests_in_Mountains_2000\mountains_posters_2000\mtn_00m</linkage>
<protocol Sync="TRUE">Local Area Network</protocol>
</itemLocation>
<nativeExtBox>
<westBL Sync="TRUE">-18020000.000000</westBL>
<eastBL Sync="TRUE">18020000.000000</eastBL>
<southBL Sync="TRUE">-9010000.000000</southBL>
<northBL Sync="TRUE">9010000.000000</northBL>
<exTypeCode Sync="TRUE">1</exTypeCode>
</nativeExtBox>
</itemProps>
<coordRef>
<type Sync="TRUE">Projected</type>
<geogcsn Sync="TRUE">GCS_Sphere_ARC_INFO</geogcsn>
<csUnits Sync="TRUE">Linear Unit: Meter (1.000000)</csUnits>
<projcsn Sync="TRUE">Sphere_ARC_INFO_Mollweide</projcsn>
<peXml Sync="TRUE">&lt;ProjectedCoordinateSystem xsi:type='typens:ProjectedCoordinateSystem' xmlns:xsi='http://www.w3.org/2001/XMLSchema-instance' xmlns:xs='http://www.w3.org/2001/XMLSchema' xmlns:typens='http://www.esri.com/schemas/ArcGIS/2.7.0'&gt;&lt;WKT&gt;PROJCS[&amp;quot;Sphere_ARC_INFO_Mollweide&amp;quot;,GEOGCS[&amp;quot;GCS_Sphere_ARC_INFO&amp;quot;,DATUM[&amp;quot;D_Sphere_ARC_INFO&amp;quot;,SPHEROID[&amp;quot;Sphere_ARC_INFO&amp;quot;,6370997.0,0.0]],PRIMEM[&amp;quot;Greenwich&amp;quot;,0.0],UNIT[&amp;quot;Degree&amp;quot;,0.0174532925199433]],PROJECTION[&amp;quot;Mollweide&amp;quot;],PARAMETER[&amp;quot;False_Easting&amp;quot;,0.0],PARAMETER[&amp;quot;False_Northing&amp;quot;,0.0],PARAMETER[&amp;quot;Central_Meridian&amp;quot;,0.0],UNIT[&amp;quot;Meter&amp;quot;,1.0]]&lt;/WKT&gt;&lt;XOrigin&gt;-18020100&lt;/XOrigin&gt;&lt;YOrigin&gt;-9010100&lt;/YOrigin&gt;&lt;XYScale&gt;249920900.95895666&lt;/XYScale&gt;&lt;ZOrigin&gt;-100000&lt;/ZOrigin&gt;&lt;ZScale&gt;10000&lt;/ZScale&gt;&lt;MOrigin&gt;-100000&lt;/MOrigin&gt;&lt;MScale&gt;10000&lt;/MScale&gt;&lt;XYTolerance&gt;0.001&lt;/XYTolerance&gt;&lt;ZTolerance&gt;0.001&lt;/ZTolerance&gt;&lt;MTolerance&gt;0.001&lt;/MTolerance&gt;&lt;HighPrecision&gt;true&lt;/HighPrecision&gt;&lt;/ProjectedCoordinateSystem&gt;</peXml>
</coordRef>
<RasterProperties>
<General>
<PixelDepth Sync="TRUE">16</PixelDepth>
<HasColormap Sync="TRUE">FALSE</HasColormap>
<CompressionType Sync="TRUE">RLE</CompressionType>
<NumBands Sync="TRUE">1</NumBands>
<Format Sync="TRUE">GRID</Format>
<HasPyramids Sync="TRUE">TRUE</HasPyramids>
<SourceType Sync="TRUE">continuous</SourceType>
<PixelType Sync="TRUE">signed integer</PixelType>
<NoDataValue Sync="TRUE">-32768</NoDataValue>
</General>
</RasterProperties>
<lineage>
<Process Date="20210428" Time="215402" ToolSource="c:\program files\arcgis\pro\Resources\ArcToolbox\toolboxes\Data Management Tools.tbx\CopyRaster">CopyRaster C:\Users\osgurm\Downloads\Mountains_and_Forests_in_Mountains_2000\mountains_posters_2000\mtn_00m C:\Users\osgurm\Documents\ArcGIS\Projects\Data_Mgmt\Internal_Geodatabase.sde\arcgis_geodatabase.sde.mtn_00m # # -32768 NONE NONE # NONE NONE "Esri Grid format" NONE CURRENT_SLICE NO_TRANSPOSE</Process>
</lineage>
</DataProperties>
</Esri>
<idinfo>
<citation>
<citeinfo>
<onlink>\\wcmc-data-01.internal.wcmc\gis\SpatialAnalysisUnit\Datasets-May2006\mountains_posters_2000\mtn_00m</onlink>
<origin>UNEP-WCMC</origin>
<pubdate>2000</pubdate>
<title>Mountains of the World 2000</title>
<ftname>mtn_00m</ftname>
<geoform>raster digital data</geoform>
</citeinfo>
</citation>
<native>Microsoft Windows Vista Version 6.1 (Build 7600) ; ESRI ArcCatalog 9.3.1.3000</native>
<descript>
<langdata>en</langdata>
<abstract>To produce this map, topographical data from the GTOPO30 global digital elevation model (USGS EROS Data Center 1996) were used to generate slope and local (5km radius) elevation range on a 30 arc-second grid of the world. These parameters were combined with elevation to arrive at the empirically derived definitions of the six mountain classes displayed on this map. (A spatial filter was applied to classify isolated individual 'non-mountain' grid cells in mountain areas according to the predominant class of their immediate neighbours.) The global mountain area thus defined totals 35.8 million km2, or 24% of the Earth's land surface.</abstract>
<purpose>To provide a global context for a discussion of mountain forests, it is first necessary to define the locations and types of mountain forests, and this in turn requires a definition of mountains or mountain areas. Altitude and slope and the environmental gradients they generate are key components of such a definition, but their combination is problematic. Simple altitude thresholds both exclude older and lower mountain systems and include areas of relatively high elevation that have little topographic relief and few environmental gradients. Using slope as a criterion on its own or in combination with altitude can resolve the latter problem, but not the former.</purpose>
<supplinf>Sources: Mountains derived from U.S. Geological Survey National Mapping Division, EROS Data Center (EDC) (1996) GTOPO30.</supplinf>
</descript>
<timeperd>
<current>The basis on which the time period of content information is determined.</current>
<timeinfo>
<sngdate>
<caldate>The year (and optionally month, or month and day) for which the data set corresponds to the ground.</caldate>
</sngdate>
</timeinfo>
</timeperd>
<status>
<progress>Complete</progress>
<update>None planned</update>
</status>
<spdom>
<bounding>
<westbc>-180.000000</westbc>
<eastbc>180.000000</eastbc>
<northbc>90.000000</northbc>
<southbc>-90.000000</southbc>
</bounding>
<lboundng>
<leftbc>-18020000.000000</leftbc>
<rightbc>18020000.000000</rightbc>
<bottombc>-9010000.000000</bottombc>
<topbc>9010000.000000</topbc>
</lboundng>
</spdom>
<keywords>
<theme>
<themekt>Reference to a formally registered thesaurus or a similar authoritative source of theme keywords.</themekt>
<themekey>mountains</themekey>
<themekey>global</themekey>
<themekey>dem</themekey>
<themekey>gtopo30</themekey>
<themekey>elevation</themekey>
</theme>
</keywords>
<accconst>Downloadable via the UNEP-WCMC website.</accconst>
<useconst>1) Adhere to terms and conditions of access, 2) acknowledge the source appropriately, 3) do not re-distribute part or all of data without contacting UNEP-WCMC.</useconst>
<natvform>Raster Dataset</natvform>
</idinfo>
<dataqual>
<lineage>
<procstep>
<procdesc>Dataset copied.</procdesc>
<srcused>D:\mountains_final\poster\ponmtncr4z</srcused>
<procdate>20110913</procdate>
<proctime>17500200</proctime>
</procstep>
</lineage>
</dataqual>
<metainfo>
<langmeta>en</langmeta>
<metstdn>FGDC Content Standards for Digital Geospatial Metadata</metstdn>
<metstdv>FGDC-STD-001-1998</metstdv>
<mettc>local time</mettc>
<metc>
<cntinfo>
<cntorgp>
<cntper>The person responsible for the metadata information.</cntper>
<cntorg>The organization responsible for the metadata information.</cntorg>
</cntorgp>
<cntaddr>
<addrtype>The mailing and/or physical address for the organization or individual.</addrtype>
<city>The city of the address.</city>
<state>The state or province of the address.</state>
<postal>The ZIP or other postal code of the address.</postal>
</cntaddr>
<cntvoice>The telephone number by which individuals can speak to the organization or individual.</cntvoice>
</cntinfo>
</metc>
<metd>20110914</metd>
<metextns>
<onlink>http://www.esri.com/metadata/esriprof80.html</onlink>
<metprof>ESRI Metadata Profile</metprof>
</metextns>
</metainfo>
<distinfo>
<resdesc>Downloadable Data</resdesc>
<stdorder>
<digform>
<digtinfo>
<transize>33.048</transize>
<dssize>33.048</dssize>
</digtinfo>
</digform>
</stdorder>
<distrib>
<cntinfo>
<cntperp>
<cntorg>UNEP-WCMC</cntorg>
</cntperp>
<cntaddr>
<addrtype>mailing and physical address</addrtype>
<address>219 Huntingdon Road</address>
<city>Cambridge</city>
<state>Cambridgeshire</state>
<postal>CB0DL</postal>
<country>UK</country>
</cntaddr>
<cntvoice>+44(0)1223 277314</cntvoice>
</cntinfo>
</distrib>
</distinfo>
<spdoinfo>
<direct>Raster</direct>
<rastinfo>
<rasttype>Grid Cell</rasttype>
<rowcount>18020</rowcount>
<colcount>36040</colcount>
<rastxsz>1000.000000</rastxsz>
<rastysz>1000.000000</rastysz>
<rastbpp>16</rastbpp>
<vrtcount>1</vrtcount>
<rastorig>Upper Left</rastorig>
<rastcmap>FALSE</rastcmap>
<rastcomp>Default</rastcomp>
<rastband>1</rastband>
<rastdtyp>matrix coded</rastdtyp>
<rastplyr>FALSE</rastplyr>
<rastifor>GRID</rastifor>
</rastinfo>
</spdoinfo>
<spref>
<horizsys>
<cordsysn>
<geogcsn>GCS_Sphere_ARC_INFO</geogcsn>
<projcsn>Sphere_ARC_INFO_Mollweide</projcsn>
</cordsysn>
<planar>
<planci>
<plance>row and column</plance>
<plandu>meters</plandu>
<coordrep>
<absres>1000.000000</absres>
<ordres>1000.000000</ordres>
</coordrep>
</planci>
</planar>
<geodetic>
<horizdn>D_Sphere_ARC_INFO</horizdn>
<ellips>Sphere_ARC_INFO</ellips>
<semiaxis>6370997.000000</semiaxis>
<denflat>infinity</denflat>
</geodetic>
</horizsys>
</spref>
<eainfo>
<detailed Name="mtn_00m.vat">
<enttyp>
<enttypl Sync="TRUE">mtn_00m.vat</enttypl>
<enttypt Sync="TRUE">Table</enttypt>
<enttypc Sync="TRUE">887</enttypc>
</enttyp>
<attr>
<attrlabl Sync="TRUE">Rowid</attrlabl>
<attalias Sync="TRUE">Rowid</attalias>
<attrtype Sync="TRUE">OID</attrtype>
<attwidth Sync="TRUE">4</attwidth>
<atprecis Sync="TRUE">0</atprecis>
<attscale Sync="TRUE">0</attscale>
<attrdef Sync="TRUE">Internal feature number.</attrdef>
<attrdefs Sync="TRUE">ESRI</attrdefs>
<attrdomv>
<udom Sync="TRUE">Sequential unique whole numbers that are automatically generated.</udom>
</attrdomv>
</attr>
<attr>
<attrlabl Sync="TRUE">VALUE</attrlabl>
<attalias Sync="TRUE">VALUE</attalias>
<attrtype Sync="TRUE">Integer</attrtype>
<attwidth Sync="TRUE">4</attwidth>
<atprecis Sync="TRUE">0</atprecis>
<attscale Sync="TRUE">0</attscale>
</attr>
<attr>
<attrlabl Sync="TRUE">COUNT</attrlabl>
<attalias Sync="TRUE">COUNT</attalias>
<attrtype Sync="TRUE">Integer</attrtype>
<attwidth Sync="TRUE">4</attwidth>
<atprecis Sync="TRUE">0</atprecis>
<attscale Sync="TRUE">0</attscale>
</attr>
<attr>
<attrlabl Sync="TRUE">DCW_POPY2</attrlabl>
<attalias Sync="TRUE">DCW_POPY2</attalias>
<attrtype Sync="TRUE">String</attrtype>
<attwidth Sync="TRUE">2</attwidth>
<atprecis Sync="TRUE">0</atprecis>
<attscale Sync="TRUE">0</attscale>
</attr>
<attr>
<attrlabl Sync="TRUE">MTNCLASS</attrlabl>
<attalias Sync="TRUE">MTNCLASS</attalias>
<attrtype Sync="TRUE">Double</attrtype>
<attwidth Sync="TRUE">16</attwidth>
<atprecis Sync="TRUE">16</atprecis>
<attscale Sync="TRUE">0</attscale>
</attr>
<attr>
<attrlabl Sync="TRUE">ANALREG2</attrlabl>
<attalias Sync="TRUE">ANALREG2</attalias>
<attrtype Sync="TRUE">String</attrtype>
<attwidth Sync="TRUE">3</attwidth>
<atprecis Sync="TRUE">0</atprecis>
<attscale Sync="TRUE">0</attscale>
</attr>
<attr>
<attrlabl Sync="TRUE">MTNDESC</attrlabl>
<attalias Sync="TRUE">MTNDESC</attalias>
<attrtype Sync="TRUE">String</attrtype>
<attwidth Sync="TRUE">255</attwidth>
<atprecis Sync="TRUE">0</atprecis>
<attscale Sync="TRUE">0</attscale>
</attr>
<attr>
<attrlabl Sync="TRUE">ISO3</attrlabl>
<attalias Sync="TRUE">ISO3</attalias>
<attrtype Sync="TRUE">String</attrtype>
<attwidth Sync="TRUE">3</attwidth>
<atprecis Sync="TRUE">0</atprecis>
<attscale Sync="TRUE">0</attscale>
</attr>
</detailed>
</eainfo>
<mdLang>
<languageCode value="eng">
</languageCode>
<countryCode Sync="TRUE" value="GBR"/>
</mdLang>
<mdChar>
<CharSetCd value="004"/>
</mdChar>
<mdHrLv>
<ScopeCd value="005"/>
</mdHrLv>
<mdContact>
<rpIndName>The person responsible for the metadata information.</rpIndName>
<rpOrgName>The organization responsible for the metadata information.</rpOrgName>
<rpCntInfo>
<cntPhone>
<voiceNum>The telephone number by which individuals can speak to the organization or individual.</voiceNum>
</cntPhone>
<cntAddress addressType="the mailing and/or physical address for the organization or individual.">
<city>The city of the address.</city>
<adminArea>The state or province of the address.</adminArea>
<postCode>The ZIP or other postal code of the address.</postCode>
</cntAddress>
</rpCntInfo>
<role>
<RoleCd value="007"/>
</role>
</mdContact>
<mdDateSt>20110914</mdDateSt>
<mdStanName>ArcGIS Metadata</mdStanName>
<mdStanVer>1.0</mdStanVer>
<distInfo>
<distributor>
<distorCont>
<rpOrgName>UNEP-WCMC</rpOrgName>
<rpCntInfo>
<cntPhone>
<voiceNum>+44(0)1223 277314</voiceNum>
</cntPhone>
<cntAddress addressType="both">
<delPoint>219 Huntingdon Road</delPoint>
<city>Cambridge</city>
<adminArea>Cambridgeshire</adminArea>
<postCode>CB0DL</postCode>
<country>UK</country>
</cntAddress>
</rpCntInfo>
<role>
<RoleCd value="005"/>
</role>
</distorCont>
<distorFormat>
</distorFormat>
</distributor>
<distTranOps>
<onLineSrc>
<linkage>\\wcmc-data-01.internal.wcmc\gis\SpatialAnalysisUnit\Datasets-May2006\mountains_posters_2000\mtn_00m</linkage>
</onLineSrc>
</distTranOps>
<distFormat>
<formatName Sync="TRUE">Raster Dataset</formatName>
</distFormat>
</distInfo>
<dataIdInfo>
<idCitation>
<resTitle>mtn_00m</resTitle>
<date>
<pubDate>2000</pubDate>
</date>
<citRespParty>
<rpOrgName>UNEP-WCMC</rpOrgName>
<role>
<RoleCd value="006"/>
</role>
</citRespParty>
<presForm>
<PresFormCd value="005"/>
</presForm>
<presForm>
<fgdcGeoform>raster digital data</fgdcGeoform>
</presForm>
</idCitation>
<idAbs>To produce this map, topographical data from the GTOPO30 global digital elevation model (USGS EROS Data Center 1996) were used to generate slope and local (5km radius) elevation range on a 30 arc-second grid of the world. These parameters were combined with elevation to arrive at the empirically derived definitions of the six mountain classes displayed on this map. (A spatial filter was applied to classify isolated individual 'non-mountain' grid cells in mountain areas according to the predominant class of their immediate neighbours.) The global mountain area thus defined totals 35.8 million km2, or 24% of the Earth's land surface.</idAbs>
<idPurp>To provide a global context for a discussion of mountain forests, it is first necessary to define the locations and types of mountain forests, and this in turn...</idPurp>
<idStatus>
<ProgCd value="001"/>
</idStatus>
<resMaint>
<maintFreq>
<MaintFreqCd value="011"/>
</maintFreq>
</resMaint>
<themeKeys>
<keyword>mountains</keyword>
<keyword>global</keyword>
<keyword>dem</keyword>
<keyword>gtopo30</keyword>
<keyword>elevation</keyword>
<thesaName>
<resTitle>Reference to a formally registered thesaurus or a similar authoritative source of theme keywords.</resTitle>
</thesaName>
</themeKeys>
<searchKeys>
<keyword>mountains</keyword>
<keyword>global</keyword>
<keyword>dem</keyword>
<keyword>gtopo30</keyword>
<keyword>elevation</keyword>
</searchKeys>
<resConst>
<Consts>
<useLimit>1) Adhere to terms and conditions of access, 2) acknowledge the source appropriately, 3) do not re-distribute part or all of data without contacting UNEP-WCMC.</useLimit>
</Consts>
</resConst>
<resConst>
<LegConsts>
<accessConsts>
<RestrictCd value="008"/>
</accessConsts>
<othConsts>Downloadable via the UNEP-WCMC website.</othConsts>
</LegConsts>
</resConst>
<spatRpType>
<SpatRepTypCd value="002"/>
</spatRpType>
<dataLang>
<languageCode value="eng"/>
<countryCode Sync="TRUE" value="GBR"/>
</dataLang>
<tpCat>
<TopicCatCd value="006"/>
</tpCat>
<envirDesc>Microsoft Windows Vista Version 6.1 (Build 7600) ; ESRI ArcCatalog 9.3.1.3000</envirDesc>
<dataExt>
<geoEle>
<GeoBndBox>
<exTypeCode>true</exTypeCode>
<westBL>-180.000000</westBL>
<eastBL>180.000000</eastBL>
<northBL>90.000000</northBL>
<southBL>-90.000000</southBL>
</GeoBndBox>
</geoEle>
</dataExt>
<dataExt>
<exDesc>The basis on which the time period of content information is determined.</exDesc>
<tempEle>
<TempExtent>
<exTemp>
<TM_Instant>
<tmPosition/>
</TM_Instant>
</exTemp>
</TempExtent>
</tempEle>
<geoEle/>
</dataExt>
<suppInfo>Sources: Mountains derived from U.S. Geological Survey National Mapping Division, EROS Data Center (EDC) (1996) GTOPO30.</suppInfo>
<dataExt>
<geoEle>
<GeoBndBox esriExtentType="search">
<exTypeCode Sync="TRUE">1</exTypeCode>
<westBL Sync="TRUE">-180.000000</westBL>
<eastBL Sync="TRUE">180.000000</eastBL>
<northBL Sync="TRUE">90.000000</northBL>
<southBL Sync="TRUE">-90.000000</southBL>
</GeoBndBox>
</geoEle>
</dataExt>
<idCredit/>
</dataIdInfo>
<dqInfo>
<dqScope>
<scpLvl>
<ScopeCd value="005"/>
</scpLvl>
</dqScope>
<dataLineage>
</dataLineage>
</dqInfo>
<spatRepInfo>
<Georect>
<numDims>3</numDims>
<axisDimension type="001">
<dimSize>18020</dimSize>
<dimResol>
<value Sync="TRUE" uom="m">1000.000000</value>
</dimResol>
</axisDimension>
<axisDimension type="002">
<dimSize>36040</dimSize>
<dimResol>
<value Sync="TRUE" uom="m">1000.000000</value>
</dimResol>
</axisDimension>
<axisDimension type="003">
<dimSize>1</dimSize>
</axisDimension>
<cellGeo>
<CellGeoCd Sync="TRUE" value="002"/>
</cellGeo>
<tranParaAv Sync="TRUE">1</tranParaAv>
<chkPtAv Sync="TRUE">0</chkPtAv>
<cornerPts>
<pos Sync="TRUE">-18020000.000000 -9010000.000000</pos>
</cornerPts>
<cornerPts>
<pos Sync="TRUE">-18020000.000000 9010000.000000</pos>
</cornerPts>
<cornerPts>
<pos Sync="TRUE">18020000.000000 9010000.000000</pos>
</cornerPts>
<cornerPts>
<pos Sync="TRUE">18020000.000000 -9010000.000000</pos>
</cornerPts>
<centerPt>
<pos Sync="TRUE">0.000000 0.000000</pos>
</centerPt>
<ptInPixel>
<PixOrientCd Sync="TRUE" value="001"/>
</ptInPixel>
</Georect>
</spatRepInfo>
<Binary/>
<mdHrLvName Sync="TRUE">dataset</mdHrLvName>
<refSysInfo>
<RefSystem>
<refSysID>
<identCode Sync="TRUE" code="0"/>
</refSysID>
</RefSystem>
</refSysInfo>
<contInfo>
<ImgDesc>
<contentTyp>
<ContentTypCd Sync="TRUE" value="003"/>
</contentTyp>
<covDim>
<Band>
<dimDescrp Sync="TRUE">mtn_00m</dimDescrp>
<maxVal Sync="TRUE">2061.000000</maxVal>
<minVal Sync="TRUE">3.000000</minVal>
<bitsPerVal Sync="TRUE">16</bitsPerVal>
<valUnit>
<UOM type="length"/>
</valUnit>
</Band>
</covDim>
</ImgDesc>
</contInfo>
</metadata>
