<?xml version="1.0" encoding="UTF-8" standalone="no"?>
<metadata xml:lang="en">
<Esri>
<CreaDate>20061107</CreaDate>
<CreaTime>16353200</CreaTime>
<SyncOnce>FALSE</SyncOnce>
<SyncDate>20210210</SyncDate>
<SyncTime>11534900</SyncTime>
<ModDate>20210210</ModDate>
<ModTime>11534900</ModTime>
<DataProperties>
<lineage>
<Process Date="20080602" Name="CopyRaster_1" Time="151657" ToolSource="C:\Program Files\ArcGIS\ArcToolbox\Toolboxes\Data Management Tools.tbx\CopyRaster">CopyRaster F:\projects\grid_raster\tropdryf\geographic\tropdryf C:\dry_grids\tropdryf # # # NONE NONE #</Process>
<Process Date="20080612" Name="CopyRaster_1" Time="105039" ToolSource="C:\Program Files\ArcGIS\ArcToolbox\Toolboxes\Data Management Tools.tbx\CopyRaster">CopyRaster C:\dry_grids\tropdryf T:\SpatialAnalysisUnit\Datasets-May2006\trop_dryf\tropdryf # # # NONE NONE #</Process>
<Process Date="20210210" Time="095326" ToolSource="c:\program files\arcgis\pro\Resources\ArcToolbox\toolboxes\Data Management Tools.tbx\CopyRaster">CopyRaster C:\Users\OsgurM\Downloads\Tropical_Dry_Forests_2006\Tropical_Dry_Forests\trop_dryf\tropdryf "C:\Users\OsgurM\Documents\ArcGIS\Projects\Data Mgmt\Internal_Geodatabase.sde\arcgis_geodatabase.sde.tropdryf" # # 0 NONE NONE # NONE NONE "Esri Grid format" NONE CURRENT_SLICE NO_TRANSPOSE</Process>
<Process Date="20210210" Time="095933" ToolSource="c:\program files\arcgis\pro\Resources\ArcToolbox\toolboxes\Data Management Tools.tbx\Rename">Rename "C:\Users\OsgurM\Documents\ArcGIS\Projects\Data Mgmt\Internal_Geodatabase.sde\arcgis_geodatabase.sde.tropdryf" "C:\Users\OsgurM\Documents\ArcGIS\Projects\Data Mgmt\Internal_Geodatabase.sde\arcgis_geodatabase.sde.Tropical_Dry_Forests_2006" RasterDataset</Process>
</lineage>
<itemProps>
<imsContentType>002</imsContentType>
<itemName Sync="TRUE">arcgis_geodatabase.sde.Tropical_Dry_Forests_2006</itemName>
<nativeExtBox>
<westBL Sync="TRUE">-179.992279</westBL>
<eastBL Sync="TRUE">180.001245</eastBL>
<southBL Sync="TRUE">-56.452602</southBL>
<northBL Sync="TRUE">79.978823</northBL>
<exTypeCode Sync="TRUE">1</exTypeCode>
</nativeExtBox>
<itemLocation>
<linkage Sync="TRUE">Server=10.2.1.241; Service=sde:postgresql:10.2.1.241; Database=arcgis_geodatabase; User=sde; Version=sde.DEFAULT</linkage>
<protocol Sync="TRUE">ArcSDE Connection</protocol>
</itemLocation>
</itemProps>
<coordRef>
<type Sync="TRUE">Geographic</type>
<geogcsn Sync="TRUE">GCS_WGS_1984</geogcsn>
<csUnits Sync="TRUE">Angular Unit: Degree (0.017453)</csUnits>
<peXml Sync="TRUE">&lt;GeographicCoordinateSystem xsi:type='typens:GeographicCoordinateSystem' xmlns:xsi='http://www.w3.org/2001/XMLSchema-instance' xmlns:xs='http://www.w3.org/2001/XMLSchema' xmlns:typens='http://www.esri.com/schemas/ArcGIS/2.7.0'&gt;&lt;WKT&gt;GEOGCS[&amp;quot;GCS_WGS_1984&amp;quot;,DATUM[&amp;quot;D_WGS_1984&amp;quot;,SPHEROID[&amp;quot;WGS_1984&amp;quot;,6378137.0,298.257223563]],PRIMEM[&amp;quot;Greenwich&amp;quot;,0.0],UNIT[&amp;quot;Degree&amp;quot;,0.0174532925199433],AUTHORITY[&amp;quot;EPSG&amp;quot;,4326]]&lt;/WKT&gt;&lt;XOrigin&gt;-400&lt;/XOrigin&gt;&lt;YOrigin&gt;-400&lt;/YOrigin&gt;&lt;XYScale&gt;11258999068426.238&lt;/XYScale&gt;&lt;ZOrigin&gt;-100000&lt;/ZOrigin&gt;&lt;ZScale&gt;10000&lt;/ZScale&gt;&lt;MOrigin&gt;-100000&lt;/MOrigin&gt;&lt;MScale&gt;10000&lt;/MScale&gt;&lt;XYTolerance&gt;8.983152841195215e-09&lt;/XYTolerance&gt;&lt;ZTolerance&gt;0.00020000000000000001&lt;/ZTolerance&gt;&lt;MTolerance&gt;0.00020000000000000001&lt;/MTolerance&gt;&lt;HighPrecision&gt;true&lt;/HighPrecision&gt;&lt;LeftLongitude&gt;-180&lt;/LeftLongitude&gt;&lt;WKID&gt;4326&lt;/WKID&gt;&lt;LatestWKID&gt;4326&lt;/LatestWKID&gt;&lt;/GeographicCoordinateSystem&gt;</peXml>
</coordRef>
</DataProperties>
<ArcGISFormat>1.0</ArcGISFormat>
</Esri>
<idinfo>
<native>Microsoft Windows Vista Version 6.1 (Build 7600) ; ESRI ArcCatalog 9.3.1.3000</native>
<descript>
<langdata>en</langdata>
<abstract>This grid dataset shows the estimated maximum distribution of dry and seasonally dry topical forest. It has a resolution of ~500m. It is derived from the WWF biome map, the MODIS canopy cover dataset and limited to the tropical zone. This dataset was used in the publication " A global overview of the conservation status of tropical dry forests, 2006. Miles, L., Newton, A., DeFries, R., Ravilious, C., May, I., Blyth, S. Kapos, V. and Gordon, J. Journal of Biogeography 33: 491-505."</abstract>
<purpose>This dataset was utilised in " A global overview of the conservation status of tropical dry forests, 2006. Miles, L., Newton, A., DeFries, R., Ravilious, C., May, I., Blyth, S. Kapos, V. and Gordon, J. Journal of Biogeography 33: 491-505." The aim of this paper was to analyse the conservation status of tropical dry forests at the global scale, by combining a newly developed global distribution map with spatial data describing different threats, and to identify the relative exposure of different forests to such threats.</purpose>
</descript>
<citation>
<citeinfo>
<origin>UNEP-WCMC for the publication "A global overview of the conservation status of tropical dry forests. Miles, L. et al. 2006"</origin>
<pubdate>2006</pubdate>
<title>Global tropical dry forest (grid)</title>
<ftname>tropdryf</ftname>
<geoform>raster digital data</geoform>
<onlink>\\wcmc-data-01.internal.wcmc\gis\SpatialAnalysisUnit\Datasets-May2006\trop_dryf\tropdryf</onlink>
<pubinfo>
<pubplace>Cambridge</pubplace>
<publish>UNEP-WCMC</publish>
</pubinfo>
<othercit>Full Citation: Miles, L., Newton, A.C., DeFries, R.S., Ravilious, C., May, I., Blyth, S., Kapos, V., Gordon, J.E. (2006) A global overview of the conservation status of tropical dry forests. Journal of Biogeography 33(3): 491-505.</othercit>
</citeinfo>
</citation>
<timeperd>
<current>publication date</current>
<timeinfo>
<sngdate>
<caldate>2006</caldate>
</sngdate>
</timeinfo>
</timeperd>
<status>
<progress>Complete</progress>
<update>Irregular</update>
</status>
<spdom>
<bounding>
<westbc>-179.992279</westbc>
<eastbc>180.001245</eastbc>
<northbc>79.978823</northbc>
<southbc>-56.452602</southbc>
</bounding>
<lboundng>
<leftbc>-179.992279</leftbc>
<rightbc>180.001245</rightbc>
<bottombc>-56.452602</bottombc>
<topbc>79.978823</topbc>
</lboundng>
</spdom>
<keywords>
<theme>
<themekt>none</themekt>
<themekey>tropical</themekey>
<themekey>dry</themekey>
<themekey>forest</themekey>
<themekey>tropical dry forest</themekey>
<themekey>TDF</themekey>
<themekey>UNEP-WCMC</themekey>
</theme>
<place>
<placekey>global</placekey>
<placekey>world</placekey>
</place>
</keywords>
<accconst>Apply to the UNEP-WCMC for terms and conditions of access.</accconst>
<useconst>1) Adhere to terms and conditions of access 2) acknowledge the source appropriately, 3) do not re-distribute part or all of these data without contacting UNEP-WCMC</useconst>
<natvform>Raster Dataset</natvform>
<ptcontac>
<cntinfo>
<cntorgp>
<cntorg>UNEP-WCMC</cntorg>
</cntorgp>
<cntpos>Spatial Analysis Unit</cntpos>
<cntaddr>
<addrtype>mailing and physical address</addrtype>
<address>219 Huntingdon Road</address>
<city>Cambridge</city>
<state>Cambridgeshire</state>
<postal>CB3 0DL</postal>
<country>UK</country>
</cntaddr>
<cntvoice>+44 (0) 1223277314</cntvoice>
<cntfax>+44 (0) 1223277136</cntfax>
<cntemail>spatialanalysis@unep-wcmc.org</cntemail>
</cntinfo>
</ptcontac>
</idinfo>
<metainfo>
<langmeta>en</langmeta>
<metstdn>FGDC Content Standards for Digital Geospatial Metadata</metstdn>
<metstdv>FGDC-STD-001-1998</metstdv>
<mettc>local time</mettc>
<metc>
<cntinfo>
<cntorgp>
<cntorg>UNEP-WCMC</cntorg>
</cntorgp>
<cntaddr>
<addrtype>mailing and physical address</addrtype>
<city>Cambridge</city>
<state>Cambrigeshire</state>
<postal>UK</postal>
<address>219 Huntingdon Road</address>
<country>CB3 0DL</country>
</cntaddr>
<cntvoice>+44 (0) 1223277314</cntvoice>
<cntpos>Spatial Analysis Unit</cntpos>
<cntfax>+44 (0) 1223277136</cntfax>
<cntemail>spatialanalysis@unep-wcmc.org</cntemail>
</cntinfo>
</metc>
<metd>20111013</metd>
<metextns>
<onlink>http://www.esri.com/metadata/esriprof80.html</onlink>
<metprof>ESRI Metadata Profile</metprof>
</metextns>
</metainfo>
<distinfo>
<stdorder>
<digform>
<digtinfo>
<transize>42.936</transize>
<dssize>42.936</dssize>
</digtinfo>
</digform>
</stdorder>
<distrib>
<cntinfo>
<cntorgp>
<cntorg>UNEP-WCMC</cntorg>
</cntorgp>
<cntpos>Spatial Analysis Unit</cntpos>
<cntaddr>
<addrtype>mailing and physical address</addrtype>
<address>219 Huntingdon Road</address>
<city>Cambridge</city>
<state>Cambridgeshire</state>
<postal>CB3 0DL</postal>
<country>UK</country>
</cntaddr>
<cntemail>spatialanalysis@unep-wcmc.org</cntemail>
<cntvoice>+44 (0) 1223277314</cntvoice>
<cntfax>+44 (0) 1223277136</cntfax>
</cntinfo>
</distrib>
<resdesc>Downloadable Data</resdesc>
</distinfo>
<spdoinfo>
<direct>Raster</direct>
<rastinfo>
<rasttype>Grid Cell</rasttype>
<rowcount>30341</rowcount>
<colcount>80059</colcount>
<rastxsz>0.004497</rastxsz>
<rastysz>0.004497</rastysz>
<rastbpp>8</rastbpp>
<vrtcount>1</vrtcount>
<rastorig>Upper Left</rastorig>
<rastcmap>FALSE</rastcmap>
<rastcomp>Default</rastcomp>
<rastband>1</rastband>
<rastdtyp>matrix values</rastdtyp>
<rastplyr>FALSE</rastplyr>
<rastifor>GRID</rastifor>
</rastinfo>
</spdoinfo>
<spref>
<horizsys>
<cordsysn>
<geogcsn>GCS_WGS_1984</geogcsn>
</cordsysn>
<geograph>
<geogunit>Decimal degrees</geogunit>
<latres>0.000000</latres>
<longres>0.000000</longres>
</geograph>
<geodetic>
<horizdn>D_WGS_1984</horizdn>
<ellips>WGS_1984</ellips>
<semiaxis>6378137.000000</semiaxis>
<denflat>298.257224</denflat>
</geodetic>
<planar>
<planci>
<plance Sync="TRUE">row and column</plance>
<coordrep>
<absres Sync="TRUE">0.004497</absres>
<ordres Sync="TRUE">0.004497</ordres>
</coordrep>
</planci>
</planar>
</horizsys>
</spref>
<eainfo>
<detailed Name="arcgis_geodatabase.sde.SDE_VAT_54">
<enttyp>
<enttypl Sync="TRUE">arcgis_geodatabase.sde.SDE_VAT_54</enttypl>
<enttypt Sync="TRUE">Table</enttypt>
<enttypc Sync="TRUE">1</enttypc>
<enttypd>Global tropical dry forest (grid)</enttypd>
<enttypds>UNEP-WCMC</enttypds>
</enttyp>
<attr>
<attrlabl Sync="TRUE">objectid</attrlabl>
<attalias Sync="TRUE">objectid</attalias>
<attrtype Sync="TRUE">OID</attrtype>
<attwidth Sync="TRUE">4</attwidth>
<atprecis Sync="TRUE">10</atprecis>
<attscale Sync="TRUE">0</attscale>
<attrdef Sync="TRUE">Internal feature number.</attrdef>
<attrdefs Sync="TRUE">Esri</attrdefs>
<attrdomv>
<udom Sync="TRUE">Sequential unique whole numbers that are automatically generated.</udom>
</attrdomv>
</attr>
<attr>
<attrlabl Sync="TRUE">Value</attrlabl>
<attalias Sync="TRUE">VALUE</attalias>
<attrtype Sync="TRUE">Integer</attrtype>
<attwidth Sync="TRUE">4</attwidth>
<atprecis Sync="TRUE">0</atprecis>
<attscale Sync="TRUE">0</attscale>
<attrdef>Forest type, 1=Tropical dry forest</attrdef>
<attrdefs>UNEP-WCMC</attrdefs>
</attr>
<attr>
<attrlabl Sync="TRUE">Count</attrlabl>
<attalias Sync="TRUE">COUNT</attalias>
<attrtype Sync="TRUE">Integer</attrtype>
<attwidth Sync="TRUE">4</attwidth>
<atprecis Sync="TRUE">0</atprecis>
<attscale Sync="TRUE">0</attscale>
<attrdef>Number of cells in class</attrdef>
<attrdefs>UNEP-WCMC</attrdefs>
</attr>
</detailed>
</eainfo>
<dataqual>
<lineage>
<srcinfo>
<srccite>
<citeinfo>
<title>Towards an operational MODIS continuos field of percent tree cover algorithm: examples using AVHRR and MODIS data. (2002) Remote Sensing of the Environment 83, 303-319</title>
<origin>Hansen, M., DeFries, R., Townshend, J., Sohlberg, R., Dimiceli, C. and Carroll, M.</origin>
<pubdate>2002</pubdate>
</citeinfo>
</srccite>
<srccitea>MODIS layer</srccitea>
<srccontr>MODIS satellite coverage for vegetation greater than 40% canopy cover</srccontr>
<srctime>
<timeinfo>
<sngdate>
<caldate>2002</caldate>
</sngdate>
</timeinfo>
<srccurr>publication date</srccurr>
</srctime>
</srcinfo>
<srcinfo>
<srccite>
<citeinfo>
<title>Global percent tree cover at a spatial resolution of 500m: first results of the MODIS vegetation continuous fields algorithm. International Journal of Remote Sensing, 2002</title>
<origin>Hansen, M., DeFries, R., Townshend, J., Carroll, M., Dimiceli, C. and Sohlbergh, R.</origin>
<pubdate>2002</pubdate>
</citeinfo>
</srccite>
<srccitea>MODIS layer</srccitea>
<srccontr>MODIS satellite coverage for vegetation greater than 40% canopy cover</srccontr>
<srctime>
<timeinfo>
<sngdate>
<caldate>2002</caldate>
</sngdate>
</timeinfo>
<srccurr>publication date</srccurr>
</srctime>
</srcinfo>
<srcinfo>
<srccite>
<citeinfo>
<title>WWF documentation on (habitat type) maps - tropical dry forest</title>
<origin>http://www.panda.org/about_wwf/where_we_work/ecoregions/global200/pages/habitat/habitat02.htm</origin>
</citeinfo>
</srccite>
<srccitea>WWF Biomes</srccitea>
<srccontr>Biomes</srccontr>
</srcinfo>
<srcinfo>
<srccite>
<citeinfo>
<title>Terrestrial ecoregions of the world: A new map of life on Earth. BioScience 51(11): 933-938.</title>
<origin>Olson, D., Dinerstein, E., Wikramanayake, E., Burges, N., Powell, G., Underwood, E., D'Amico, J., Strand, H., Morrison, J., Loucks, C., Allnutt, T., Lamoreux,J., Ricketts, T., Itoua, I., Wettengel, W., Kura, Y., Hedao, P. and Kassem, K.</origin>
<pubdate>2001</pubdate>
</citeinfo>
</srccite>
<srctime>
<timeinfo>
<sngdate>
<caldate>2001</caldate>
</sngdate>
</timeinfo>
<srccurr>publication date</srccurr>
</srctime>
<srccitea>Olson et al Terrestrial Ecoregions</srccitea>
<srccontr>Biomes/Ecoregions</srccontr>
</srcinfo>
<procstep>
<procdesc>Took the following dry biomes from the WWF map:
Tropical and subtropical dry broadleaf forest
Tropical and subtropical grassland, savanna and shrub - limited to aridity zones from World Atlas of Desertification to exclude humid zones
Mediterranean forest, woodland and scrub
Desert and xeric shrub</procdesc>
<srcused>WWF Biomes</srcused>
</procstep>
<procstep>
<procdesc>Masked with MODIS &gt;=40% canopy cover dataset</procdesc>
<srcused>MODIS http://modis.umiacs.umd.edu/vcfdistribution.htm</srcused>
</procstep>
<procstep>
<procdesc>Limited to tropical zone.</procdesc>
</procstep>
<procstep>
<procdesc>Metadata imported.</procdesc>
<srcused>P:\PROGRAMMES\BIS\GIS\SpatialAnalysisUnit\Metadata\GeoPortal\Raster_layers\Tropical_dry_forests\tropdryf.xml</srcused>
<date>20061107</date>
<time>16353200</time>
</procstep>
</lineage>
<logic>The dataset has been created using a biome space combined with tree cover. There has been no attempt to to distinguish natural from plantation cover in this case. It is therefore inevitable that some of the 'tropical dry forest' in this map is in fact plantation forest occupying a climate space that may have originally supported tropical dry forest.
This map has not been ground truthed. In particular, the assumption that 'forest' can be defined by a restriction to 40% canopy cover has not been verified with respect to dry forest.
The tree cover map (MODIS) is a classified satellite image. There is scope for error, which has not been evaluated for this application.
The arid zone map was not delineated to the same degree of accuracy as the ecoregions map, so there are disparities in edges which are clearly intended to indicate the same physical boundaries. Also, there are some distinct curves: see the dry forest defined at the edge of subSaharan Africa.</logic>
</dataqual>
<mdLang>
<languageCode value="eng">
</languageCode>
<countryCode Sync="TRUE" value="GBR"/>
</mdLang>
<mdChar>
<CharSetCd value="004"/>
</mdChar>
<mdHrLv>
<ScopeCd value="005"/>
</mdHrLv>
<mdContact>
<rpOrgName>UNEP-WCMC</rpOrgName>
<rpPosName>Spatial Analysis Unit</rpPosName>
<rpCntInfo>
<cntPhone>
<voiceNum>+44 (0) 1223277314</voiceNum>
<faxNum>+44 (0) 1223277136</faxNum>
</cntPhone>
<cntAddress addressType="both">
<delPoint>219 Huntingdon Road</delPoint>
<city>Cambridge</city>
<adminArea>Cambrigeshire</adminArea>
<postCode>UK</postCode>
<country>CB3 0DL</country>
<eMailAdd>spatialanalysis@unep-wcmc.org</eMailAdd>
</cntAddress>
</rpCntInfo>
<role>
<RoleCd value="007"/>
</role>
</mdContact>
<mdDateSt>20111013</mdDateSt>
<mdStanName>ArcGIS Metadata</mdStanName>
<mdStanVer>1.0</mdStanVer>
<distInfo>
<distributor>
<distorCont>
<rpOrgName>UNEP-WCMC</rpOrgName>
<rpPosName>Spatial Analysis Unit</rpPosName>
<rpCntInfo>
<cntPhone>
<voiceNum>+44 (0) 1223277314</voiceNum>
<faxNum>+44 (0) 1223277136</faxNum>
</cntPhone>
<cntAddress addressType="both">
<delPoint>219 Huntingdon Road</delPoint>
<city>Cambridge</city>
<adminArea>Cambridgeshire</adminArea>
<postCode>CB3 0DL</postCode>
<country>UK</country>
<eMailAdd>spatialanalysis@unep-wcmc.org</eMailAdd>
</cntAddress>
</rpCntInfo>
<role>
<RoleCd value="005"/>
</role>
</distorCont>
<distorFormat>
</distorFormat>
</distributor>
<distTranOps>
<onLineSrc>
<linkage>\\wcmc-data-01.internal.wcmc\gis\SpatialAnalysisUnit\Datasets-May2006\trop_dryf\tropdryf</linkage>
</onLineSrc>
</distTranOps>
<distFormat>
<formatName Sync="TRUE">Enterprise Geodatabase Raster Dataset</formatName>
</distFormat>
</distInfo>
<dataIdInfo>
<idCitation>
<resTitle>Global tropical dry forest</resTitle>
<date>
<pubDate>2006</pubDate>
</date>
<citRespParty>
<rpOrgName>UNEP-WCMC for the publication "A global overview of the conservation status of tropical dry forests. Miles, L. et al. 2006"</rpOrgName>
<role>
<RoleCd value="006"/>
</role>
</citRespParty>
<citRespParty>
<rpOrgName>UNEP-WCMC</rpOrgName>
<rpCntInfo>
<cntAddress>
<delPoint>Cambridge</delPoint>
</cntAddress>
</rpCntInfo>
<role>
<RoleCd value="010"/>
</role>
</citRespParty>
<presForm>
<PresFormCd value="005"/>
</presForm>
<presForm>
<fgdcGeoform>raster digital data</fgdcGeoform>
</presForm>
<otherCitDet>Full Citation: Miles, L., Newton, A.C., DeFries, R.S., Ravilious, C., May, I., Blyth, S., Kapos, V., Gordon, J.E. (2006) A global overview of the conservation status of tropical dry forests. Journal of Biogeography 33(3): 491-505.</otherCitDet>
</idCitation>
<idAbs>&lt;span style='color: rgb(28, 29, 30); font-family: &amp;quot;Open Sans&amp;quot;, sans-serif; font-size: 16px;'&gt;We present a new global distribution map of tropical dry forest derived from the recently developed MODIS Vegetation Continuous Fields (VCF) product, which depicts percentage tree cover at a resolution of 500m, combined with previously defined maps of biomes. This distribution map was overlaid with spatial data to estimate the exposure of tropical dry forests to a number of different threats: climate change, habitat fragmentation, fire, human population density and conversion to cropland. The extent of tropical dry forest currently protected was estimated by overlaying the forest map with a global data set of the distribution of protected areas. &lt;/span&gt;&lt;div&gt;&lt;span style='color: rgb(28, 29, 30); font-family: &amp;quot;Open Sans&amp;quot;, sans-serif; font-size: 16px;'&gt;&lt;br /&gt;&lt;/span&gt;&lt;/div&gt;&lt;div&gt;&lt;span style='color: rgb(28, 29, 30); font-family: &amp;quot;Open Sans&amp;quot;, sans-serif; font-size: 16px;'&gt;This grid dataset shows the estimated maximum distribution of dry and seasonally dry topical forest. It has a resolution of ~500m. It is derived from the WWF biome map, the MODIS canopy cover dataset and limited to the tropical zone. &lt;/span&gt;&lt;span style='color: rgb(28, 29, 30); font-family: &amp;quot;Open Sans&amp;quot;, sans-serif; font-size: 16px;'&gt;This dataset was used in the publication &amp;quot; A global overview of the conservation status of tropical dry forests, 2006. Miles, L., Newton, A., DeFries, R., Ravilious, C., May, I., Blyth, S. Kapos, V. and Gordon, J. Journal of Biogeography 33: 491-505&lt;/span&gt;&lt;div&gt;&lt;div&gt;&lt;span style='color: rgb(28, 29, 30); font-family: &amp;quot;Open Sans&amp;quot;, sans-serif; font-size: 16px;'&gt;&lt;br /&gt;&lt;/span&gt;&lt;/div&gt;&lt;/div&gt;&lt;/div&gt;</idAbs>
<idPurp>This dataset was utilised in " A global overview of the conservation status of tropical dry forests, 2006. Miles, L., Newton, A., DeFries, R., Ravilious, C., May, I., Blyth, S. Kapos, V. and Gordon, J. Journal of Biogeography 33: 491-505." The aim of this paper was to analyse the conservation status of tropical dry forests at the global scale, by combining a newly developed global distribution map with spatial data describing different threats, and to identify the relative exposure of different forests to such threats.</idPurp>
<idStatus>
<ProgCd value="001"/>
</idStatus>
<idPoC>
<rpOrgName>UNEP-WCMC</rpOrgName>
<rpPosName>Spatial Analysis Unit</rpPosName>
<rpCntInfo>
<cntPhone>
<voiceNum>+44 (0) 1223277314</voiceNum>
<faxNum>+44 (0) 1223277136</faxNum>
</cntPhone>
<cntAddress addressType="both">
<delPoint>219 Huntingdon Road</delPoint>
<city>Cambridge</city>
<adminArea>Cambridgeshire</adminArea>
<postCode>CB3 0DL</postCode>
<country>UK</country>
<eMailAdd>spatialanalysis@unep-wcmc.org</eMailAdd>
</cntAddress>
</rpCntInfo>
<role>
<RoleCd value="007"/>
</role>
</idPoC>
<resMaint>
<maintFreq>
<MaintFreqCd value="010"/>
</maintFreq>
</resMaint>
<placeKeys>
<keyword>global</keyword>
<keyword>world</keyword>
</placeKeys>
<themeKeys>
<keyword>tropical</keyword>
<keyword>dry</keyword>
<keyword>forest</keyword>
<keyword>tropical dry forest</keyword>
<keyword>TDF</keyword>
<keyword>UNEP-WCMC</keyword>
</themeKeys>
<searchKeys>
<keyword>tropical</keyword>
<keyword>dry</keyword>
<keyword>forest</keyword>
<keyword>tropical dry forest</keyword>
<keyword>global</keyword>
<keyword>world</keyword>
<keyword>unep-wcmc</keyword>
<keyword>tdf</keyword>
<keyword>ckp:license=unep-wcmc-general</keyword>
<keyword>ckp:theme=nature-conserved</keyword>
<keyword>ckp:theme=nature-restored</keyword>
</searchKeys>
<resConst>
<Consts>
<useLimit>unep-wcmc-general</useLimit>
</Consts>
</resConst>
<resConst>
<LegConsts>
<accessConsts>
<RestrictCd value="008"/>
</accessConsts>
<othConsts>Apply to the UNEP-WCMC for terms and conditions of access.</othConsts>
</LegConsts>
</resConst>
<spatRpType>
<SpatRepTypCd value="002"/>
</spatRpType>
<dataLang>
<languageCode value="eng"/>
<countryCode Sync="TRUE" value="GBR"/>
</dataLang>
<envirDesc>Microsoft Windows Vista Version 6.1 (Build 7600) ; ESRI ArcCatalog 9.3.1.3000</envirDesc>
<dataExt>
<geoEle>
<GeoBndBox>
<exTypeCode>true</exTypeCode>
<westBL>-179.992279</westBL>
<eastBL>180.001245</eastBL>
<northBL>79.978823</northBL>
<southBL>-56.452602</southBL>
</GeoBndBox>
</geoEle>
</dataExt>
<dataExt>
<exDesc>publication date</exDesc>
<tempEle>
<TempExtent>
<exTemp>
<TM_Instant>
<tmPosition>2006</tmPosition>
</TM_Instant>
</exTemp>
</TempExtent>
</tempEle>
<geoEle/>
</dataExt>
<dataExt>
<geoEle>
<GeoBndBox esriExtentType="search">
<exTypeCode Sync="TRUE">1</exTypeCode>
<westBL Sync="TRUE">-179.992279</westBL>
<eastBL Sync="TRUE">180.001245</eastBL>
<northBL Sync="TRUE">79.978823</northBL>
<southBL Sync="TRUE">-56.452602</southBL>
</GeoBndBox>
</geoEle>
</dataExt>
<idCredit>Miles, L., Newton, A.C., DeFries, R.S., Ravilious, C., May, I., Blyth, S., Kapos, V., Gordon, J.E. (2006) A global overview of the conservation status of tropical dry forests. Journal of Biogeography 33(3): 491-505.</idCredit>
</dataIdInfo>
<dqInfo>
<dqScope>
<scpLvl>
<ScopeCd value="005"/>
</scpLvl>
</dqScope>
<report type="DQConcConsis">
