{ "documentInfo": { "Category": "", "Keywords": "wdpa,protected-planet,protected-areas,areas-of-biodiversity-importance", "Version": "3.6.0", "Comments": "This is a Map to update the Vector Tile Service for the WDPA", "AntialiasingMode": "Fast", "Title": "VTS_Update", "Author": "", "TextAntialiasingMode": "Force", "Subject": "" }, "maxImageWidth": 4096, "wmtsScaleFactor": 0.00028000000000003521, "maxRecordCount": 2000, "tileInfo": { "lods": [ { "level": 0, "scale": 591657527.591555, "resolution": 156543.03392799999 }, { "level": 1, "scale": 295828763.79577702, "resolution": 78271.516963999893 }, { "level": 2, "scale": 147914381.89788899, "resolution": 39135.758482000099 }, { "level": 3, "scale": 73957190.948944002, "resolution": 19567.879240999901 }, { "level": 4, "scale": 36978595.474472001, "resolution": 9783.9396204999593 }, { "level": 5, "scale": 18489297.737236001, "resolution": 4891.9698102499797 }, { "level": 6, "scale": 9244648.8686180003, "resolution": 2445.9849051249898 }, { "level": 7, "scale": 4622324.4343090001, "resolution": 1222.9924525624899 }, { "level": 8, "scale": 2311162.2171550002, "resolution": 611.49622628138002 }, { "level": 9, "scale": 1155581.108577, "resolution": 305.74811314055802 }, { "level": 10, "scale": 577790.55428899999, "resolution": 152.874056570411 }, { "level": 11, "scale": 288895.27714399999, "resolution": 76.437028285073197 }, { "level": 12, "scale": 144447.638572, "resolution": 38.218514142536598 }, { "level": 13, "scale": 72223.819285999998, "resolution": 19.109257071268299 }, { "level": 14, "scale": 36111.909642999999, "resolution": 9.5546285356341496 }, { "level": 15, "scale": 18055.954822, "resolution": 4.7773142679493699 }, { "level": 16, "scale": 9027.9774109999998, "resolution": 2.38865713397468 }, { "level": 17, "scale": 4513.9887049999998, "resolution": 1.1943285668550501 }, { "level": 18, "scale": 2256.994353, "resolution": 0.59716428355981699 }, { "level": 19, "scale": 1128.4971760000001, "resolution": 0.29858214164761698 }, { "level": 20, "scale": 564.24858800000004, "resolution": 0.14929107082380833 }, { "level": 21, "scale": 282.12429400000002, "resolution": 0.074645535411904163 }, { "level": 22, "scale": 141.06214700000001, "resolution": 0.037322767705952081 }, { "level": 23, "scale": 70.531073500000005, "resolution": 0.018661383852976041 } ], "origin": { "x": -20037508.342787001, "y": 20037508.342787001 }, "format": "PNG", "compressionQuality": 0, "rows": 256, "dpi": 96, "spatialReference": { "falseM": -100000, "xyTolerance": 0.001, "mUnits": 10000, "zUnits": 10000, "latestWkid": 3857, "zTolerance": 0.001, "wkid": 102100, "xyUnits": 148923141.928385377, "mTolerance": 0.001, "falseX": -20037700, "falseY": -30241100, "falseZ": -100000 }, "cols": 256 }, "description": "\n The World Database of Protected Areas (WDPA) is the most comprehensive global database of marine and terrestrial protected areas, updated on a monthly basis, and is one of the key global biodiversity data sets being widely used by scientists, businesses, governments, International secretariats and others to inform planning, policy decisions and management.\n The WDPA is a joint project between UN Environment Programme and the International Union for Conservation of Nature (IUCN). The compilation and management of the WDPA is carried out by UN Environment Programme World Conservation Monitoring Centre (UNEP-WCMC), in collaboration with governments, non-governmental organisations, academia and industry. There are monthly updates of the data which are made available online through the Protected Planet website where the data is both viewable and downloadable.\n Data and information on the world's protected areas compiled in the WDPA are used for reporting to the Convention on Biological Diversity on progress towards reaching the Aichi Biodiversity Targets (particularly Target 11), to the UN to track progress towards the 2030 Sustainable Development Goals, to some of the Intergovernmental Science-Policy Platform on Biodiversity and Ecosystem Services (IPBES) core indicators, and other international assessments and reports including the Global Biodiversity Outlook, as well as for the publication of the United Nations List of Protected Areas. Every two years, UNEP-WCMC releases the Protected Planet Report on the status of the world's protected areas and recommendations on how to meet international goals and targets.\n Many platforms are incorporating the WDPA to provide integrated information to diverse users, including businesses and governments, in a range of sectors including mining, oil and gas, and finance. For example, the WDPA is included in the Integrated Biodiversity Assessment Tool, an innovative decision support tool that gives users easy access to up-to-date information that allows them to identify biodiversity risks and opportunities within a project boundary.\n The reach of the WDPA is further enhanced in services developed by other parties, such as the Global Forest Watch and the Digital Observatory for Protected Areas, which provide decision makers with access to monitoring and alert systems that allow whole landscapes to be managed better. Together, these applications of the WDPA demonstrate the growing value and significance of the Protected Planet initiative.\n ", "datesInUnknownTimezone": false, "supportsQueryDomains": true, "units": "esriMeters", "maxSelectionCount": 2000, "supportedImageFormatTypes": "PNG32,PNG24,PNG,JPG,DIB,TIFF,EMF,PS,PDF,GIF,SVG,SVGZ,BMP", "supportsClipping": true, "exportTilesAllowed": false, "maxImageHeight": 4096, "tables": [{ "name": "WDPA_source_latest", "id": 2, "type": "Table" }], "hasVersionedData": false, "supportsDatumTransformation": true, "cimVersion": "3.7.0", "supportsQueryDataElements": true, "layers": [ { "subLayerIds": null, "maxScale": 0, "name": "WDPA_point_latest", "defaultVisibility": true, "id": 0, "minScale": 0, "supportsDynamicLegends": true, "type": "Feature Layer", "parentLayerId": -1, "geometryType": "esriGeometryMultipoint" }, { "subLayerIds": null, "maxScale": 0, "name": "WDPA_poly_latest", "defaultVisibility": true, "id": 1, "minScale": 0, "supportsDynamicLegends": true, "type": "Feature Layer", "parentLayerId": -1, "geometryType": "esriGeometryPolygon" } ], "mapName": "Map", "minScale": 591657527.591555, "archivingInfo": {"supportsHistoricMoment": false}, "spatialReference": { "falseM": -100000, "xyTolerance": 0.001, "mUnits": 10000, "zUnits": 10000, "latestWkid": 3857, "zTolerance": 0.001, "wkid": 102100, "xyUnits": 10000, "mTolerance": 0.001, "falseX": -20037700, "falseY": -30241100, "falseZ": -100000 }, "tileImageInfo": { "bandCount": 1, "lercError": 0, "format": "PNG", "compressionQuality": 0 }, "fullExtent": { "ymin": -20520831.68660583, "xmin": -20037507.067161843, "ymax": 22165023.587148983, "xmax": 20037507.067161843, "spatialReference": { "cs": "pcs", "wkid": 102100 } }, "supportedExtensions": "FeatureServer", "serviceItemId": "f28b72ba0ec845d680b41de363887034", "capabilities": "Map,Query,Data,TileMap,Tilemap", "supportsDynamicLayers": true, "maxScale": 144447.638572, "singleFusedMapCache": true, "currentVersion": 12.1, "storageInfo": { "storageFormat": "esriMapCacheStorageModeCompactV2", "packetSize": 128 }, "resampling": false, "hasBranchVersionedData": false, "mapUnits": {"uwkid": 9001}, "referenceScale": 0, "floorAwareMapProperties": {"defaultFloorFilterSettings": {"isEnabled": false}}, "supportsSpatialFilter": true, "maxLOD": 12, "supportedQueryFormats": "JSON, geoJSON, PBF", "datumTransformations": [ {"geoTransforms": [{ "latestWkid": 1149, "transformForward": true, "wkid": 1149, "name": "ETRS_1989_To_WGS_1984" }]}, {"geoTransforms": [{ "latestWkid": 1149, "transformForward": false, "wkid": 1149, "name": "ETRS_1989_To_WGS_1984" }]} ], "initialExtent": { "ymin": -11948687.724494625, "xmin": -14967268.611979527, "ymax": 13592858.971792519, "xmax": 14967268.611979527, "spatialReference": { "cs": "pcs", "wkid": 102100 } }, "serviceDescription": "
The World Database of Protected Areas (WDPA) is the most comprehensive global database of marine and terrestrial protected areas, updated on a monthly basis, and is one of the key global biodiversity data sets being widely used by scientists, businesses, governments, International secretariats and others to inform planning, policy decisions and management.
<\/p>\n
The WDPA is a joint project between UN Environment Programme and the International Union for Conservation of Nature (IUCN). The compilation and management of the WDPA is carried out by UN Environment Programme World Conservation Monitoring Centre (UNEP-WCMC), in collaboration with governments, non-governmental organisations, academia and industry. There are monthly updates of the data which are made available online through the Protected Planet website where the data is both viewable and downloadable.<\/span><\/p>\n Data and information on the world's protected areas compiled in the WDPA are used for reporting to the Convention on Biological Diversity on progress towards reaching the Aichi Biodiversity Targets (particularly Target 11), to the UN to track progress towards the 2030 Sustainable Development Goals, to some of the Intergovernmental Science-Policy Platform on Biodiversity and Ecosystem Services (IPBES) core indicators, and other international assessments and reports including the Global Biodiversity Outlook, as well as for the publication of the United Nations List of Protected Areas. Every two years, UNEP-WCMC releases the Protected Planet Report on the status of the world's protected areas and recommendations on how to meet international goals and targets.<\/span><\/p>\n Many platforms are incorporating the WDPA to provide integrated information to diverse users, including businesses and governments, in a range of sectors including mining, oil and gas, and finance. For example, the WDPA is included in the Integrated Biodiversity Assessment Tool, an innovative decision support tool that gives users easy access to up-to-date information that allows them to identify biodiversity risks and opportunities within a project boundary.<\/span><\/p>\n The reach of the WDPA is further enhanced in services developed by other parties, such as the Global Forest Watch and the Digital Observatory for Protected Areas, which provide decision makers with access to monitoring and alert systems that allow whole landscapes to be managed better. Together, these applications of the WDPA demonstrate the growing value and significance of the Protected Planet initiative.<\/span><\/p>\n <\/div>",
"copyrightText": "UNEP-WCMC and IUCN (2026), Protected Planet: The World Database on Protected Areas (WDPA) [Online], [August 2026], Cambridge, UK. DOI: https://doi.org/10.34892/6fwd-af11",
"supportsTimeRelation": true
}