<?xml version="1.0" encoding="UTF-8" standalone="no"?>
<metadata xml:lang="en">
<Esri>
<CreaDate>20210711</CreaDate>
<CreaTime>19531600</CreaTime>
<ArcGISFormat>1.0</ArcGISFormat>
<SyncOnce>FALSE</SyncOnce>
<DataProperties>
<itemProps>
<itemName Sync="TRUE">arcgis_geodatabase.sde.IIASA_001_NatureMap_PotNatVegetation</itemName>
<itemLocation>
<linkage Sync="TRUE">Server=10.2.1.241; Service=sde:postgresql:10.2.1.241; Database=arcgis_geodatabase; User=sde; Version=sde.DEFAULT</linkage>
<protocol Sync="TRUE">ArcSDE Connection</protocol>
</itemLocation>
<imsContentType Sync="TRUE" export="False">002</imsContentType>
<nativeExtBox>
<westBL Sync="TRUE">-180.000000</westBL>
<eastBL Sync="TRUE">179.999942</eastBL>
<southBL Sync="TRUE">-62.000809</southBL>
<northBL Sync="TRUE">87.370000</northBL>
<exTypeCode Sync="TRUE">1</exTypeCode>
</nativeExtBox>
</itemProps>
<coordRef>
<type Sync="TRUE">Geographic</type>
<geogcsn Sync="TRUE">GCS_WGS_1984</geogcsn>
<csUnits Sync="TRUE">Angular Unit: Degree (0.017453)</csUnits>
<peXml Sync="TRUE">&lt;GeographicCoordinateSystem xsi:type='typens:GeographicCoordinateSystem' xmlns:xsi='http://www.w3.org/2001/XMLSchema-instance' xmlns:xs='http://www.w3.org/2001/XMLSchema' xmlns:typens='http://www.esri.com/schemas/ArcGIS/2.4.0'&gt;&lt;WKT&gt;GEOGCS[&amp;quot;GCS_WGS_1984&amp;quot;,DATUM[&amp;quot;D_WGS_1984&amp;quot;,SPHEROID[&amp;quot;WGS_1984&amp;quot;,6378137.0,298.257223563]],PRIMEM[&amp;quot;Greenwich&amp;quot;,0.0],UNIT[&amp;quot;Degree&amp;quot;,0.0174532925199433],AUTHORITY[&amp;quot;EPSG&amp;quot;,4326]]&lt;/WKT&gt;&lt;XOrigin&gt;-400&lt;/XOrigin&gt;&lt;YOrigin&gt;-400&lt;/YOrigin&gt;&lt;XYScale&gt;11258999068426.238&lt;/XYScale&gt;&lt;ZOrigin&gt;-100000&lt;/ZOrigin&gt;&lt;ZScale&gt;10000&lt;/ZScale&gt;&lt;MOrigin&gt;-100000&lt;/MOrigin&gt;&lt;MScale&gt;10000&lt;/MScale&gt;&lt;XYTolerance&gt;8.983152841195215e-09&lt;/XYTolerance&gt;&lt;ZTolerance&gt;0.00020000000000000001&lt;/ZTolerance&gt;&lt;MTolerance&gt;0.00020000000000000001&lt;/MTolerance&gt;&lt;HighPrecision&gt;true&lt;/HighPrecision&gt;&lt;LeftLongitude&gt;-180&lt;/LeftLongitude&gt;&lt;WKID&gt;4326&lt;/WKID&gt;&lt;LatestWKID&gt;4326&lt;/LatestWKID&gt;&lt;/GeographicCoordinateSystem&gt;</peXml>
</coordRef>
<RasterProperties>
<General>
<PixelDepth Sync="TRUE">8</PixelDepth>
<HasColormap Sync="TRUE">FALSE</HasColormap>
<CompressionType Sync="TRUE">LZW</CompressionType>
<NumBands Sync="TRUE">1</NumBands>
<Format Sync="TRUE">TIFF</Format>
<HasPyramids Sync="TRUE">TRUE</HasPyramids>
<SourceType Sync="TRUE">continuous</SourceType>
<PixelType Sync="TRUE">unsigned integer</PixelType>
<NoDataValue Sync="TRUE">255</NoDataValue>
</General>
</RasterProperties>
<lineage>
<Process Date="20210719" Time="012720" ToolSource="c:\program files\arcgis\pro\Resources\ArcToolbox\toolboxes\Data Management Tools.tbx\CopyRaster">CopyRaster O:\f01_projects_active\Global\p08425_naturemap\outputs\Sept_2020_outputs_FINAL\Corinna\IIASA_001_NatureMap_PotNatVegetation\pnv_potential.landcover_probav.lc100_c_250m_s0..0cm_2017_v0.1.tif "O:\f01_projects_active\Global\p08425_naturemap\outputs\Sept_2020_outputs_FINAL\Corinna\carbon, biodiversity, water, NatureMap\InternalPortal.sde\arcgis_geodatabase.sde.pnv_potential_landcover_probav_lc100_c_250m_s0__0cm_2017_v0_1" # # 255 NONE NONE # NONE NONE "Esri Grid" NONE CURRENT_SLICE NO_TRANSPOSE</Process>
<Process Date="20210719" Time="102923" ToolSource="c:\program files\arcgis\pro\Resources\ArcToolbox\toolboxes\Data Management Tools.tbx\Rename">Rename "O:\f01_projects_active\Global\p08425_naturemap\outputs\Sept_2020_outputs_FINAL\Corinna\carbon, biodiversity, water, NatureMap\InternalPortal.sde\arcgis_geodatabase.sde.pnv_potential_landcover_probav_lc100_c_250m_s0__0cm_2017_v0_1" "O:\f01_projects_active\Global\p08425_naturemap\outputs\Sept_2020_outputs_FINAL\Corinna\carbon, biodiversity, water, NatureMap\InternalPortal.sde\arcgis_geodatabase.sde.IIASA_001_NatureMap_PotNatVegetation" RasterDataset</Process>
</lineage>
</DataProperties>
<SyncDate>20210728</SyncDate>
<SyncTime>13331500</SyncTime>
<ModDate>20210728</ModDate>
<ModTime>13331500</ModTime>
<scaleRange>
<minScale>150000000</minScale>
<maxScale>5000</maxScale>
</scaleRange>
</Esri>
<dataIdInfo>
<envirDesc Sync="TRUE">Microsoft Windows 10 Version 10.0 (Build 19043) ; Esri ArcGIS 12.4.2.19948</envirDesc>
<dataLang>
<languageCode Sync="TRUE" value="eng"/>
<countryCode Sync="TRUE" value="GBR"/>
</dataLang>
<idCitation>
<resTitle Sync="FALSE">NatureMap_PotNatVegetation</resTitle>
<presForm>
<PresFormCd Sync="TRUE" value="011"/>
</presForm>
<resEd>0.1</resEd>
<resEdDate>20200130</resEdDate>
</idCitation>
<spatRpType>
<SpatRepTypCd Sync="TRUE" value="002"/>
</spatRpType>
<dataExt>
<geoEle>
<GeoBndBox esriExtentType="search">
<exTypeCode Sync="TRUE">1</exTypeCode>
<westBL Sync="TRUE">-180.000000</westBL>
<eastBL Sync="TRUE">179.999942</eastBL>
<northBL Sync="TRUE">87.370000</northBL>
<southBL Sync="TRUE">-62.000809</southBL>
</GeoBndBox>
</geoEle>
</dataExt>
<idPurp>This is one of a number of datasets to download. This dataset named pnv_potential.landcover_probav.lc100_c_250m_s0..0cm_2017_v0.1.tif , showing potential distribution of land cover classes (Potential Natural Vegetation) at 250 m spatial resolution based on a compilation of data sets (Biome6000k, Geo-Wiki, LandPKS, mangroves soil database, and from various literature sources; total of about 65,000 training points). Datasets for individual landcover types are also available on the website.
These are initial predictions for testing purposes only. A publication explaining all processing steps is pending.</idPurp>
<idAbs>&lt;div style='text-align:Left;'&gt;&lt;div&gt;&lt;div&gt;&lt;p&gt;&lt;span&gt;A &lt;/span&gt;&lt;span&gt;comparable thematic legend&lt;/span&gt;&lt;span&gt; was&lt;/span&gt;&lt;span&gt; used to produce the Dynamic Land Cover 100m: Version 2. Copernicus Global Land Operations product (Buchhorn et al. 2019), which is based on the UN FAO Land Cover Classification System (LCCS), so that users can compare actual (https://lcviewer.vito.be/) vs potential (this data set) land cover. Two classes not available in the LCCS were added: "subtropical/tropical mangrove vegetation" and "sub-polar or polar barren-lichen-moss, grassland". The map was created using relief and climate variables representing conditions the climate for the last 20+ years and predicted at 250 m globally using an Ensemble Machine Learning approach as implemented in the mlr package for R. Processing steps are described in detail &lt;/span&gt;&lt;a href='https://github.com:443/Envirometrix/PNVmaps' target='_blank' style='text-decoration:underline;'&gt;&lt;span&gt;here&lt;/span&gt;&lt;/a&gt;&lt;span&gt;. Maps with "_sd_" contain estimated model errors per class. Antarctica is not included&lt;/span&gt;&lt;span&gt;.&lt;/span&gt;&lt;/p&gt;&lt;p&gt;&lt;span&gt;Produced for the needs of the NatureMap which is project run by the International Institute for Applied Systems Analysis (IIASA), the International Institute for Sustainability (IIS), the UN Environment Programme World Conservation Monitoring Centre (UNEP-WCMC), and the UN Sustainable Development Solutions Network (SDSN). NatureMap is funded by Norway’s International Climate Initiative (NICFI).&lt;/span&gt;&lt;/p&gt;&lt;/div&gt;&lt;/div&gt;&lt;/div&gt;</idAbs>
<idCredit>Hengl, Tomislav, Jung, Martin, &amp; Visconti, Piero. (2020). Potential distribution of land cover classes (Potential Natural Vegetation) at 250 m spatial resolution (Version v0.1) [Data set]. Zenodo. http://doi.org/10.5281/zenodo.3631254</idCredit>
<searchKeys>
<keyword>potential natural vegetation</keyword>
<keyword>potential landcover</keyword>
<keyword>NatureMap</keyword>
</searchKeys>
<dataChar>
<CharSetCd value="004"/>
</dataChar>
<dataScale>
<scaleDist>
<value uom="m">250</value>
</scaleDist>
</dataScale>
<idPoC>
<editorSource>external</editorSource>
<editorDigest>119302e09c02b27f8ce40cc1f241c28af2ae5374</editorDigest>
<rpIndName>Martin Jung</rpIndName>
<rpOrgName>IIASA</rpOrgName>
<rpCntInfo>
<cntAddress addressType="">
<eMailAdd>jung@iiasa.ac.at</eMailAdd>
</cntAddress>
</rpCntInfo>
<editorSave>True</editorSave>
<displayName>Martin Jung</displayName>
<role>
<RoleCd value="006"/>
</role>
</idPoC>
<themeKeys>
<keyword>potential landcover</keyword>
</themeKeys>
<placeKeys>
<keyword>global</keyword>
</placeKeys>
<resConst>
<Consts>
<useLimit>&lt;div style='text-align:Left;'&gt;&lt;div&gt;&lt;div&gt;&lt;p&gt;&lt;span&gt;Maps will also be made available via: OpenLandMap.org. These are initial predictions for testing purposes only. A publication explaining all processing steps is pending.&lt;/span&gt;&lt;/p&gt;&lt;/div&gt;&lt;/div&gt;&lt;/div&gt;</useLimit>
</Consts>
</resConst>
<suppInfo>This dataset was downloaded from http://doi.org/10.5281/zenodo.3631254. It was named pnv_potential.landcover_probav.lc100_c_250m_s0..0cm_2017_v0.1.tif
The Value in the raster dataset refers to the map_code in the information below. This information was contained in an accompanying csv file can be downloaded from the website.
"map_code","land_cover_class","pv_mapping","land_cover_class_agg"
,0,"unknown",0,"unknown"
111,"closed forest, evergreen needleleaf",1,"forests"
113,"closed forest, deciduous needleleaf",1,"forests"
112,"closed forest, evergreen broadleaf",1,"forests"
114,"closed forest, deciduous broadleaf",1,"forests"
115,"closed forest, mixed",1,"forests"
116,"closed forest, unknown",0,"forests"
121,"open forest, evergreen needleleaf",1,"forests"
123,"open forest, deciduous needleleaf",1,"forests"
122,"open forest, evergreen broadleaf",1,"forests"
124,"open forest, deciduous broadleaf",1,"forests"
125,"open forest, mixed",1,"forests"
126,"open forest, unknown",0,"forests"
127,"subtropical/tropical mangrove vegetation",1,"forests"
21,"sub-polar or polar barren-lichen-moss, grassland",1,"shrubs"
20,"shrubs",1,"shrubs"
30,"herbaceous vegetation",1,"herbaceous vegetation"
90,"herbaceous wetland",1,"herbaceous wetland"
100,"moss and lichen",1,"moss and lichen"
60,"bare/sparse vegetation",1,"bare/sparse vegetation"
40,"cropland",0,"cropland"
50,"urban/built-up",0,"urban/built-up"
70,"snow and ice",0,"snow and ice"
80,"permanent water bodies",0,"permanent water bodies"
200,"open sea",0,"open sea"</suppInfo>
<tpCat>
<TopicCatCd value="007"/>
</tpCat>
</dataIdInfo>
<mdLang>
<languageCode Sync="TRUE" value="eng"/>
<countryCode Sync="TRUE" value="GBR"/>
</mdLang>
<mdChar>
<CharSetCd Sync="TRUE" value="004"/>
</mdChar>
<distInfo>
<distFormat>
<formatName Sync="TRUE">Enterprise Geodatabase Raster Dataset</formatName>
</distFormat>
</distInfo>
<mdHrLv>
<ScopeCd Sync="TRUE" value="005"/>
</mdHrLv>
<mdHrLvName Sync="TRUE">dataset</mdHrLvName>
<refSysInfo>
<RefSystem dimension="">
<refSysID>
<identCode Sync="TRUE" code="4326"/>
<idCodeSpace Sync="TRUE">EPSG</idCodeSpace>
<idVersion Sync="TRUE">6.14(3.0.1)</idVersion>
</refSysID>
</RefSystem>
</refSysInfo>
<spatRepInfo>
<Georect>
<cellGeo>
<CellGeoCd Sync="TRUE" value="002"/>
</cellGeo>
<numDims Sync="TRUE">2</numDims>
<tranParaAv Sync="TRUE">1</tranParaAv>
<chkPtAv Sync="TRUE">0</chkPtAv>
<cornerPts>
<pos Sync="TRUE">-180.000000 -62.000809</pos>
</cornerPts>
<cornerPts>
<pos Sync="TRUE">-180.000000 87.370000</pos>
</cornerPts>
<cornerPts>
<pos Sync="TRUE">179.999942 87.370000</pos>
</cornerPts>
<cornerPts>
<pos Sync="TRUE">179.999942 -62.000809</pos>
</cornerPts>
<centerPt>
<pos Sync="TRUE">-0.000029 12.684595</pos>
</centerPt>
<axisDimension type="002">
<dimSize Sync="TRUE">172800</dimSize>
<dimResol>
<value Sync="TRUE" uom="deg">0.002083</value>
</dimResol>
</axisDimension>
<axisDimension type="001">
<dimSize Sync="TRUE">71698</dimSize>
<dimResol>
<value Sync="TRUE" uom="deg">0.002083</value>
</dimResol>
</axisDimension>
<ptInPixel>
<PixOrientCd Sync="TRUE" value="001"/>
</ptInPixel>
</Georect>
</spatRepInfo>
<eainfo>
<detailed Name="arcgis_geodatabase.sde.SDE_VAT_112">
<enttyp>
<enttypl Sync="TRUE">arcgis_geodatabase.sde.SDE_VAT_112</enttypl>
<enttypt Sync="TRUE">Table</enttypt>
<enttypc Sync="TRUE">63</enttypc>
</enttyp>
<attr>
<attrlabl Sync="TRUE">objectid</attrlabl>
<attalias Sync="TRUE">objectid</attalias>
<attrtype Sync="TRUE">OID</attrtype>
<attwidth Sync="TRUE">4</attwidth>
<atprecis Sync="TRUE">10</atprecis>
<attscale Sync="TRUE">0</attscale>
<attrdef Sync="TRUE">Internal feature number.</attrdef>
<attrdefs Sync="TRUE">Esri</attrdefs>
<attrdomv>
<udom Sync="TRUE">Sequential unique whole numbers that are automatically generated.</udom>
</attrdomv>
</attr>
<attr>
<attrlabl Sync="TRUE">Value</attrlabl>
<attalias Sync="TRUE">value</attalias>
<attrtype Sync="TRUE">Integer</attrtype>
<attwidth Sync="TRUE">4</attwidth>
<atprecis Sync="TRUE">10</atprecis>
<attscale Sync="TRUE">0</attscale>
</attr>
<attr>
<attrlabl Sync="TRUE">Count</attrlabl>
<attalias Sync="TRUE">count</attalias>
<attrtype Sync="TRUE">Double</attrtype>
<attwidth Sync="TRUE">8</attwidth>
<atprecis Sync="TRUE">38</atprecis>
<attscale Sync="TRUE">0</attscale>
</attr>
</detailed>
</eainfo>
<contInfo>
<ImgDesc>
<contentTyp>
<ContentTypCd Sync="TRUE" value="001"/>
</contentTyp>
<covDim>
<Band>
<dimDescrp Sync="TRUE">Band_1</dimDescrp>
<bitsPerVal Sync="TRUE">8</bitsPerVal>
<valUnit>
<UOM type="length"/>
</valUnit>
</Band>
</covDim>
</ImgDesc>
</contInfo>
<mdDateSt Sync="TRUE">20210728</mdDateSt>
<mdContact>
<editorSource>external</editorSource>
<editorDigest>5d156fac6c56de7bdd6f74d66dac3fbd0ada0468</editorDigest>
<rpOrgName>UNEP-WCMC</rpOrgName>
<rpPosName>Data Manager</rpPosName>
<rpCntInfo>
<cntAddress addressType="">
<eMailAdd>spatialanalysis@unep-wcmc.org</eMailAdd>
</cntAddress>
</rpCntInfo>
<displayName>Corinna Ravilious</displayName>
<editorSave>True</editorSave>
<displayName>UNEP-WCMC</displayName>
<role>
<RoleCd value="007"/>
</role>
</mdContact>
<mdContact>
<editorSource>external</editorSource>
<editorDigest>119302e09c02b27f8ce40cc1f241c28af2ae5374</editorDigest>
<rpIndName>Martin Jung</rpIndName>
<rpOrgName>IIASA</rpOrgName>
<rpCntInfo>
<cntAddress addressType="">
<eMailAdd>jung@iiasa.ac.at</eMailAdd>
</cntAddress>
</rpCntInfo>
<editorSave>True</editorSave>
<displayName>Martin Jung</displayName>
<role>
<RoleCd value="007"/>
</role>
</mdContact>
<spdoinfo>
<rastinfo>
<rasttype Sync="TRUE">Pixel</rasttype>
<rowcount Sync="TRUE">71698</rowcount>
<colcount Sync="TRUE">172800</colcount>
<rastxsz Sync="TRUE">0.002083</rastxsz>
<rastysz Sync="TRUE">0.002083</rastysz>
<rastbpp Sync="TRUE">8</rastbpp>
<vrtcount Sync="TRUE">1</vrtcount>
<rastorig Sync="TRUE">Upper Left</rastorig>
<rastcmap Sync="TRUE">FALSE</rastcmap>
<rastcomp Sync="TRUE">LZ77</rastcomp>
<rastband Sync="TRUE">1</rastband>
<rastdtyp Sync="TRUE">pixel codes</rastdtyp>
<rastifor Sync="TRUE">SDR</rastifor>
<rastplyr Sync="TRUE">TRUE</rastplyr>
</rastinfo>
</spdoinfo>
<spref>
<horizsys>
<planar>
<planci>
<plance Sync="TRUE">row and column</plance>
<coordrep>
<absres Sync="TRUE">0.002083</absres>
<ordres Sync="TRUE">0.002083</ordres>
</coordrep>
</planci>
</planar>
</horizsys>
</spref>
</metadata>
