<?xml version="1.0" encoding="UTF-8" standalone="no"?>
<metadata xml:lang="en">
<Esri>
<CreaDate>20210421</CreaDate>
<CreaTime>22064000</CreaTime>
<ArcGISFormat>1.0</ArcGISFormat>
<SyncOnce>FALSE</SyncOnce>
<DataProperties>
<lineage>
<Process Date="20210421" Name="" Time="220640" ToolSource="c:\program files\arcgis\pro\Resources\ArcToolbox\toolboxes\Spatial Analyst Tools.tbx\ExtractByRectangle" export="">ExtractByRectangle car_bio_water_pressures_sum_norm2.tif "-180 -90 180 90" C:\Workspace2021\car_bio_water_pressures_sum_norm3.tif Inside</Process>
<Process Date="20210421" Name="" Time="222019" ToolSource="c:\program files\arcgis\pro\Resources\ArcToolbox\toolboxes\Data Management Tools.tbx\Clip" export="">Clip car_bio_water_pressures_sum_norm3.tif "-180 -90 180 90" C:\Workspace2021\car_bio_water_pressures_sum_norm4.tif # -3.402823e+38 NONE MAINTAIN_EXTENT</Process>
<Process Date="20210729" Name="" Time="230830" ToolSource="c:\program files\arcgis\pro\Resources\ArcToolbox\toolboxes\Data Management Tools.tbx\CopyRaster" export="">CopyRaster O:\f00_data\WCMC-050-NatureMap_HumanPressures\HumanPressures.tif "O:\f01_projects_active\Global\p08425_naturemap\outputs\Sept_2020_outputs_FINAL\Corinna\carbon, biodiversity, water, NatureMap\InternalPortal.sde\arcgis_geodatabase.sde.HumanPressures" # # -3.402823e+38 NONE NONE # NONE NONE "Esri Grid" NONE CURRENT_SLICE NO_TRANSPOSE</Process>
<Process Date="20210730" Name="" Time="093502" ToolSource="c:\program files\arcgis\pro\Resources\ArcToolbox\toolboxes\Data Management Tools.tbx\Rename" export="">Rename "O:\f01_projects_active\Global\p08425_naturemap\outputs\Sept_2020_outputs_FINAL\Corinna\carbon, biodiversity, water, NatureMap\InternalPortal.sde\arcgis_geodatabase.sde.HumanPressures" "O:\f01_projects_active\Global\p08425_naturemap\outputs\Sept_2020_outputs_FINAL\Corinna\carbon, biodiversity, water, NatureMap\InternalPortal.sde\arcgis_geodatabase.sde.WCMC050_NatuureMap_HumanPressures" RasterDataset</Process>
<Process Date="20210730" Name="" Time="093619" ToolSource="c:\program files\arcgis\pro\Resources\ArcToolbox\toolboxes\Data Management Tools.tbx\Rename" export="">Rename "O:\f01_projects_active\Global\p08425_naturemap\outputs\Sept_2020_outputs_FINAL\Corinna\carbon, biodiversity, water, NatureMap\InternalPortal.sde\arcgis_geodatabase.sde.WCMC050_NatuureMap_HumanPressures" "O:\f01_projects_active\Global\p08425_naturemap\outputs\Sept_2020_outputs_FINAL\Corinna\carbon, biodiversity, water, NatureMap\InternalPortal.sde\arcgis_geodatabase.sde.WCMC050_NatureMap_HumanPressures" RasterDataset</Process>
</lineage>
<itemProps>
<itemName Sync="TRUE">arcgis_geodatabase.sde.WCMC050_NatureMap_HumanPressures</itemName>
<itemLocation>
<linkage Sync="TRUE">Server=10.2.1.241; Service=sde:postgresql:10.2.1.241; Database=arcgis_geodatabase; User=sde; Version=sde.DEFAULT</linkage>
<protocol Sync="TRUE">ArcSDE Connection</protocol>
</itemLocation>
<imsContentType Sync="TRUE" export="False">002</imsContentType>
<nativeExtBox>
<westBL Sync="TRUE">-180.000000</westBL>
<eastBL Sync="TRUE">180.000000</eastBL>
<southBL Sync="TRUE">-90.000000</southBL>
<northBL Sync="TRUE">90.000000</northBL>
<exTypeCode Sync="TRUE">1</exTypeCode>
</nativeExtBox>
</itemProps>
<coordRef>
<type Sync="TRUE">Geographic</type>
<geogcsn Sync="TRUE">GCS_WGS_1984</geogcsn>
<csUnits Sync="TRUE">Angular Unit: Degree (0.017453)</csUnits>
<peXml Sync="TRUE">&lt;GeographicCoordinateSystem xsi:type='typens:GeographicCoordinateSystem' xmlns:xsi='http://www.w3.org/2001/XMLSchema-instance' xmlns:xs='http://www.w3.org/2001/XMLSchema' xmlns:typens='http://www.esri.com/schemas/ArcGIS/2.4.0'&gt;&lt;WKT&gt;GEOGCS[&amp;quot;GCS_WGS_1984&amp;quot;,DATUM[&amp;quot;D_WGS_1984&amp;quot;,SPHEROID[&amp;quot;WGS_1984&amp;quot;,6378137.0,298.257223563]],PRIMEM[&amp;quot;Greenwich&amp;quot;,0.0],UNIT[&amp;quot;Degree&amp;quot;,0.0174532925199433],AUTHORITY[&amp;quot;EPSG&amp;quot;,4326]]&lt;/WKT&gt;&lt;XOrigin&gt;-400&lt;/XOrigin&gt;&lt;YOrigin&gt;-400&lt;/YOrigin&gt;&lt;XYScale&gt;11258999068426.238&lt;/XYScale&gt;&lt;ZOrigin&gt;-100000&lt;/ZOrigin&gt;&lt;ZScale&gt;10000&lt;/ZScale&gt;&lt;MOrigin&gt;-100000&lt;/MOrigin&gt;&lt;MScale&gt;10000&lt;/MScale&gt;&lt;XYTolerance&gt;8.983152841195215e-09&lt;/XYTolerance&gt;&lt;ZTolerance&gt;0.00020000000000000001&lt;/ZTolerance&gt;&lt;MTolerance&gt;0.00020000000000000001&lt;/MTolerance&gt;&lt;HighPrecision&gt;true&lt;/HighPrecision&gt;&lt;LeftLongitude&gt;-180&lt;/LeftLongitude&gt;&lt;WKID&gt;4326&lt;/WKID&gt;&lt;LatestWKID&gt;4326&lt;/LatestWKID&gt;&lt;/GeographicCoordinateSystem&gt;</peXml>
</coordRef>
<RasterProperties>
<General>
<PixelDepth Sync="TRUE">32</PixelDepth>
<HasColormap Sync="TRUE">FALSE</HasColormap>
<CompressionType Sync="TRUE">LZW</CompressionType>
<NumBands Sync="TRUE">1</NumBands>
<Format Sync="TRUE">TIFF</Format>
<HasPyramids Sync="TRUE">TRUE</HasPyramids>
<SourceType Sync="TRUE">continuous</SourceType>
<PixelType Sync="TRUE">floating point</PixelType>
<NoDataValue Sync="TRUE">-3.4028231e+38</NoDataValue>
</General>
</RasterProperties>
</DataProperties>
<SyncDate>20210730</SyncDate>
<SyncTime>09573300</SyncTime>
<ModDate>20210730</ModDate>
<ModTime>18253900</ModTime>
<scaleRange>
<minScale>150000000</minScale>
<maxScale>5000</maxScale>
</scaleRange>
<ArcGISProfile>INSPIRE</ArcGISProfile>
</Esri>
<dataIdInfo>
<envirDesc Sync="TRUE">Microsoft Windows 10 Version 10.0 (Build 19043) ; Esri ArcGIS 12.4.2.19948</envirDesc>
<dataLang>
<languageCode Sync="TRUE" value="eng"/>
<countryCode Sync="TRUE" value="GBR"/>
</dataLang>
<idCitation>
<resTitle Sync="FALSE">NatureMap_HumanPressures</resTitle>
<presForm>
<PresFormCd Sync="TRUE" value="011"/>
</presForm>
<date>
<createDate>2020-12-31T00:00:00</createDate>
</date>
<resEd>1</resEd>
<otherCitDet>UNEP-WCMC (2020). Human pressures on biodiversity, water and carbon. Cambridge, </otherCitDet>
<citRespParty>
<rpIndName>Corinna Ravilious</rpIndName>
<rpOrgName>UNEP-WCMC</rpOrgName>
<rpPosName>Senior GIS Officer</rpPosName>
<role>
<RoleCd value="001"/>
</role>
</citRespParty>
</idCitation>
<spatRpType>
<SpatRepTypCd Sync="TRUE" value="002"/>
</spatRpType>
<dataExt>
<geoEle>
<GeoBndBox esriExtentType="search">
<exTypeCode Sync="TRUE">1</exTypeCode>
<westBL Sync="TRUE">-180.000000</westBL>
<eastBL Sync="TRUE">180.000000</eastBL>
<northBL Sync="TRUE">90.000000</northBL>
<southBL Sync="TRUE">-90.000000</southBL>
</GeoBndBox>
</geoEle>
</dataExt>
<idPurp>The purpose of this dataset is to understand the spatial distribution of combined pressures on biodiversity, water provisioning services and carbon in the biomass and soils at a global scale. We selected a number of existing datasets which best represented pressures on these 3 components.</idPurp>
<idAbs>&lt;div style='text-align:Left;'&gt;&lt;div&gt;&lt;div&gt;&lt;p style='margin:0 0 0 0;'&gt;&lt;span&gt;&lt;span&gt;In order to describe the human pressures on the biodiversity component of nature, we used the 2009 Human Footprint (HF) map. The HF is a widely recognised dataset describing the global, cumulative human pressure on the environment in 2009, at a spatial resolution of ~1 km (Venter et al., 2016). The human pressure is measured using eight variables including built-up environments, population density, electric power infrastructure, crop lands, pasture lands, roads, railways, and navigable waterways. &lt;/span&gt;&lt;/span&gt;&lt;/p&gt;&lt;p style='margin:0 0 0 0;'&gt;&lt;span /&gt;&lt;span /&gt;&lt;/p&gt;&lt;p style='text-align:Justify;margin:0 0 0 0;'&gt;&lt;span&gt;For water pressure &lt;/span&gt;&lt;span&gt;a human footprint on water quality (% contamination&lt;/span&gt;&lt;span&gt;) was &lt;/span&gt;&lt;span&gt;modelled &lt;/span&gt;&lt;span&gt;using the Waterworld version 2 policy support &lt;/span&gt;&lt;span&gt;system&lt;/span&gt;&lt;span&gt;.&lt;/span&gt;&lt;/p&gt;&lt;p style='text-align:Justify;margin:0 0 0 0;'&gt;&lt;span /&gt;&lt;/p&gt;&lt;p style='margin:0 0 11 0;'&gt;&lt;span&gt;&lt;span&gt;The pressure on carbon storing ecosystems are similar in nature to those on biodiversity as captured by the human footprint (HF) map. Nevertheless, we recognised specific drivers of change in below ground carbon sinks such as wetland drainage and soil disturbance and erosion which are not necessarily linked to biodiversity loss or described by the HF. However, due to a paucity of globally consistent spatial data on these drivers, we omitted them from this analysis. We used fires and climate change risk as the two major pressures on carbon. We used the number and intensity of active fives for a 5 year period (from January 2015 - December 2019) from MODIS active fire data as the fire risk layer. Climate risk was estimated based on the difference between average annual future temperature for the reference year 2050 and mean annual historic temperature (1970 – present) (Karger et al. 2017). &lt;/span&gt;&lt;/span&gt;&lt;/p&gt;&lt;p style='margin:0 0 11 0;'&gt;&lt;span&gt;&lt;span&gt;Finally, these three layers were combined into one single layer to illustrate broad scale patterns of cumulative human pressures in order to ascertain where the intrinsic values of nature are most at risk. &lt;/span&gt;&lt;/span&gt;&lt;/p&gt;&lt;p&gt;&lt;span /&gt;&lt;/p&gt;&lt;/div&gt;&lt;/div&gt;&lt;/div&gt;</idAbs>
<idCredit>Citation: UNEP-WCMC (2020). Human pressures on biodiversity, water and carbon. Cambridge, UK.References: Karger, D.N. et al. (2017) Climatologies at high resolution for the earth's land surface areas. Scientific Data 4, 170122. doi.org/10.1038/sdata.2017.122. Mulligan, M. (2019) Human footprint on water quality (% contamination). Model results from the Waterworld version 2 policy support system (non commercial-use). http://www.policysupport.org/waterworld [prepared by user mark.mulligan_kcl.ac.uk]Mulligan, M. (2013). WaterWorld: a self-parameterising, physically based model for application in data-poor but problem-rich environments globally. Hydrology research 44, 5; 748-769.Venter, O., Sanderson, E. W., Magrach, A., et al. (2016). Global terrestrial Human Footprint maps for 1993 and 2009. Scientific Data, 3, 160067. https://doi.org/10.1038/sdata.2016.67</idCredit>
<searchKeys>
<keyword>Human pressures</keyword>
</searchKeys>
<themeKeys>
<keyword>human pressures</keyword>
</themeKeys>
<placeKeys>
<keyword>global</keyword>
</placeKeys>
<dataChar>
<CharSetCd value="004"/>
</dataChar>
<idPoC>
<rpIndName>Corinna Ravilious</rpIndName>
<rpOrgName>UNEP-WCMC</rpOrgName>
<rpPosName>Senior GIS Officer</rpPosName>
<rpCntInfo>
<cntAddress addressType="">
<eMailAdd>spatialanalysis@unep-wcmc.org</eMailAdd>
</cntAddress>
</rpCntInfo>
<displayName>Corinna Ravilious</displayName>
<role>
<RoleCd value="007"/>
</role>
<displayName>Corinna Ravilious</displayName>
</idPoC>
<resMaint>
<maintFreq>
<MaintFreqCd value="012"/>
</maintFreq>
</resMaint>
<resConst>
<Consts>
<useLimit>&lt;div style='text-align:Left;'&gt;&lt;div&gt;&lt;div&gt;&lt;p&gt;&lt;span&gt;licenced under &lt;/span&gt;&lt;a href='https://creativecommons.org:443/licenses/by-sa/4.0/deed.ast' style='text-decoration:underline;'&gt;&lt;span&gt;CC BY-SA &lt;/span&gt;&lt;span&gt;2&lt;/span&gt;&lt;span&gt;.0&lt;/span&gt;&lt;/a&gt;&lt;/p&gt;&lt;/div&gt;&lt;/div&gt;&lt;/div&gt;, &lt;div style='text-align:Left;'&gt;&lt;div&gt;&lt;div&gt;&lt;p style='margin:0 0 0 0;'&gt;&lt;span&gt;This is a coarse global analysis. For application &lt;/span&gt;&lt;span&gt;of water pressures &lt;/span&gt;&lt;span&gt;at the national (1km) or local (1ha) please go to &lt;/span&gt;&lt;a href='http://www.policysupport.org/waterworld' style='text-decoration:underline;'&gt;&lt;span style='text-decoration:underline;'&gt;&lt;span&gt;www.policysupport.org/waterworld&lt;/span&gt;&lt;/span&gt;&lt;/a&gt;&lt;span&gt;.&lt;/span&gt;&lt;/p&gt;&lt;p&gt;&lt;p&gt;&lt;span /&gt;&lt;/p&gt;&lt;/div&gt;&lt;/div&gt;&lt;/div&gt;</useLimit>
<useLimit>&lt;DIV STYLE="text-align:Left;"&gt;&lt;DIV&gt;&lt;DIV&gt;&lt;P&gt;&lt;SPAN&gt;licenced under &lt;/SPAN&gt;&lt;A href="https://creativecommons.org:443/licenses/by-sa/4.0/deed.ast" STYLE="text-decoration:underline;"&gt;&lt;SPAN&gt;CC BY-SA &lt;/SPAN&gt;&lt;SPAN&gt;2&lt;/SPAN&gt;&lt;SPAN&gt;.0&lt;/SPAN&gt;&lt;/A&gt;&lt;/P&gt;&lt;/DIV&gt;&lt;/DIV&gt;&lt;/DIV&gt;, &lt;DIV STYLE="text-align:Left;"&gt;&lt;DIV&gt;&lt;DIV&gt;&lt;P STYLE="margin:0 0 0 0;"&gt;&lt;SPAN&gt;This is a coarse global analysis. For application &lt;/SPAN&gt;&lt;SPAN&gt;of water pressures &lt;/SPAN&gt;&lt;SPAN&gt;at the national (1km) or local (1ha) please go to &lt;/SPAN&gt;&lt;A href="http://www.policysupport.org/waterworld" STYLE="text-decoration:underline;"&gt;&lt;SPAN STYLE="text-decoration:underline;"&gt;&lt;SPAN&gt;www.policysupport.org/waterworld&lt;/SPAN&gt;&lt;/SPAN&gt;&lt;/A&gt;&lt;SPAN&gt;.&lt;/SPAN&gt;&lt;/P&gt;&lt;P /&gt;&lt;P&gt;&lt;SPAN /&gt;&lt;/P&gt;&lt;/DIV&gt;&lt;/DIV&gt;&lt;/DIV&gt;</useLimit>
</Consts>
</resConst>
<resConst>
<LegConsts>
<accessConsts>
<RestrictCd value="005"/>
</accessConsts>
<useConsts>
<RestrictCd value="005"/>
</useConsts>
</LegConsts>
</resConst>
<tpCat>
<TopicCatCd value="007"/>
</tpCat>
<tpCat>
<TopicCatCd value="016"/>
</tpCat>
</dataIdInfo>
<mdLang>
<languageCode Sync="TRUE" value="eng"/>
<countryCode Sync="TRUE" value="GBR"/>
</mdLang>
<mdChar>
<CharSetCd Sync="TRUE" value="004"/>
</mdChar>
<distInfo>
<distFormat>
<formatName Sync="TRUE">Enterprise Geodatabase Raster Dataset</formatName>
</distFormat>
</distInfo>
<mdHrLv>
<ScopeCd Sync="TRUE" value="005"/>
</mdHrLv>
<mdHrLvName Sync="TRUE">dataset</mdHrLvName>
<refSysInfo>
<RefSystem dimension="">
<refSysID>
<identCode Sync="TRUE" code="4326"/>
<idCodeSpace Sync="TRUE">EPSG</idCodeSpace>
<idVersion Sync="TRUE">6.14(3.0.1)</idVersion>
</refSysID>
</RefSystem>
</refSysInfo>
<spatRepInfo>
<Georect>
<cellGeo>
<CellGeoCd Sync="TRUE" value="002"/>
</cellGeo>
<numDims Sync="TRUE">2</numDims>
<tranParaAv Sync="TRUE">1</tranParaAv>
<chkPtAv Sync="TRUE">0</chkPtAv>
<cornerPts>
<pos Sync="TRUE">-180.000000 -90.000000</pos>
</cornerPts>
<cornerPts>
<pos Sync="TRUE">-180.000000 90.000000</pos>
</cornerPts>
<cornerPts>
<pos Sync="TRUE">180.000000 90.000000</pos>
</cornerPts>
<cornerPts>
<pos Sync="TRUE">180.000000 -90.000000</pos>
</cornerPts>
<centerPt>
<pos Sync="TRUE">0.000000 0.000000</pos>
</centerPt>
<axisDimension type="002">
<dimSize Sync="TRUE">40076</dimSize>
<dimResol>
<value Sync="TRUE" uom="deg">0.008983</value>
</dimResol>
</axisDimension>
<axisDimension type="001">
<dimSize Sync="TRUE">20038</dimSize>
<dimResol>
<value Sync="TRUE" uom="deg">0.008983</value>
</dimResol>
</axisDimension>
<ptInPixel>
<PixOrientCd Sync="TRUE" value="001"/>
</ptInPixel>
</Georect>
</spatRepInfo>
<contInfo>
<ImgDesc>
<contentTyp>
<ContentTypCd Sync="TRUE" value="001"/>
</contentTyp>
<covDim>
<Band>
<dimDescrp Sync="TRUE">Band_1</dimDescrp>
<maxVal Sync="TRUE">100.000000</maxVal>
<minVal Sync="TRUE">0.000021</minVal>
<bitsPerVal Sync="TRUE">32</bitsPerVal>
<valUnit>
<UOM gmlID="" type="length"/>
</valUnit>
</Band>
</covDim>
<attDesc>normalised values 0-100 (0 = low pressure 100 = high pressure)</attDesc>
<trianInd>False</trianInd>
<radCalDatAv>False</radCalDatAv>
<camCalInAv>False</camCalInAv>
<filmDistInAv>False</filmDistInAv>
<lensDistInAv>False</lensDistInAv>
</ImgDesc>
</contInfo>
<mdDateSt Sync="TRUE">20210730</mdDateSt>
<mdContact>
<rpIndName>Corinna Ravilious</rpIndName>
<rpOrgName>UNEP-WCMC</rpOrgName>
<rpPosName>Senior GIS Officer</rpPosName>
<rpCntInfo>
<cntAddress addressType="">
<eMailAdd>spatialanalysis@unep-wcmc.org</eMailAdd>
</cntAddress>
</rpCntInfo>
<displayName>Corinna Ravilious</displayName>
<role>
<RoleCd value="007"/>
</role>
</mdContact>
<mdMaint>
<maintFreq>
<MaintFreqCd value="012"/>
</maintFreq>
</mdMaint>
<dqInfo>
<dqScope>
<scpLvl>
<ScopeCd value="001"/>
</scpLvl>
</dqScope>
</dqInfo>
<spdoinfo>
<rastinfo>
<rasttype Sync="TRUE">Pixel</rasttype>
<rowcount Sync="TRUE">20038</rowcount>
<colcount Sync="TRUE">40076</colcount>
<rastxsz Sync="TRUE">0.008983</rastxsz>
<rastysz Sync="TRUE">0.008983</rastysz>
<rastbpp Sync="TRUE">32</rastbpp>
<vrtcount Sync="TRUE">1</vrtcount>
<rastorig Sync="TRUE">Upper Left</rastorig>
<rastcmap Sync="TRUE">FALSE</rastcmap>
<rastcomp Sync="TRUE">LZ77</rastcomp>
<rastband Sync="TRUE">1</rastband>
<rastdtyp Sync="TRUE">pixel codes</rastdtyp>
<rastifor Sync="TRUE">SDR</rastifor>
<rastplyr Sync="TRUE">TRUE</rastplyr>
</rastinfo>
</spdoinfo>
<spref>
<horizsys>
<planar>
<planci>
<plance Sync="TRUE">row and column</plance>
<coordrep>
<absres Sync="TRUE">0.008983</absres>
<ordres Sync="TRUE">0.008983</ordres>
</coordrep>
</planci>
</planar>
</horizsys>
</spref>
</metadata>
