<?xml version="1.0" encoding="UTF-8" standalone="no"?>
<metadata xml:lang="en">
<Esri>
<CreaDate>20210823</CreaDate>
<CreaTime>12411300</CreaTime>
<ArcGISFormat>1.0</ArcGISFormat>
<SyncOnce>FALSE</SyncOnce>
<DataProperties>
<itemProps>
<itemName Sync="TRUE">arcgis_geodatabase.sde.IIASA_005_NatureMap_Cons10km_minshort_sptargets_biome_PA_BW</itemName>
<nativeExtBox>
<westBL Sync="TRUE">-18039506.494600</westBL>
<eastBL Sync="TRUE">18030493.505400</eastBL>
<southBL Sync="TRUE">-8808752.151900</southBL>
<northBL Sync="TRUE">8871247.848100</northBL>
<exTypeCode Sync="TRUE">1</exTypeCode>
</nativeExtBox>
<itemLocation>
<linkage Sync="TRUE">Server=10.2.1.241; Service=sde:postgresql:10.2.1.241; Database=arcgis_geodatabase; User=sde; Version=sde.DEFAULT</linkage>
<protocol Sync="TRUE">ArcSDE Connection</protocol>
</itemLocation>
<imsContentType Sync="TRUE" export="False">002</imsContentType>
</itemProps>
<coordRef>
<type Sync="TRUE">Projected</type>
<geogcsn Sync="TRUE">GCS_unknown</geogcsn>
<csUnits Sync="TRUE">Linear Unit: Meter (1.000000)</csUnits>
<projcsn Sync="TRUE">Unknown_based_on_WGS84_ellipsoid_Mollweide</projcsn>
<peXml Sync="TRUE">&lt;ProjectedCoordinateSystem xsi:type='typens:ProjectedCoordinateSystem' xmlns:xsi='http://www.w3.org/2001/XMLSchema-instance' xmlns:xs='http://www.w3.org/2001/XMLSchema' xmlns:typens='http://www.esri.com/schemas/ArcGIS/2.8.0'&gt;&lt;WKT&gt;PROJCS[&amp;quot;Unknown_based_on_WGS84_ellipsoid_Mollweide&amp;quot;,GEOGCS[&amp;quot;GCS_unknown&amp;quot;,DATUM[&amp;quot;D_Unknown_based_on_WGS84_ellipsoid&amp;quot;,SPHEROID[&amp;quot;WGS_1984&amp;quot;,6378137.0,298.257223563]],PRIMEM[&amp;quot;Greenwich&amp;quot;,0.0],UNIT[&amp;quot;Degree&amp;quot;,0.0174532925199433]],PROJECTION[&amp;quot;Mollweide&amp;quot;],PARAMETER[&amp;quot;False_Easting&amp;quot;,0.0],PARAMETER[&amp;quot;False_Northing&amp;quot;,0.0],PARAMETER[&amp;quot;Central_Meridian&amp;quot;,0.0],UNIT[&amp;quot;Meter&amp;quot;,1.0]]&lt;/WKT&gt;&lt;XOrigin&gt;-18040200&lt;/XOrigin&gt;&lt;YOrigin&gt;-9020200&lt;/YOrigin&gt;&lt;XYScale&gt;249642444.5056316&lt;/XYScale&gt;&lt;ZOrigin&gt;-100000&lt;/ZOrigin&gt;&lt;ZScale&gt;10000&lt;/ZScale&gt;&lt;MOrigin&gt;-100000&lt;/MOrigin&gt;&lt;MScale&gt;10000&lt;/MScale&gt;&lt;XYTolerance&gt;0.001&lt;/XYTolerance&gt;&lt;ZTolerance&gt;0.00020000000000000001&lt;/ZTolerance&gt;&lt;MTolerance&gt;0.00020000000000000001&lt;/MTolerance&gt;&lt;HighPrecision&gt;true&lt;/HighPrecision&gt;&lt;/ProjectedCoordinateSystem&gt;</peXml>
</coordRef>
<lineage>
<Process Date="20210823" Name="" Time="124114" ToolSource="c:\program files\arcgis\pro\Resources\ArcToolbox\toolboxes\Data Management Tools.tbx\CopyRaster" export="">CopyRaster O:\f00_data\IIASA_005_NatureMap_SignificanceForConservation\download_210823\BiodiversityWater\10km\minshort_speciestargets_biome.id_withPA_water__esh10km_repruns10_ranked.tif "O:\f01_projects_active\Global\p08425_naturemap\outputs\Sept_2020_outputs_FINAL\Corinna\carbon, biodiversity, water, NatureMap\InternalPortal.sde\arcgis_geodatabase.sde.minshort_speciestargets_biome_id_withPA_water__esh10km_repruns1" # # -9999 NONE NONE # NONE NONE "Esri Grid format" NONE CURRENT_SLICE NO_TRANSPOSE</Process>
<Process Date="20210823" Name="" Time="130334" ToolSource="c:\program files\arcgis\pro\Resources\ArcToolbox\toolboxes\Data Management Tools.tbx\Rename" export="">Rename "O:\f01_projects_active\Global\p08425_naturemap\outputs\Sept_2020_outputs_FINAL\Corinna\carbon, biodiversity, water, NatureMap\InternalPortal.sde\arcgis_geodatabase.sde.minshort_speciestargets_biome_id_withPA_water__esh10km_repruns1" "O:\f01_projects_active\Global\p08425_naturemap\outputs\Sept_2020_outputs_FINAL\Corinna\carbon, biodiversity, water, NatureMap\InternalPortal.sde\arcgis_geodatabase.sde.IIASA_005_NatureMap_Cons10km_minshort_sptargets_biome_PA_BW" RasterDataset</Process>
<Process Date="20210823" Name="Define Projection" Time="173222" ToolSource="c:\program files\arcgis\pro\Resources\ArcToolbox\toolboxes\Data Management Tools.tbx\DefineProjection" export="">DefineProjection "O:\f01_projects_active\Global\p08425_naturemap\outputs\Sept_2020_outputs_FINAL\Corinna\carbon, biodiversity, water, NatureMap\InternalPortal.sde\arcgis_geodatabase.sde.IIASA_005_NatureMap_Cons10km_minshort_sptargets_biome_PA_BW" PROJCS["World_Mollweide",GEOGCS["GCS_WGS_1984",DATUM["D_WGS_1984",SPHEROID["WGS_1984",6378137.0,298.257223563]],PRIMEM["Greenwich",0.0],UNIT["Degree",0.0174532925199433]],PROJECTION["Mollweide"],PARAMETER["False_Easting",0.0],PARAMETER["False_Northing",0.0],PARAMETER["Central_Meridian",0.0],UNIT["Meter",1.0]]</Process>
</lineage>
</DataProperties>
<SyncDate>20210823</SyncDate>
<SyncTime>16545600</SyncTime>
<ModDate>20210823</ModDate>
<ModTime>20350400</ModTime>
<scaleRange>
<minScale>150000000</minScale>
<maxScale>5000</maxScale>
</scaleRange>
<ArcGISProfile>INSPIRE</ArcGISProfile>
</Esri>
<mdLang>
<languageCode Sync="TRUE" value="eng"/>
<countryCode Sync="TRUE" value="GBR"/>
</mdLang>
<mdChar>
<CharSetCd Sync="TRUE" value="004"/>
</mdChar>
<mdHrLv>
<ScopeCd Sync="TRUE" value="005"/>
</mdHrLv>
<mdHrLvName Sync="TRUE">dataset</mdHrLvName>
<mdContact>
<rpIndName>Martin Jung</rpIndName>
<rpOrgName>IIASA</rpOrgName>
<rpCntInfo>
<cntAddress addressType="">
<eMailAdd>jung@iiasa.ac.at</eMailAdd>
</cntAddress>
</rpCntInfo>
<displayName>Martin Jung</displayName>
<role>
<RoleCd value="007"/>
</role>
</mdContact>
<mdDateSt Sync="TRUE">20210823</mdDateSt>
<distInfo>
<distFormat>
<formatName Sync="TRUE">Enterprise Geodatabase Raster Dataset</formatName>
</distFormat>
<distTranOps>
<onLineSrc>
<linkage>https://zenodo.org/record/5006332</linkage>
<orName>Jung, Martin, Andy Arnell, Xavier De Lamo, Shaenandhoa Garcia-Rangel, Matthew Lewis, Jennifer Mark, Cory Merow et al. (2021) "Areas of global importance for terrestrial biodiversity, carbon, and water." Nature Ecology &amp; Evolution</orName>
<orDesc>NatureMap Priority maps to Areas of global importance for conserving terrestrial biodiversity, carbon, and water</orDesc>
<orFunct>
<OnFunctCd value="001"/>
</orFunct>
</onLineSrc>
</distTranOps>
</distInfo>
<dataIdInfo>
<envirDesc Sync="TRUE">Microsoft Windows 10 Version 10.0 (Build 19043) ; Esri ArcGIS 12.8.0.29751</envirDesc>
<dataLang>
<languageCode Sync="TRUE" value="eng"/>
<countryCode Sync="TRUE" value="GBR"/>
</dataLang>
<idCitation>
<resTitle Sync="FALSE">NatureMap_Cons10km_minshort_sptargets_biome_PA_BW</resTitle>
<presForm>
<PresFormCd Sync="TRUE" value="011"/>
</presForm>
<resEd>001</resEd>
<resEdDate>20200930</resEdDate>
<citRespParty>
<rpIndName>Martin Jung</rpIndName>
<rpOrgName>IIASA</rpOrgName>
<role>
<RoleCd value="006"/>
</role>
<rpCntInfo>
<cntAddress addressType="">
<eMailAdd>jung@iiasa.ac.at</eMailAdd>
</cntAddress>
</rpCntInfo>
</citRespParty>
<date>
<createDate>2020-09-30T00:00:00</createDate>
</date>
</idCitation>
<spatRpType>
<SpatRepTypCd Sync="TRUE" value="002"/>
</spatRpType>
<dataExt>
<geoEle>
<GeoBndBox esriExtentType="search">
<exTypeCode Sync="TRUE">1</exTypeCode>
<westBL Sync="TRUE">-179.999989</westBL>
<eastBL Sync="TRUE">179.999989</eastBL>
<northBL Sync="TRUE">85.917716</northBL>
<southBL Sync="TRUE">-84.691702</southBL>
</GeoBndBox>
</geoEle>
</dataExt>
<idPurp>A global integrated map ranking the terrestrial land surface by its joint value for biodiversity, carbon and water globally. In this version species distribution were split by biome, thus creating separate targets for subpopulation. Fractions of current protected areas (Date: WDPA 2019) were locked in as baseline and starting budget. Approximately 15% of the globe. Note that not entire grid cells, but fractions were locked in and build upon!</idPurp>
<idAbs>&lt;div style='text-align:Left;'&gt;&lt;div&gt;&lt;div&gt;&lt;p&gt;&lt;span&gt;The map was created by ranking each ~10km grid cell globally by its potential value in improving a species conservation status and conserving the largest amount of carbon and water possible. This novel global integrated map can provide spatial guidance for identifying which land areas should be managed for conservation to generate the greatest synergies between conserving biodiversity, carbon and water. &lt;/span&gt;&lt;/p&gt;&lt;/div&gt;&lt;/div&gt;&lt;/div&gt;</idAbs>
<idCredit>Jung, M., Arnell, A., de Lamo, X., García-Rangel, S., Lewis, M., Mark, J., Merow, C., Miles, L., et al. (2021). Areas of global importance for conserving terrestrial biodiversity, carbon, and water. Nature Ecology and Evolution DOI: 10.1038/s41559-021-01528-7</idCredit>
<searchKeys>
<keyword>biodiversity</keyword>
<keyword>water</keyword>
<keyword>NatureMap</keyword>
<keyword>conservation management</keyword>
<keyword>biodiversity prioritization</keyword>
<keyword>water</keyword>
<keyword>Nature Contributions to People</keyword>
<keyword>Joint optimization</keyword>
<keyword>Nature Map</keyword>
<keyword>conservation</keyword>
<keyword>planning</keyword>
<keyword>area-based conservation targets</keyword>
</searchKeys>
<themeKeys>
<keyword>carbon, biodiversity, water</keyword>
</themeKeys>
<placeKeys>
<keyword>global</keyword>
</placeKeys>
<resConst>
<Consts>
<useLimit>&lt;div style='text-align:Left;'&gt;&lt;div&gt;&lt;div&gt;&lt;p&gt;&lt;span&gt;This work is licensed under a &lt;/span&gt;&lt;a href='https://creativecommons.org:443/licenses/by/4.0/' style='text-decoration:underline;'&gt;&lt;span&gt;Creative Commons&lt;/span&gt;&lt;span&gt; &lt;/span&gt;&lt;span&gt;Attribution 4.0 International (CC BY 4.0)&lt;/span&gt;&lt;/a&gt;&lt;/p&gt;&lt;/div&gt;&lt;/div&gt;&lt;/div&gt;</useLimit>
</Consts>
</resConst>
<resConst>
<LegConsts>
<accessConsts>
<RestrictCd value="005"/>
</accessConsts>
<useConsts>
<RestrictCd value="005"/>
</useConsts>
</LegConsts>
</resConst>
<idPoC>
<rpIndName>Martin Jung</rpIndName>
<rpOrgName>IIASA</rpOrgName>
<rpCntInfo>
<cntAddress addressType="">
<eMailAdd>jung@iiasa.ac.at</eMailAdd>
</cntAddress>
</rpCntInfo>
<displayName>Martin Jung</displayName>
<role>
<RoleCd value="006"/>
</role>
</idPoC>
<resMaint>
<maintFreq>
<MaintFreqCd value="011"/>
</maintFreq>
</resMaint>
<dataChar>
<CharSetCd value="004"/>
</dataChar>
<suppInfo>This data repository (https://zenodo.org/record/5006332) contains the results of the NatureMap ( naturemap.earth/) conservation prioritization effort. The maps were created by jointly optimizing biodiversity and NCPs such as carbon and/or water.
Usage notes:
Maps are supplied at both 10km and 50km resolution unless specified differently in the manuscript.
All maps that aim to find priority areas for all species considered in the analysis, utilize a series of representative sets.
The ranks for each layer are area-specific and can be used to extract summary statistics by simple subsetting.
For example:
To obtain the top 30% of land area for biodiversity and carbon, one needs to create a mask of all areas lower than a value of 30 from the respective ranked layers.
For convenience two files are supplied that contain the fraction of land area per grid cell times 1000. Multiplying those with the cell area (100km2, respectively 2500km2) gives the exact amount of land area in a given grid cell.
These are labelled " globalgrid_mollweide_**km.tif " can be used to create masks for the priority maps.
Note: This is one dataset from the set of zip file (one for biodiversity only, biodiversity+carbon, biodiversity +water, biodiversity+carbon+water) you usually always want the files that have the ‘biome.id’ tag. There are also additional variants with the current protected area estate already part of the solution (and thus increasing the priority ranking of the areas considered).
</suppInfo>
<tpCat>
<TopicCatCd value="002"/>
</tpCat>
<tpCat>
<TopicCatCd value="007"/>
</tpCat>
</dataIdInfo>
<mdMaint>
<maintFreq>
<MaintFreqCd value="011"/>
</maintFreq>
<maintCont>
<rpIndName>Martin Jung</rpIndName>
<rpOrgName>IIASA</rpOrgName>
<role>
<RoleCd value="006"/>
</role>
<rpCntInfo>
<cntAddress addressType="">
<eMailAdd>jung@iiasa.ac.at</eMailAdd>
</cntAddress>
</rpCntInfo>
<displayName>Martin Jung</displayName>
</maintCont>
</mdMaint>
<dqInfo>
<dataLineage>
<statement>This layer is the result of a global joint optimization of valuable biodiversity and water regulation. For this analysis we collated distribution data for over 180000 terrestrial vertebrate and plant species globally. These data were then refined by removing unsuitable areas using information on species' habitat preferences and species' known altitudinal limits or, where unknown, by removing anthropogenically modified land. Given existing biases in taxonomic coverage for plant species, we calculated for the analysis in total 10 representative sets of species, containing approximately 10% of species of each taxonomic group. For water we took potential water regulation outputs from the WaterWorld model normalized by water basin. We then determined those areas globally that jointly contributed the most to biodiversity, carbon and water conservation if up to 10, 20, … 100% of the Earth were to be protected. Specifically we minimized the shortfall so that the greatest number of species extinctions are prevented and the largest amount of water conserved as possible. We then solved this problem to a single optimal solution using an Integer Linear Programming (ILP) approach and determined for each 10km grid cell the fraction of land that needs to be protected. Finally, across representative sets all solutions were averaged and then ranked from 0 to 100.</statement>
</dataLineage>
</dqInfo>
<spatRepInfo>
<Georect>
<cellGeo>
<CellGeoCd Sync="TRUE" value="002"/>
</cellGeo>
<numDims Sync="TRUE">2</numDims>
<tranParaAv Sync="TRUE">1</tranParaAv>
<chkPtAv Sync="TRUE">0</chkPtAv>
<cornerPts>
<pos Sync="TRUE">-20036974.138100 -19589728.605300</pos>
</cornerPts>
<cornerPts>
<pos Sync="TRUE">-20036974.138100 21266586.329800</pos>
</cornerPts>
<cornerPts>
<pos Sync="TRUE">20026963.164000 21266586.329800</pos>
</cornerPts>
<cornerPts>
<pos Sync="TRUE">20026963.164000 -19589728.605300</pos>
</cornerPts>
<centerPt>
<pos Sync="TRUE">-5005.487050 838428.862250</pos>
</centerPt>
<axisDimension type="002">
<dimSize Sync="TRUE">3588</dimSize>
<dimResol>
<value Sync="TRUE" uom="m">11166.091779</value>
</dimResol>
</axisDimension>
<axisDimension type="001">
<dimSize Sync="TRUE">4484</dimSize>
<dimResol>
<value Sync="TRUE" uom="m">9111.577818</value>
</dimResol>
</axisDimension>
<ptInPixel>
<PixOrientCd Sync="TRUE" value="001"/>
</ptInPixel>
</Georect>
</spatRepInfo>
<refSysInfo>
<RefSystem dimension="">
<refSysID>
<identCode Sync="TRUE" code="0"/>
<idCodeSpace Sync="TRUE">EPSG</idCodeSpace>
<idVersion Sync="TRUE">8.8(9.3.1.2)</idVersion>
</refSysID>
</RefSystem>
</refSysInfo>
<contInfo>
<ImgDesc>
<contentTyp>
<ContentTypCd Sync="TRUE" value="001"/>
</contentTyp>
<covDim>
<Band>
<dimDescrp Sync="TRUE">Band_1</dimDescrp>
<bitsPerVal Sync="TRUE">16</bitsPerVal>
<valUnit>
<UOM gmlID="" type="length"/>
</valUnit>
</Band>
</covDim>
<trianInd>False</trianInd>
<radCalDatAv>False</radCalDatAv>
<camCalInAv>False</camCalInAv>
<filmDistInAv>False</filmDistInAv>
<lensDistInAv>False</lensDistInAv>
<attDesc>Priority Rank (ranked by the most (1-10) to least (90-100) important areas to conserve globally)</attDesc>
</ImgDesc>
</contInfo>
<spdoinfo>
<rastinfo>
<rasttype Sync="TRUE">Pixel</rasttype>
<rowcount Sync="TRUE">1768</rowcount>
<colcount Sync="TRUE">3607</colcount>
<rastxsz Sync="TRUE">10000.000000</rastxsz>
<rastysz Sync="TRUE">10000.000000</rastysz>
<rastbpp Sync="TRUE">16</rastbpp>
<vrtcount Sync="TRUE">1</vrtcount>
<rastorig Sync="TRUE">Upper Left</rastorig>
<rastcmap Sync="TRUE">FALSE</rastcmap>
<rastcomp Sync="TRUE">LZ77</rastcomp>
<rastband Sync="TRUE">1</rastband>
<rastdtyp Sync="TRUE">pixel codes</rastdtyp>
<rastifor Sync="TRUE">SDR</rastifor>
<rastplyr Sync="TRUE">TRUE</rastplyr>
</rastinfo>
</spdoinfo>
<spref>
<horizsys>
<planar>
<planci>
<plance Sync="TRUE">row and column</plance>
<coordrep>
<absres Sync="TRUE">10000.000000</absres>
<ordres Sync="TRUE">10000.000000</ordres>
</coordrep>
</planci>
</planar>
</horizsys>
</spref>
</metadata>
