<?xml version="1.0" encoding="UTF-8" standalone="no"?>
<metadata xml:lang="en">
<Esri>
<CreaDate>20200601</CreaDate>
<CreaTime>09433900</CreaTime>
<ArcGISFormat>1.0</ArcGISFormat>
<SyncOnce>FALSE</SyncOnce>
<DataProperties>
<itemProps>
<itemName Sync="TRUE">arcgis_geodatabase.sde.natural_modified_habitat_screening_layer</itemName>
<imsContentType Sync="TRUE" export="False">002</imsContentType>
<nativeExtBox>
<westBL Sync="TRUE">-179.999993</westBL>
<eastBL Sync="TRUE">179.999993</eastBL>
<southBL Sync="TRUE">-89.899996</southBL>
<northBL Sync="TRUE">89.874996</northBL>
<exTypeCode Sync="TRUE">1</exTypeCode>
</nativeExtBox>
<itemLocation>
<linkage Sync="TRUE">Server=10.2.1.241; Service=sde:postgresql:10.2.1.241; Database=arcgis_geodatabase; User=sde; Version=sde.DEFAULT</linkage>
<protocol Sync="TRUE">ArcSDE Connection</protocol>
</itemLocation>
</itemProps>
<coordRef>
<type Sync="TRUE">Geographic</type>
<geogcsn Sync="TRUE">GCS_WGS_1984</geogcsn>
<csUnits Sync="TRUE">Angular Unit: Degree (0.017453)</csUnits>
<peXml Sync="TRUE">&lt;GeographicCoordinateSystem xsi:type='typens:GeographicCoordinateSystem' xmlns:xsi='http://www.w3.org/2001/XMLSchema-instance' xmlns:xs='http://www.w3.org/2001/XMLSchema' xmlns:typens='http://www.esri.com/schemas/ArcGIS/2.5.0'&gt;&lt;WKT&gt;GEOGCS[&amp;quot;GCS_WGS_1984&amp;quot;,DATUM[&amp;quot;D_WGS_1984&amp;quot;,SPHEROID[&amp;quot;WGS_1984&amp;quot;,6378137.0,298.257223563]],PRIMEM[&amp;quot;Greenwich&amp;quot;,0.0],UNIT[&amp;quot;Degree&amp;quot;,0.0174532925199433],AUTHORITY[&amp;quot;EPSG&amp;quot;,4326]]&lt;/WKT&gt;&lt;XOrigin&gt;-400&lt;/XOrigin&gt;&lt;YOrigin&gt;-400&lt;/YOrigin&gt;&lt;XYScale&gt;11258999068426.238&lt;/XYScale&gt;&lt;ZOrigin&gt;-100000&lt;/ZOrigin&gt;&lt;ZScale&gt;10000&lt;/ZScale&gt;&lt;MOrigin&gt;-100000&lt;/MOrigin&gt;&lt;MScale&gt;10000&lt;/MScale&gt;&lt;XYTolerance&gt;8.983152841195215e-09&lt;/XYTolerance&gt;&lt;ZTolerance&gt;0.00020000000000000001&lt;/ZTolerance&gt;&lt;MTolerance&gt;0.00020000000000000001&lt;/MTolerance&gt;&lt;HighPrecision&gt;true&lt;/HighPrecision&gt;&lt;LeftLongitude&gt;-180&lt;/LeftLongitude&gt;&lt;WKID&gt;4326&lt;/WKID&gt;&lt;LatestWKID&gt;4326&lt;/LatestWKID&gt;&lt;/GeographicCoordinateSystem&gt;</peXml>
</coordRef>
<lineage>
<Process Date="20200601" Name="" Time="094341" ToolSource="c:\program files\arcgis\pro\Resources\ArcToolbox\toolboxes\Data Management Tools.tbx\CopyRaster" export="">CopyRaster O:\00_data\027_PriorityAreasForConservationOrRestoration\WCMC_natural_modified_habitat_screening_layer\natural_modified_habitat_screening_layer.tif C:\Users\osgurm\Documents\ArcGIS\Projects\Data_Mgmt\10.2.1.241.sde\arcgis_geodatabase.sde.natural_modified_habitat_screening_layer # # 15 NONE NONE # NONE NONE "Esri Grid" NONE CURRENT_SLICE NO_TRANSPOSE</Process>
</lineage>
</DataProperties>
<SyncDate>20200601</SyncDate>
<SyncTime>11093000</SyncTime>
<ModDate>20200601</ModDate>
<ModTime>11093000</ModTime>
<scaleRange>
<minScale>150000000</minScale>
<maxScale>5000</maxScale>
</scaleRange>
</Esri>
<dataIdInfo>
<envirDesc Sync="TRUE">Microsoft Windows 10 Version 10.0 (Build 18363) ; Esri ArcGIS 12.5.1.22081</envirDesc>
<dataLang>
<languageCode Sync="TRUE" value="eng"/>
<countryCode Sync="TRUE" value="GBR"/>
</dataLang>
<idCitation>
<resTitle Sync="FALSE">Natural and Modified Habitat Screening Layer</resTitle>
<presForm>
<PresFormCd Sync="TRUE" value="011"/>
</presForm>
<resAltTitle>wcmc_natural_modified_habitat_screening_layer</resAltTitle>
<citRespParty>
<rpIndName>Joe Gosling</rpIndName>
<rpOrgName>UNEP-WCMC</rpOrgName>
<rpPosName>Associate Programme Officer</rpPosName>
<role>
<RoleCd value="001"/>
</role>
<rpCntInfo>
<cntAddress addressType="">
<eMailAdd>Joe.Gosling@unep-wcmc.org</eMailAdd>
</cntAddress>
</rpCntInfo>
</citRespParty>
</idCitation>
<spatRpType>
<SpatRepTypCd Sync="TRUE" value="002"/>
</spatRpType>
<dataExt>
<geoEle>
<GeoBndBox esriExtentType="search">
<exTypeCode Sync="TRUE">1</exTypeCode>
<westBL Sync="TRUE">-179.999993</westBL>
<eastBL Sync="TRUE">179.999993</eastBL>
<northBL Sync="TRUE">89.874996</northBL>
<southBL Sync="TRUE">-89.899996</southBL>
</GeoBndBox>
</geoEle>
</dataExt>
<idPurp>This dataset classifies the global terrestrial land surface into one of four categories: likely Natural, potential Natural, potential Modified, and likely Modified.</idPurp>
<idAbs>&lt;div style='text-align:Left;'&gt;&lt;p style='margin: 0cm 0cm 0.0001pt; background-image: initial; background-position: initial; background-size: initial; background-repeat: initial; background-attachment: initial; background-origin: initial; background-clip: initial;'&gt;Download the dataset: &lt;a href='https://datadownload-production.s3.amazonaws.com/WCMC_natural_modified_habitat_screening_layer.zip' target='_blank'&gt;here&lt;/a&gt;&lt;/p&gt;&lt;p style='margin: 0cm 0cm 0.0001pt; background-image: initial; background-position: initial; background-size: initial; background-repeat: initial; background-attachment: initial; background-origin: initial; background-clip: initial;'&gt; &lt;/p&gt;&lt;p style='margin: 0cm 0cm 0.0001pt; background-image: initial; background-position: initial; background-size: initial; background-repeat: initial; background-attachment: initial; background-origin: initial; background-clip: initial;'&gt;The dataset use freely available
data layers in combination to develop a new global layer that identifies
natural and modified habitat. It is aligned with the definitions of natural and
modified habitat from the highly influential Performance Standard 6 (PS6) of
the International Finance Corporation (IFC). However, we pr&lt;span style='background-image: initial; background-position: initial; background-size: initial; background-repeat: initial; background-attachment: initial; background-origin: initial; background-clip: initial;'&gt; &lt;/span&gt;opose this layer as an output that can be
used beyond the IFC and could be integrated into the investment decision making
of global and regional banks, or the decision making of international
corporations.&lt;/p&gt;&lt;p style='margin: 0cm 0cm 0.0001pt; background-image: initial; background-position: initial; background-size: initial; background-repeat: initial; background-attachment: initial; background-origin: initial; background-clip: initial;'&gt; &lt;/p&gt;&lt;p style='margin: 0cm 0cm 12pt; background-image: initial; background-position: initial; background-size: initial; background-repeat: initial; background-attachment: initial; background-origin: initial; background-clip: initial; box-sizing: border-box;'&gt;&lt;span style='color:#2E2E2E'&gt;A global layer of habitat state,
which is aligned with the definitions of Natural and Modified Habitats
according to IFC PS6, can be used by businesses in the early stages of project
development, by highlighting areas of &lt;em&gt;potential&lt;/em&gt; or &lt;em&gt;likely&lt;/em&gt; Natural
and Modified Habitat. It can be used at a landscape scale, due to the
resolution and precision of the underlying data. It does not remove the need
for more detailed ground surveys at a site level, but provides an overview of
the state of habitat in the surrounding area.&lt;/span&gt;&lt;/p&gt;&lt;p style='margin: 0cm 0cm 12pt; background-image: initial; background-position: initial; background-size: initial; background-repeat: initial; background-attachment: initial; background-origin: initial; background-clip: initial; box-sizing: border-box;'&gt;&lt;span style='color:#2E2E2E'&gt;Although the IFC PS6 definition
of Natural and Modified Habitat is based on ecological functions and species
composition, suitable data on this is not available globally. For this reason,
data on human pressure and habitat is used as a proxy for the loss and
intactness of ecological functions and species composition. It is important to
note that this screening layer may overestimate the amount of remaining Natural
Habitat for two reasons. The first is that we took a precautionary approach
when designating pixels a Natural or Modified value. Where there was
disagreement between a Natural and Modified dataset for a given pixel, the
precautionary approach was to designate it as a Natural pixel (depending on
whether the datasets were classified as &lt;em&gt;likely&lt;/em&gt; or &lt;em&gt;potential&lt;/em&gt;).&lt;/span&gt;&lt;/p&gt;&lt;p style='margin: 0cm 0cm 0.0001pt; background-image: initial; background-position: initial; background-size: initial; background-repeat: initial; background-attachment: initial; background-origin: initial; background-clip: initial; box-sizing: border-box;'&gt;&lt;span style='color:#2E2E2E'&gt;The second
is that not all aspects of human modification could be included because of data
limitations. A prime example is hunting, which is a major cause of biodiversity
loss (&lt;a href='https://www.sciencedirect.com/science/article/pii/S0006320720307321#bb0145' style='box-sizing: border-box;text-decoration-line: none;word-break:break-word'&gt;&lt;span style='color:#0C7DBB'&gt;Maxwell et al., 2016&lt;/span&gt;&lt;/a&gt;) and therefore has large
impacts on the ecological function and species composition of habitats, but
there is no data available globally. The buffers we used around roads are a
good proxy for hunting in some habitats, such as forests, but the impacts of
hunting will vary based on terrain and may extend further in non-forested areas
(&lt;a href='https://www.sciencedirect.com/science/article/pii/S0006320720307321#bb0245' style='box-sizing: border-box;text-decoration-line: none;word-break:break-word'&gt;&lt;span style='color:#0C7DBB'&gt;Wu et al., 2017&lt;/span&gt;&lt;/a&gt;). In addition, as the Human
Footprint Layer is a pressure map that includes the indirect effects of access
in to natural areas, it does have a relationship with human pressures such as
hunting and the introduction of invasive species (&lt;a href='https://www.sciencedirect.com/science/article/pii/S0006320720307321#bb0220' style='box-sizing: border-box;text-decoration-line: none;word-break:break-word'&gt;&lt;span style='color:#0C7DBB'&gt;Venter et al., 2016&lt;/span&gt;&lt;/a&gt;).&lt;/span&gt;&lt;/p&gt;&lt;p style='margin-top: 0px; margin-bottom: 0px;'&gt;
&lt;/p&gt;&lt;p style='margin: 0cm 0cm 0.0001pt; background-image: initial; background-position: initial; background-size: initial; background-repeat: initial; background-attachment: initial; background-origin: initial; background-clip: initial; box-sizing: border-box;'&gt;&lt;span style='color:#2E2E2E'&gt;Of the
areas classified as &lt;em&gt;likely&lt;/em&gt; or &lt;em&gt;potential&lt;/em&gt; Natural
in our screening layer, some areas may not be intact in terms of ecological
function and species composition due to hunting and other anthropogenic
pressures for which data are not available. For example, two thirds of Intact
Forest Landscapes overlap with an area where a species has gone extinct in the
past 500 years (&lt;a href='https://www.sciencedirect.com/science/article/pii/S0006320720307321#bb0175' style='box-sizing: border-box;text-decoration-line: none;word-break:break-word'&gt;&lt;span style='color:#0C7DBB'&gt;Plumptre et al., 2019&lt;/span&gt;&lt;/a&gt;). And around 9% of
tropical Intact Forest Landscapes and 11% of tropical Wilderness areas have
lost at least 10% of their mammal abundance due to hunting (&lt;a href='https://www.sciencedirect.com/science/article/pii/S0006320720307321#bb0015' style='box-sizing: border-box;text-decoration-line: none;word-break:break-word'&gt;&lt;span style='color:#0C7DBB'&gt;Benítez-López et al., 2019&lt;/span&gt;&lt;/a&gt;). When only
considering large-bodied mammal assemblages, these figures go up to over 50% (&lt;a href='https://www.sciencedirect.com/science/article/pii/S0006320720307321#bb0015' style='box-sizing: border-box;text-decoration-line: none;word-break:break-word'&gt;&lt;span style='color:#0C7DBB'&gt;Benítez-López et al., 2019&lt;/span&gt;&lt;/a&gt;).&lt;/span&gt;&lt;/p&gt;&lt;p&gt;&lt;/p&gt;&lt;p&gt;&lt;span&gt;&lt;/span&gt;&lt;/p&gt;&lt;/div&gt;</idAbs>
<idCredit>Gosling, J., Jones, M. I., Arnell, A., Venter, O., Watson, J. E. M., Baquero, A. C., &amp; Burgess, N. D. (2020). Natural and Modified Habitat Screening Layer [Data set]. UN Environment Programme World Conservation Monitoring Centre (UNEP-WCMC). https://doi.org/10.34892/4Q5V-GF37</idCredit>
<searchKeys>
<keyword>unep-wcmc</keyword>
<keyword>international-finance-corporation-performance-standard-6</keyword>
<keyword>biodiversity-safeguards</keyword>
<keyword>natural-habitat</keyword>
<keyword>modified-habitat</keyword>
<keyword>investment-screening</keyword>
<keyword>environmental-risk</keyword>
<keyword>ckp:theme=nature-conserved</keyword>
<keyword>ckp:theme=nature-restored</keyword>
<keyword>ckp:resource=spatial-data</keyword>
<keyword>ckp:license=cc-by</keyword>
<keyword>ckp:classification=public</keyword>
</searchKeys>
<resConst>
<Consts>
<useLimit>&lt;br /&gt;This work is licensed under a &lt;a href='http://creativecommons.org/licenses/by/4.0/'&gt;Creative Commons Attribution 4.0 International License&lt;/a&gt;.</useLimit>
</Consts>
</resConst>
<dataChar>
<CharSetCd value="004"/>
</dataChar>
<idPoC>
<rpIndName>Joe Gosling</rpIndName>
<rpOrgName>UNEP-WCMC</rpOrgName>
<rpPosName>Associate Programme Officer</rpPosName>
<role>
<RoleCd value="001"/>
</role>
<rpCntInfo>
<cntAddress addressType="">
<eMailAdd>Joe.Gosling@unep-wcmc.org</eMailAdd>
</cntAddress>
</rpCntInfo>
<displayName>Joe Gosling</displayName>
</idPoC>
<resMaint>
<maintFreq>
<MaintFreqCd value="010"/>
</maintFreq>
</resMaint>
<resConst>
<LegConsts>
<accessConsts>
<RestrictCd value="005"/>
</accessConsts>
<useConsts>
<RestrictCd value="005"/>
</useConsts>
</LegConsts>
</resConst>
<tpCat>
<TopicCatCd value="002"/>
</tpCat>
<tpCat>
<TopicCatCd value="007"/>
</tpCat>
</dataIdInfo>
<mdLang>
<languageCode Sync="TRUE" value="eng"/>
<countryCode Sync="TRUE" value="GBR"/>
</mdLang>
<distInfo>
<distFormat>
<formatName Sync="TRUE">Enterprise Geodatabase Raster Dataset</formatName>
</distFormat>
</distInfo>
<mdHrLv>
<ScopeCd Sync="TRUE" value="005"/>
</mdHrLv>
<mdHrLvName Sync="TRUE">dataset</mdHrLvName>
<refSysInfo>
<RefSystem dimension="">
<refSysID>
<identCode Sync="TRUE" code="4326"/>
<idCodeSpace Sync="TRUE">EPSG</idCodeSpace>
<idVersion Sync="TRUE">6.14(3.0.1)</idVersion>
</refSysID>
</RefSystem>
</refSysInfo>
<spdoinfo>
<rastinfo>
<rasttype Sync="TRUE">Pixel</rasttype>
<rowcount Sync="TRUE">21573</rowcount>
<colcount Sync="TRUE">43200</colcount>
<rastxsz Sync="TRUE">0.008333</rastxsz>
<rastysz Sync="TRUE">0.008333</rastysz>
<rastbpp Sync="TRUE">4</rastbpp>
<vrtcount Sync="TRUE">1</vrtcount>
<rastorig Sync="TRUE">Upper Left</rastorig>
<rastcmap Sync="TRUE">FALSE</rastcmap>
<rastcomp Sync="TRUE">LZ77</rastcomp>
<rastband Sync="TRUE">1</rastband>
<rastdtyp Sync="TRUE">pixel codes</rastdtyp>
<rastifor Sync="TRUE">SDR</rastifor>
<rastplyr Sync="TRUE">TRUE</rastplyr>
</rastinfo>
</spdoinfo>
<spref>
<horizsys>
<planar>
<planci>
<plance Sync="TRUE">row and column</plance>
<coordrep>
<absres Sync="TRUE">0.008333</absres>
<ordres Sync="TRUE">0.008333</ordres>
</coordrep>
</planci>
</planar>
</horizsys>
</spref>
<eainfo>
<detailed Name="arcgis_geodatabase.sde.SDE_VAT_35">
<enttyp>
<enttypl Sync="FALSE">Natural Modified Habitat Screening Layer</enttypl>
<enttypt Sync="TRUE">Table</enttypt>
<enttypc Sync="TRUE">4</enttypc>
</enttyp>
<attr>
<attrlabl Sync="TRUE">objectid</attrlabl>
<attalias Sync="TRUE">objectid</attalias>
<attrtype Sync="TRUE">OID</attrtype>
<attwidth Sync="TRUE">4</attwidth>
<atprecis Sync="TRUE">10</atprecis>
<attscale Sync="TRUE">0</attscale>
<attrdef Sync="TRUE">Internal feature number.</attrdef>
<attrdefs Sync="TRUE">Esri</attrdefs>
<attrdomv>
<udom Sync="TRUE">Sequential unique whole numbers that are automatically generated.</udom>
</attrdomv>
</attr>
<attr>
<attrlabl Sync="TRUE">value</attrlabl>
<attalias Sync="TRUE">value</attalias>
<attrtype Sync="TRUE">Integer</attrtype>
<attwidth Sync="TRUE">4</attwidth>
<atprecis Sync="TRUE">10</atprecis>
<attscale Sync="TRUE">0</attscale>
<attrdef>1 = likely Modified
2 = potential Modified
3 = potential Natural
4 = likely Natural</attrdef>
</attr>
<attr>
<attrlabl Sync="TRUE">count</attrlabl>
<attalias Sync="TRUE">count</attalias>
<attrtype Sync="TRUE">Double</attrtype>
<attwidth Sync="TRUE">8</attwidth>
<atprecis Sync="TRUE">38</atprecis>
<attscale Sync="TRUE">0</attscale>
</attr>
</detailed>
</eainfo>
<mdDateSt Sync="TRUE">20200601</mdDateSt>
<mdConst>
<Consts>
<useLimit>&lt;DIV STYLE="text-align:Left;"&gt;&lt;DIV&gt;&lt;DIV&gt;&lt;P STYLE="margin:0 0 0 0;"&gt;&lt;SPAN&gt;&lt;SPAN&gt;CC BY 4.0&lt;/SPAN&gt;&lt;/SPAN&gt;&lt;/P&gt;&lt;/DIV&gt;&lt;/DIV&gt;&lt;/DIV&gt;</useLimit>
</Consts>
</mdConst>
<mdConst>
<LegConsts>
<accessConsts>
<RestrictCd value="005"/>
</accessConsts>
<useConsts>
<RestrictCd value="005"/>
</useConsts>
</LegConsts>
</mdConst>
<mdContact>
<rpIndName>Data Manager</rpIndName>
<rpOrgName>UNEP-WCMC</rpOrgName>
<rpPosName>Data Manager</rpPosName>
<role>
<RoleCd value="007"/>
</role>
<rpCntInfo>
<cntAddress addressType="">
<eMailAdd>spatialanalysis@unep-wcmc.org</eMailAdd>
</cntAddress>
</rpCntInfo>
</mdContact>
<mdChar>
<CharSetCd value="004"/>
</mdChar>
<mdMaint>
<maintFreq>
<MaintFreqCd value="010"/>
</maintFreq>
</mdMaint>
<dqInfo>
<dqScope>
<scpLvl>
<ScopeCd value="005"/>
</scpLvl>
</dqScope>
</dqInfo>
</metadata>
