<?xml version="1.0" encoding="UTF-8" standalone="no"?>
<metadata xml:lang="en">
<Esri>
<CreaDate>20190621</CreaDate>
<CreaTime>09372000</CreaTime>
<ArcGISFormat>1.0</ArcGISFormat>
<SyncOnce>FALSE</SyncOnce>
<DataProperties>
<lineage>
<Process Date="20190621" Time="093720" ToolSource="c:\program files\arcgis\pro\Resources\ArcToolbox\toolboxes\Data Management Tools.tbx\MosaicToNewRaster">MosaicToNewRaster C:\Users\osgurm\Downloads\Raster_Tiles\40_0.tif;C:\Users\osgurm\Downloads\Raster_Tiles\0_0.tif;C:\Users\osgurm\Downloads\Raster_Tiles\0_20.tif;C:\Users\osgurm\Downloads\Raster_Tiles\0_40.tif;C:\Users\osgurm\Downloads\Raster_Tiles\0_60.tif;C:\Users\osgurm\Downloads\Raster_Tiles\0_-20.tif;C:\Users\osgurm\Downloads\Raster_Tiles\0_-40.tif;C:\Users\osgurm\Downloads\Raster_Tiles\20_0.tif;C:\Users\osgurm\Downloads\Raster_Tiles\20_20.tif;C:\Users\osgurm\Downloads\Raster_Tiles\20_40.tif;C:\Users\osgurm\Downloads\Raster_Tiles\20_60.tif;C:\Users\osgurm\Downloads\Raster_Tiles\20_-20.tif;C:\Users\osgurm\Downloads\Raster_Tiles\20_-40.tif;C:\Users\osgurm\Downloads\Raster_Tiles\40_20.tif;C:\Users\osgurm\Downloads\Raster_Tiles\40_40.tif;C:\Users\osgurm\Downloads\Raster_Tiles\40_60.tif;C:\Users\osgurm\Downloads\Raster_Tiles\40_-20.tif;C:\Users\osgurm\Downloads\Raster_Tiles\40_-40.tif;C:\Users\osgurm\Downloads\Raster_Tiles\60_0.tif;C:\Users\osgurm\Downloads\Raster_Tiles\60_20.tif;C:\Users\osgurm\Downloads\Raster_Tiles\60_40.tif;C:\Users\osgurm\Downloads\Raster_Tiles\60_60.tif;C:\Users\osgurm\Downloads\Raster_Tiles\60_-20.tif;C:\Users\osgurm\Downloads\Raster_Tiles\60_-40.tif;C:\Users\osgurm\Downloads\Raster_Tiles\80_0.tif;C:\Users\osgurm\Downloads\Raster_Tiles\80_20.tif;C:\Users\osgurm\Downloads\Raster_Tiles\80_40.tif;C:\Users\osgurm\Downloads\Raster_Tiles\80_60.tif;C:\Users\osgurm\Downloads\Raster_Tiles\80_-20.tif;C:\Users\osgurm\Downloads\Raster_Tiles\80_-40.tif;C:\Users\osgurm\Downloads\Raster_Tiles\100_0.tif;C:\Users\osgurm\Downloads\Raster_Tiles\100_20.tif;C:\Users\osgurm\Downloads\Raster_Tiles\100_40.tif;C:\Users\osgurm\Downloads\Raster_Tiles\100_60.tif;C:\Users\osgurm\Downloads\Raster_Tiles\100_-20.tif;C:\Users\osgurm\Downloads\Raster_Tiles\100_-40.tif;C:\Users\osgurm\Downloads\Raster_Tiles\120_0.tif;C:\Users\osgurm\Downloads\Raster_Tiles\120_20.tif;C:\Users\osgurm\Downloads\Raster_Tiles\120_40.tif;C:\Users\osgurm\Downloads\Raster_Tiles\120_60.tif;C:\Users\osgurm\Downloads\Raster_Tiles\120_-20.tif;C:\Users\osgurm\Downloads\Raster_Tiles\120_-40.tif;C:\Users\osgurm\Downloads\Raster_Tiles\140_0.tif;C:\Users\osgurm\Downloads\Raster_Tiles\140_20.tif;C:\Users\osgurm\Downloads\Raster_Tiles\140_40.tif;C:\Users\osgurm\Downloads\Raster_Tiles\140_60.tif;C:\Users\osgurm\Downloads\Raster_Tiles\140_-20.tif;C:\Users\osgurm\Downloads\Raster_Tiles\140_-40.tif;C:\Users\osgurm\Downloads\Raster_Tiles\160_0.tif;C:\Users\osgurm\Downloads\Raster_Tiles\160_20.tif;C:\Users\osgurm\Downloads\Raster_Tiles\160_40.tif;C:\Users\osgurm\Downloads\Raster_Tiles\160_60.tif;C:\Users\osgurm\Downloads\Raster_Tiles\160_-20.tif;C:\Users\osgurm\Downloads\Raster_Tiles\160_-40.tif;C:\Users\osgurm\Downloads\Raster_Tiles\-20_0.tif;C:\Users\osgurm\Downloads\Raster_Tiles\-20_20.tif;C:\Users\osgurm\Downloads\Raster_Tiles\-20_40.tif;C:\Users\osgurm\Downloads\Raster_Tiles\-20_60.tif;C:\Users\osgurm\Downloads\Raster_Tiles\-20_-20.tif;C:\Users\osgurm\Downloads\Raster_Tiles\-20_-40.tif;C:\Users\osgurm\Downloads\Raster_Tiles\-40_0.tif;C:\Users\osgurm\Downloads\Raster_Tiles\-40_20.tif;C:\Users\osgurm\Downloads\Raster_Tiles\-40_40.tif;C:\Users\osgurm\Downloads\Raster_Tiles\-40_60.tif;C:\Users\osgurm\Downloads\Raster_Tiles\-40_-20.tif;C:\Users\osgurm\Downloads\Raster_Tiles\-40_-40.tif;C:\Users\osgurm\Downloads\Raster_Tiles\-60_0.tif;C:\Users\osgurm\Downloads\Raster_Tiles\-60_20.tif;C:\Users\osgurm\Downloads\Raster_Tiles\-60_40.tif;C:\Users\osgurm\Downloads\Raster_Tiles\-60_60.tif;C:\Users\osgurm\Downloads\Raster_Tiles\-60_-20.tif;C:\Users\osgurm\Downloads\Raster_Tiles\-60_-40.tif;C:\Users\osgurm\Downloads\Raster_Tiles\-80_0.tif;C:\Users\osgurm\Downloads\Raster_Tiles\-80_20.tif;C:\Users\osgurm\Downloads\Raster_Tiles\-80_40.tif;C:\Users\osgurm\Downloads\Raster_Tiles\-80_60.tif;C:\Users\osgurm\Downloads\Raster_Tiles\-80_-20.tif;C:\Users\osgurm\Downloads\Raster_Tiles\-80_-40.tif;C:\Users\osgurm\Downloads\Raster_Tiles\-100_0.tif;C:\Users\osgurm\Downloads\Raster_Tiles\-100_20.tif;C:\Users\osgurm\Downloads\Raster_Tiles\-100_40.tif;C:\Users\osgurm\Downloads\Raster_Tiles\-100_60.tif;C:\Users\osgurm\Downloads\Raster_Tiles\-100_-20.tif;C:\Users\osgurm\Downloads\Raster_Tiles\-100_-40.tif;C:\Users\osgurm\Downloads\Raster_Tiles\-120_0.tif;C:\Users\osgurm\Downloads\Raster_Tiles\-120_20.tif;C:\Users\osgurm\Downloads\Raster_Tiles\-120_40.tif;C:\Users\osgurm\Downloads\Raster_Tiles\-120_60.tif;C:\Users\osgurm\Downloads\Raster_Tiles\-120_-20.tif;C:\Users\osgurm\Downloads\Raster_Tiles\-120_-40.tif;C:\Users\osgurm\Downloads\Raster_Tiles\-140_0.tif;C:\Users\osgurm\Downloads\Raster_Tiles\-140_20.tif;C:\Users\osgurm\Downloads\Raster_Tiles\-140_40.tif;C:\Users\osgurm\Downloads\Raster_Tiles\-140_60.tif;C:\Users\osgurm\Downloads\Raster_Tiles\-140_-20.tif;C:\Users\osgurm\Downloads\Raster_Tiles\-140_-40.tif;C:\Users\osgurm\Downloads\Raster_Tiles\-160_0.tif;C:\Users\osgurm\Downloads\Raster_Tiles\-160_20.tif;C:\Users\osgurm\Downloads\Raster_Tiles\-160_40.tif;C:\Users\osgurm\Downloads\Raster_Tiles\-160_60.tif;C:\Users\osgurm\Downloads\Raster_Tiles\-160_-20.tif;C:\Users\osgurm\Downloads\Raster_Tiles\-160_-40.tif;C:\Users\osgurm\Downloads\Raster_Tiles\-180_0.tif;C:\Users\osgurm\Downloads\Raster_Tiles\-180_20.tif;C:\Users\osgurm\Downloads\Raster_Tiles\-180_40.tif;C:\Users\osgurm\Downloads\Raster_Tiles\-180_60.tif;C:\Users\osgurm\Downloads\Raster_Tiles\-180_-20.tif;C:\Users\osgurm\Downloads\Raster_Tiles\-180_-40.tif C:\Users\osgurm\Documents\ArcGIS\Projects\Data_Mgmt\wcmc_geodatabase.sde Mur001_IntertidalMarsh PROJCS['WGS_1984_Web_Mercator_Auxiliary_Sphere',GEOGCS['GCS_WGS_1984',DATUM['D_WGS_1984',SPHEROID['WGS_1984',6378137.0,298.257223563]],PRIMEM['Greenwich',0.0],UNIT['Degree',0.0174532925199433]],PROJECTION['Mercator_Auxiliary_Sphere'],PARAMETER['False_Easting',0.0],PARAMETER['False_Northing',0.0],PARAMETER['Central_Meridian',0.0],PARAMETER['Standard_Parallel_1',0.0],PARAMETER['Auxiliary_Sphere_Type',0.0],UNIT['Meter',1.0]] "8 bit unsigned" # 1 Last First</Process>
</lineage>
<itemProps>
<itemName Sync="TRUE">arcgis_geodatabase.sde.Mur001_IntertidalMarsh</itemName>
<nativeExtBox>
<westBL Sync="TRUE">-20037510.000000</westBL>
<eastBL Sync="TRUE">20037510.000000</eastBL>
<southBL Sync="TRUE">-8399737.153082</southBL>
<northBL Sync="TRUE">8399737.153082</northBL>
<exTypeCode Sync="TRUE">1</exTypeCode>
</nativeExtBox>
<itemLocation>
<linkage Sync="TRUE">Server=10.2.1.241; Service=sde:postgresql:10.2.1.241; Database=arcgis_geodatabase; User=sde; Version=sde.DEFAULT</linkage>
<protocol Sync="TRUE">ArcSDE Connection</protocol>
</itemLocation>
<imsContentType Sync="TRUE">002</imsContentType>
</itemProps>
<coordRef>
<type Sync="TRUE">Projected</type>
<geogcsn Sync="TRUE">GCS_WGS_1984</geogcsn>
<csUnits Sync="TRUE">Linear Unit: Meter (1.000000)</csUnits>
<projcsn Sync="TRUE">WGS_1984_Web_Mercator_Auxiliary_Sphere</projcsn>
<peXml Sync="TRUE">&lt;ProjectedCoordinateSystem xsi:type='typens:ProjectedCoordinateSystem' xmlns:xsi='http://www.w3.org/2001/XMLSchema-instance' xmlns:xs='http://www.w3.org/2001/XMLSchema' xmlns:typens='http://www.esri.com/schemas/ArcGIS/2.4.0'&gt;&lt;WKT&gt;PROJCS[&amp;quot;WGS_1984_Web_Mercator_Auxiliary_Sphere&amp;quot;,GEOGCS[&amp;quot;GCS_WGS_1984&amp;quot;,DATUM[&amp;quot;D_WGS_1984&amp;quot;,SPHEROID[&amp;quot;WGS_1984&amp;quot;,6378137.0,298.257223563]],PRIMEM[&amp;quot;Greenwich&amp;quot;,0.0],UNIT[&amp;quot;Degree&amp;quot;,0.0174532925199433]],PROJECTION[&amp;quot;Mercator_Auxiliary_Sphere&amp;quot;],PARAMETER[&amp;quot;False_Easting&amp;quot;,0.0],PARAMETER[&amp;quot;False_Northing&amp;quot;,0.0],PARAMETER[&amp;quot;Central_Meridian&amp;quot;,0.0],PARAMETER[&amp;quot;Standard_Parallel_1&amp;quot;,0.0],PARAMETER[&amp;quot;Auxiliary_Sphere_Type&amp;quot;,0.0],UNIT[&amp;quot;Meter&amp;quot;,1.0],AUTHORITY[&amp;quot;EPSG&amp;quot;,3857]]&lt;/WKT&gt;&lt;XOrigin&gt;-20037700&lt;/XOrigin&gt;&lt;YOrigin&gt;-30241100&lt;/YOrigin&gt;&lt;XYScale&gt;148923141.92838538&lt;/XYScale&gt;&lt;ZOrigin&gt;-100000&lt;/ZOrigin&gt;&lt;ZScale&gt;10000&lt;/ZScale&gt;&lt;MOrigin&gt;-100000&lt;/MOrigin&gt;&lt;MScale&gt;10000&lt;/MScale&gt;&lt;XYTolerance&gt;0.001&lt;/XYTolerance&gt;&lt;ZTolerance&gt;0.00020000000000000001&lt;/ZTolerance&gt;&lt;MTolerance&gt;0.00020000000000000001&lt;/MTolerance&gt;&lt;HighPrecision&gt;true&lt;/HighPrecision&gt;&lt;WKID&gt;102100&lt;/WKID&gt;&lt;LatestWKID&gt;3857&lt;/LatestWKID&gt;&lt;/ProjectedCoordinateSystem&gt;</peXml>
</coordRef>
</DataProperties>
<SyncDate>20210728</SyncDate>
<SyncTime>13390900</SyncTime>
<ModDate>20210728</ModDate>
<ModTime>13390900</ModTime>
</Esri>
<eainfo>
<detailed Name="arcgis_geodatabase.sde.SDE_VAT_5">
<enttyp>
<enttypl Sync="TRUE">arcgis_geodatabase.sde.SDE_VAT_5</enttypl>
<enttypt Sync="TRUE">Table</enttypt>
<enttypc Sync="TRUE">63</enttypc>
</enttyp>
<attr>
<attrlabl Sync="TRUE">objectid</attrlabl>
<attalias Sync="TRUE">objectid</attalias>
<attrtype Sync="TRUE">OID</attrtype>
<attwidth Sync="TRUE">4</attwidth>
<atprecis Sync="TRUE">10</atprecis>
<attscale Sync="TRUE">0</attscale>
<attrdef Sync="TRUE">Internal feature number.</attrdef>
<attrdefs Sync="TRUE">Esri</attrdefs>
<attrdomv>
<udom Sync="TRUE">Sequential unique whole numbers that are automatically generated.</udom>
</attrdomv>
</attr>
<attr>
<attrlabl Sync="TRUE">value</attrlabl>
<attalias Sync="TRUE">value</attalias>
<attrtype Sync="TRUE">Integer</attrtype>
<attwidth Sync="TRUE">4</attwidth>
<atprecis Sync="TRUE">10</atprecis>
<attscale Sync="TRUE">0</attscale>
</attr>
<attr>
<attrlabl Sync="TRUE">count</attrlabl>
<attalias Sync="TRUE">count</attalias>
<attrtype Sync="TRUE">Double</attrtype>
<attwidth Sync="TRUE">8</attwidth>
<atprecis Sync="TRUE">38</atprecis>
<attscale Sync="TRUE">0</attscale>
</attr>
</detailed>
</eainfo>
<mdFileID>1585051401572r7573341751958822</mdFileID>
<mdLang>
<languageCode value="eng"/>
<countryCode Sync="TRUE" value="GBR"/>
</mdLang>
<mdChar>
<CharSetCd value="004"/>
</mdChar>
<mdHrLv>
<ScopeCd value="005"/>
</mdHrLv>
<mdContact>
<rpOrgName>UNEP-WCMC</rpOrgName>
<role>
<RoleCd value="007"/>
</role>
<rpCntInfo>
<cntAddress>
<eMailAdd>spatial-analysis@unep-wcmc.org</eMailAdd>
</cntAddress>
</rpCntInfo>
</mdContact>
<mdDateSt>2020-03-24</mdDateSt>
<distInfo>
<distTranOps>
<onLineSrc>
<linkage>https://data.unep-wcmc.org/datasets/47</linkage>
<orFunct>
<OnFunctCd value="001"/>
</orFunct>
</onLineSrc>
</distTranOps>
<distFormat>
<formatName Sync="TRUE">Enterprise Geodatabase Raster Dataset</formatName>
</distFormat>
</distInfo>
<dataIdInfo>
<idCitation>
<resTitle>Mur001_IntertidalMarsh</resTitle>
<date>
<pubDate>2019</pubDate>
</date>
<citOnlineRes>
<linkage>https://data.unep-wcmc.org/datasets/47</linkage>
<orFunct>
<OnFunctCd value="001"/>
</orFunct>
</citOnlineRes>
<citId>
<identCode>http://dx.doi.org/10.1038/s41586-018-0805-8</identCode>
</citId>
<otherCitDet>Murray N. J., Phinn S. R., DeWitt M., Ferrari R., Johnston R., Lyons M. B., Clinton N., Thau D. &amp; Fuller R. A. (2019) The global distribution and trajectory of tidal flats. Nature. 565:222-225. http://dx.doi.org/10.1038/s41586-018-0805-8</otherCitDet>
<citRespParty>
<rpIndName>Nick Murray</rpIndName>
<rpOrgName>James Cook University</rpOrgName>
<rpPosName>Senior Lecturer</rpPosName>
<role>
<RoleCd value="011"/>
</role>
<rpCntInfo>
<cntAddress>
<eMailAdd>nicholas.murray@jcu.edu.au</eMailAdd>
</cntAddress>
</rpCntInfo>
</citRespParty>
<presForm>
<PresFormCd Sync="TRUE" value="011"/>
</presForm>
</idCitation>
<idAbs>The dataset contains global maps of tidal flat ecosystems produced via a supervised classification of 707,528 Landsat Archive images. Each pixel was classified into tidal flat, permanent water or other with reference to a globally distributed set of training data.
The maps were created to identify the non-vegetated areas of Earth’s coastline that undergo regular tidal inundation. In some areas, these occur as tidal flats up to 24-km wide, such as the tidal mudflats of western Europe and East Asia. Our analysis included 56 predictor layers of which many were Landsat composite metrics designed to identify individual pixels that undergo frequent wetting and drying.</idAbs>
<idPurp>The maps were created to identify the non-vegetated areas of Earth's coastline that undergo regular tidal inundation. In some areas, these occur as tidal flats up to 24- km wide, such as the tidal mudflats of western Europe and East Asia. Our analysis included 56 predictor layers, many of which were Landsat composite metrics designed to identify individual pixels that undergo frequent wetting and drying.</idPurp>
<suppInfo>The image collection consists consists of a time-series of 11 global maps of tidal flats at 30m pixel resolution for set time-periods (1984−1986; 1987−1989;
1990−1992; 1993−1995; 1996−1998; 1999−2001; 2002−2004; 2005−2007; 2008−2010; 2011−2013; 2014−2016). The 2014-2016 global extent can be downloaded through the Ocean Data Viewer but for previous time- periods please see https://www.intertidal.app/download/direct-download.
This product depicts tidal flat ecosystems around the global coastline.</suppInfo>
<idCredit>Nick Murray</idCredit>
<dataLang>
<languageCode value="eng"/>
<countryCode Sync="TRUE" value="GBR"/>
</dataLang>
<dataChar>
<CharSetCd value="004"/>
</dataChar>
<idStatus>
<ProgCd value="001"/>
</idStatus>
<spatRpType>
<SpatRepTypCd value="002"/>
</spatRpType>
<dataScale>
<scaleDist>
<value uom="m">30</value>
</scaleDist>
</dataScale>
<tpCat>
<TopicCatCd value="002"/>
</tpCat>
<tpCat>
<TopicCatCd value="007"/>
</tpCat>
<tpCat>
<TopicCatCd value="014"/>
</tpCat>
<searchKeys>
<keyword>Intertidal Marsh</keyword>
<keyword>UNEP-WCMC</keyword>
<keyword>Ocean+ Habitats</keyword>
<keyword>landsat derived</keyword>
<keyword>uq</keyword>
<keyword>murray</keyword>
<keyword>tidal flats</keyword>
<keyword>intertidal</keyword>
<keyword>coastal</keyword>
</searchKeys>
<placeKeys>
<keyword>Global</keyword>
</placeKeys>
<dataExt>
<geoEle>
<GeoBndBox>
<westBL>-179.999995508415</westBL>
<eastBL>179.999995508415</eastBL>
<southBL>-59.9999966908927</southBL>
<northBL>59.9999966908927</northBL>
</GeoBndBox>
</geoEle>
</dataExt>
<resMaint>
<maintFreq>
<MaintFreqCd value="008"/>
</maintFreq>
</resMaint>
<resConst>
<LegConsts>
<accessConsts>
<RestrictCd value="005"/>
</accessConsts>
<useConsts>
<RestrictCd value="005"/>
</useConsts>
</LegConsts>
</resConst>
<resConst>
<Consts>
<useLimit>&lt;a href='http://creativecommons.org/licenses/by/4.0/'&gt;&lt;/a&gt;&lt;br /&gt;This work is licensed under a &lt;a href='http://creativecommons.org/licenses/by/4.0/'&gt;Creative Commons Attribution 4.0 International License&lt;/a&gt;.</useLimit>
</Consts>
</resConst>
<envirDesc Sync="TRUE">Microsoft Windows 10 Version 10.0 (Build 19043) ; Esri ArcGIS 12.4.2.19948</envirDesc>
<dataExt>
<geoEle>
<GeoBndBox esriExtentType="search">
<exTypeCode Sync="TRUE">1</exTypeCode>
<westBL Sync="TRUE">-179.999996</westBL>
<eastBL Sync="TRUE">179.999996</eastBL>
<northBL Sync="TRUE">59.999997</northBL>
<southBL Sync="TRUE">-59.999997</southBL>
</GeoBndBox>
</geoEle>
</dataExt>
</dataIdInfo>
<dqInfo>
<dqScope>
<scpLvl>
<ScopeCd value="005"/>
</scpLvl>
</dqScope>
</dqInfo>
<mdHrLvName Sync="TRUE">dataset</mdHrLvName>
<refSysInfo>
<RefSystem>
<refSysID>
<identCode Sync="TRUE" code="3857"/>
<idCodeSpace Sync="TRUE">EPSG</idCodeSpace>
<idVersion Sync="TRUE">8.8(9.3.1.2)</idVersion>
</refSysID>
</RefSystem>
</refSysInfo>
<spdoinfo>
<rastinfo>
<rasttype Sync="TRUE">Pixel</rasttype>
<rowcount Sync="TRUE">548492</rowcount>
<colcount Sync="TRUE">1335834</colcount>
<rastxsz Sync="TRUE">30.000000</rastxsz>
<rastysz Sync="TRUE">30.628476</rastysz>
<rastbpp Sync="TRUE">8</rastbpp>
<vrtcount Sync="TRUE">1</vrtcount>
<rastorig Sync="TRUE">Upper Left</rastorig>
<rastcmap Sync="TRUE">FALSE</rastcmap>
<rastcomp Sync="TRUE">LZ77</rastcomp>
<rastband Sync="TRUE">1</rastband>
<rastdtyp Sync="TRUE">pixel codes</rastdtyp>
<rastifor Sync="TRUE">SDR</rastifor>
<rastplyr Sync="TRUE">TRUE</rastplyr>
</rastinfo>
</spdoinfo>
<spref>
<horizsys>
<planar>
<planci>
<plance Sync="TRUE">row and column</plance>
<coordrep>
<absres Sync="TRUE">30.000000</absres>
<ordres Sync="TRUE">30.628476</ordres>
</coordrep>
</planci>
</planar>
</horizsys>
</spref>
</metadata>
