{ "currentVersion": 10.91, "serviceDescription": "
The International Finance Corporation\u2019s (IFC\u2019s) Performance Standard 6 (PS6) is one of the most influential biodiversity standards of current time, particularly within large-scale infrastructure and the extractive sector.Within PS6, biodiversity significance is articulated through the concept of \u201cCritical Habitat,\u201d a definition developed by the IFC and detailed through criteria aligned with those that support internationally accepted biodiversity designations. Critical Habitat criteria identify habitats of significant importance to threatened, endemic, congregatory and migratory species, threatened or unique ecosystems, and key evolutionary processes. PS6 requires projects to achieve net gains in the biodiversity values for which Critical Habitat is identified.<\/SPAN><\/P><\/DIV><\/DIV><\/DIV>",
"name": "GlobalCH_2023_Drill",
"description": " The International Finance Corporation\u2019s (IFC\u2019s) Performance Standard 6 (PS6) is one of the most influential biodiversity standards of current time, particularly within large-scale infrastructure and the extractive sector.Within PS6, biodiversity significance is articulated through the concept of \u201cCritical Habitat,\u201d a definition developed by the IFC and detailed through criteria aligned with those that support internationally accepted biodiversity designations. Critical Habitat criteria identify habitats of significant importance to threatened, endemic, congregatory and migratory species, threatened or unique ecosystems, and key evolutionary processes. PS6 requires projects to achieve net gains in the biodiversity values for which Critical Habitat is identified.<\/SPAN><\/P><\/DIV><\/DIV><\/DIV>",
"extent": {
"xmin": -180,
"ymin": -90,
"xmax": 180,
"ymax": 90,
"spatialReference": {
"wkid": 4326,
"latestWkid": 4326
}
},
"initialExtent": {
"xmin": -180,
"ymin": -90,
"xmax": 180,
"ymax": 90,
"spatialReference": {
"wkid": 4326,
"latestWkid": 4326
}
},
"fullExtent": {
"xmin": -180,
"ymin": -90,
"xmax": 180,
"ymax": 90,
"spatialReference": {
"wkid": 4326,
"latestWkid": 4326
}
},
"hasMultidimensions": false,
"pixelSizeX": 0.008333333333333333,
"pixelSizeY": 0.008333333333333333,
"datasetFormat": "TIFF",
"uncompressedSize": 1866240000,
"blockWidth": 43200,
"blockHeight": 1,
"compressionType": "LZW",
"bandNames": [
"Critical_Habitat_Drill_Down_WGS"
],
"allowCopy": true,
"allowAnalysis": true,
"bandCount": 1,
"noDataValue": 65535,
"noDataValues": [
65535
],
"pixelType": "U16",
"minPixelSize": 0,
"maxPixelSize": 0,
"copyrightText": "UNEP-WCMC (2023) Global Critical Habitat screening layer (Version 2.0). Cambridge (UK): UN Environment Programme World Conservation Monitoring Centre. Data DOI: XXX.\n\nOther cited reference(s):\nUNEP-WCMC (2017) Global Critical Habitat screening layer (Version 1.0). Cambridge (UK): UN Environment Programme World Conservation Monitoring Centre. Data DOI: https://doi.org/10.34892/nc6d-0z73.",
"serviceDataType": "esriImageServiceDataTypeGeneric",
"serviceSourceType": "esriImageServiceSourceTypeDataset",
"minValues": [
1
],
"maxValues": [
17802
],
"meanValues": [
390.63276882716
],
"stdvValues": [
1637.6843546499
],
"objectIdField": "",
"fields": [],
"capabilities": "Image,Metadata,Pixels,Mensuration",
"defaultMosaicMethod": "Center",
"allowedMosaicMethods": "",
"sortField": "",
"sortValue": null,
"sortAscending": true,
"mosaicOperator": "First",
"defaultCompressionQuality": 75,
"defaultResamplingMethod": "Nearest",
"maxImageHeight": 21600,
"maxImageWidth": 43200,
"allowRasterFunction": true,
"rasterFunctionInfos": [
{
"name": "None",
"description": "",
"help": ""
}
],
"rasterTypeInfos": [
{
"name": "Raster Dataset",
"description": "Supports all ArcGIS Raster Datasets",
"help": ""
}
],
"mensurationCapabilities": "Basic",
"hasHistograms": true,
"hasColormap": false,
"hasRasterAttributeTable": true,
"minScale": 0,
"maxScale": 0,
"exportTilesAllowed": false,
"supportsStatistics": false,
"supportsAdvancedQueries": false,
"editFieldsInfo": null,
"ownershipBasedAccessControlForRasters": null,
"allowComputeTiePoints": false,
"useStandardizedQueries": true,
"advancedQueryCapabilities": {
"useStandardizedQueries": true,
"supportsStatistics": false,
"supportsOrderBy": false,
"supportsDistinct": false,
"supportsPagination": false
},
"spatialReference": {
"wkid": 4326,
"latestWkid": 4326
}
}