View In:
ArcGIS JavaScript
ArcGIS Online Map Viewer
ArcGIS Earth
ArcMap
View Footprint In:
ArcGIS Online Map Viewer
Service Description: The International Finance Corporation’s (IFC’s) Performance Standard 6 (PS6) is one of the most influential biodiversity standards of current time, particularly within large-scale infrastructure and the extractive sector.Within PS6, biodiversity significance is articulated through the concept of “Critical Habitat,” a definition developed by the IFC and detailed through criteria aligned with those that support internationally accepted biodiversity designations. Critical Habitat criteria identify habitats of significant importance to threatened, endemic, congregatory and migratory species, threatened or unique ecosystems, and key evolutionary processes. PS6 requires projects to achieve net gains in the biodiversity values for which Critical Habitat is identified.
Name: GlobalCH_2023_Drill
Description: The International Finance Corporation’s (IFC’s) Performance Standard 6 (PS6) is one of the most influential biodiversity standards of current time, particularly within large-scale infrastructure and the extractive sector.Within PS6, biodiversity significance is articulated through the concept of “Critical Habitat,” a definition developed by the IFC and detailed through criteria aligned with those that support internationally accepted biodiversity designations. Critical Habitat criteria identify habitats of significant importance to threatened, endemic, congregatory and migratory species, threatened or unique ecosystems, and key evolutionary processes. PS6 requires projects to achieve net gains in the biodiversity values for which Critical Habitat is identified.
Single Fused Map Cache: false
Extent:
XMin: -180.0
YMin: -90.0
XMax: 180.0
YMax: 90.0
Spatial Reference: 4326
(4326)
LatestVCSWkid(0)
Initial Extent:
XMin: -180.0
YMin: -90.0
XMax: 180.0
YMax: 90.0
Spatial Reference: 4326
(4326)
LatestVCSWkid(0)
Full Extent:
XMin: -180.0
YMin: -90.0
XMax: 180.0
YMax: 90.0
Spatial Reference: 4326
(4326)
LatestVCSWkid(0)
Pixel Size X: 0.008333333333333333
Pixel Size Y: 0.008333333333333333
Band Count: 1
Pixel Type: U16
RasterFunction Infos: {"rasterFunctionInfos": [{
"name": "None",
"description": "",
"help": ""
}]}
Mensuration Capabilities: Basic
Has Histograms: true
Has Colormap: false
Has Multi Dimensions : false
Rendering Rule:
Min Scale: 0
Max Scale: 0
Copyright Text: UNEP-WCMC (2023) Global Critical Habitat screening layer (Version 2.0). Cambridge (UK): UN Environment Programme World Conservation Monitoring Centre. Data DOI: XXX.
Other cited reference(s):
UNEP-WCMC (2017) Global Critical Habitat screening layer (Version 1.0). Cambridge (UK): UN Environment Programme World Conservation Monitoring Centre. Data DOI: https://doi.org/10.34892/nc6d-0z73.
Service Data Type: esriImageServiceDataTypeGeneric
Min Values: 1
Max Values: 17802
Mean Values: 390.63276882716
Standard Deviation Values: 1637.6843546499
Object ID Field:
Fields:
None
Default Mosaic Method: Center
Allowed Mosaic Methods:
SortField:
SortValue: null
Mosaic Operator: First
Default Compression Quality: 75
Default Resampling Method: Nearest
Max Record Count: null
Max Image Height: 21600
Max Image Width: 43200
Max Download Image Count: null
Max Mosaic Image Count: null
Allow Raster Function: true
Allow Copy: true
Allow Analysis: true
Allow Compute TiePoints: false
Supports Statistics: false
Supports Advanced Queries: false
Use StandardizedQueries: true
Raster Type Infos:
Name: Raster Dataset
Description: Supports all ArcGIS Raster Datasets
Help:
Has Raster Attribute Table: true
Edit Fields Info: null
Ownership Based AccessControl For Rasters: null
Child Resources:
Info
Raster Attribute Table
Histograms
Statistics
Key Properties
Legend
Raster Function Infos
Supported Operations:
Export Image
Identify
Measure
Compute Histograms
Compute Statistics Histograms
Get Samples
Compute Class Statistics
Query Boundary
Compute Pixel Location
Compute Angles
Validate
Project