{
 "extent": {
  "ymin": 1360000,
  "xmin": 2550000,
  "ymax": 5500000,
  "xmax": 7340000,
  "spatialReference": {
   "latestWkid": 3035,
   "wkid": 3035
  }
 },
 "blockWidth": 4790,
 "mosaicOperator": "First",
 "serviceSourceType": "esriImageServiceSourceTypeDataset",
 "hasMultidimensions": false,
 "maxImageWidth": 15000,
 "meanValues": [
  0.44481097687603999
 ],
 "hasColormap": false,
 "compressionType": "DEFLATE",
 "defaultCompressionQuality": 75,
 "maxValues": [
  0.99999994039536
 ],
 "hasHistograms": true,
 "datasetFormat": "TIFF",
 "maxImageHeight": 4100,
 "sortField": "",
 "bandNames": [
  "Band_1"
 ],
 "spatialReference": {
  "latestWkid": 3035,
  "wkid": 3035
 },
 "fullExtent": {
  "ymin": 1360000,
  "xmin": 2550000,
  "ymax": 5500000,
  "xmax": 7340000,
  "spatialReference": {
   "latestWkid": 3035,
   "wkid": 3035
  }
 },
 "bandCount": 1,
 "rasterFunctionInfos": [
  {
   "help": "",
   "name": "None",
   "description": ""
  }
 ],
 "supportsStatistics": false,
 "sortableFields": "",
 "minValues": [
  3.5762786865233999E-7
 ],
 "allowRasterFunction": true,
 "allowComputeTiePoints": false,
 "serviceDataType": "esriImageServiceDataTypeGeneric",
 "supportsAdvancedQueries": false,
 "currentVersion": 12.1,
 "sortValue": null,
 "objectIdField": "",
 "blockHeight": 1,
 "initialExtent": {
  "ymin": 1360000,
  "xmin": 2550000,
  "ymax": 5500000,
  "xmax": 7340000,
  "spatialReference": {
   "latestWkid": 3035,
   "wkid": 3035
  }
 },
 "pixelSizeX": 1000,
 "pixelSizeY": 1000,
 "defaultMosaicMethod": "Center",
 "name": "Encore/EU_EII_1km_2016",
 "allowedMosaicMethods": "",
 "fields": [],
 "allowAnalysis": true,
 "hasRasterAttributeTable": false,
 "useStandardizedQueries": false,
 "description": "",
 "pixelType": "F32",
 "meanPixelSize": 1000,
 "exportTilesAllowed": false,
 "editFieldsInfo": null,
 "rasterTypeInfos": [
  {
   "help": "",
   "name": "Raster Dataset",
   "description": "Supports all ArcGIS Raster Datasets"
  }
 ],
 "defaultResamplingMethod": "Bilinear",
 "itemAccess": false,
 "minScale": 0,
 "serviceProperties": "Center<\/MosaicMethod>First<\/MosaicOperator>true<\/SortAscending><\/LockImageID><\/TileOrderField>0<\/TileOrderBase>0.000000<\/AvgImageSpacingX>0.000000<\/AvgImageSpacingY>0.0<\/ViewPointX>0.0<\/ViewPointY>0.0<\/ViewPointDefShiftX>0.0<\/ViewPointDefShiftY>None<\/CompressionMethod>75<\/CompressionQuality>0.010000<\/CompressionTolerance>Bilinear<\/SamplingMethod><\/ImageServiceProperties><\/ImageServer>",
 "advancedQueryCapabilities": {
  "supportsStatistics": false,
  "supportsSqlExpression": false,
  "supportsOrderBy": false,
  "useStandardizedQueries": false,
  "supportsPagination": false,
  "supportsDistinct": false
 },
 "serviceItemId": "5ce6735c8b2d46a0be05d14253b4fe9d",
 "capabilities": "Image,Metadata,Mensuration",
 "maxScale": 0,
 "stdvValues": [
  0.094059910954376005
 ],
 "allowedFields": "",
 "minPixelSize": 0,
 "noDataValues": [
  -9999
 ],
 "sortAscending": true,
 "inspectionCapabilities": "",
 "maxPixelSize": 0,
 "noDataValue": -9999,
 "allowedCompressions": "None,JPEG,LZ77,LERC",
 "uncompressedSize": 79322400,
 "serviceDescription": "Encore/EU_EII_1km_2016",
 "allowCopy": true,
 "copyrightText": "",
 "mensurationCapabilities": "Basic",
 "ownershipBasedAccessControlForRasters": null
}
